Workbook

Sheet Einstellungen
A1: Urlaubsplaner
A2: Jahr und Bundesland hier einstellen. Alle zwölf Monatsblätter rechnen damit: Datum, Wochentag, Feiertage und Urlaubstage. Namen und Urlaubsanspruch stehen im Blatt „Team“.
A3: Weiß: hier eintragen | C3: Grau: wird berechnet
E4: Kürzel | F4: Bedeutung
A5: Jahr | B5: 2027 | E5: U | F5: Urlaub, ganzer Tag
A6: Bundesland | B6: Hessen | E6: H | F6: halber Urlaubstag
A7: Team / Firma | E7: K | F7: krank
A8: Arbeitstage im Jahr | B8: =COUNTIF('Januar'!$B$6:$AF$6,1)+COUNTIF('Februar'!$B$6:$AF$6,1)+COUNTIF('März'!$B$6:$AF$6,1)+COUNTIF('April'!$B$6:$AF$6,1)+COUNTIF('Mai'!$B$6:$AF$6,1)+COUNTIF('Juni'!$B$6:$AF$6,1)+COUNTIF('Juli'!$B$6:$AF$6,1)+COUNTIF('August'!$B$6:$AF$6,1)+COUNTIF('September'!$B$6:$AF$6,1)+COUNTIF('Oktober'!$B$6:$AF$6,1)+COUNTIF('November'!$B$6:$AF$6,1)+COUNTIF('Dezember'!$B$6:$AF$6,1) | C8: Montag bis Freitag ohne gesetzliche Feiertage | E8: S | F8: Sonderurlaub
E9: ZA | F9: Zeitausgleich
A11: ="Gesetzliche Feiertage "&B5&" in "&B6
A12: Datum | B12: Wochentag | C12: Feiertag
A13: =IFERROR(SMALL(Feiertage!$J$2:$J$200,1),"") | B13: =IF(A13="","",A13) | C13: =IF(A13="","",INDEX(Feiertage!$B$2:$B$200,MATCH(A13,Feiertage!$J$2:$J$200,0)))
A14: =IFERROR(SMALL(Feiertage!$J$2:$J$200,2),"") | B14: =IF(A14="","",A14) | C14: =IF(A14="","",INDEX(Feiertage!$B$2:$B$200,MATCH(A14,Feiertage!$J$2:$J$200,0)))
A15: =IFERROR(SMALL(Feiertage!$J$2:$J$200,3),"") | B15: =IF(A15="","",A15) | C15: =IF(A15="","",INDEX(Feiertage!$B$2:$B$200,MATCH(A15,Feiertage!$J$2:$J$200,0)))
A16: =IFERROR(SMALL(Feiertage!$J$2:$J$200,4),"") | B16: =IF(A16="","",A16) | C16: =IF(A16="","",INDEX(Feiertage!$B$2:$B$200,MATCH(A16,Feiertage!$J$2:$J$200,0)))
A17: =IFERROR(SMALL(Feiertage!$J$2:$J$200,5),"") | B17: =IF(A17="","",A17) | C17: =IF(A17="","",INDEX(Feiertage!$B$2:$B$200,MATCH(A17,Feiertage!$J$2:$J$200,0)))
A18: =IFERROR(SMALL(Feiertage!$J$2:$J$200,6),"") | B18: =IF(A18="","",A18) | C18: =IF(A18="","",INDEX(Feiertage!$B$2:$B$200,MATCH(A18,Feiertage!$J$2:$J$200,0)))
A19: =IFERROR(SMALL(Feiertage!$J$2:$J$200,7),"") | B19: =IF(A19="","",A19) | C19: =IF(A19="","",INDEX(Feiertage!$B$2:$B$200,MATCH(A19,Feiertage!$J$2:$J$200,0)))
A20: =IFERROR(SMALL(Feiertage!$J$2:$J$200,8),"") | B20: =IF(A20="","",A20) | C20: =IF(A20="","",INDEX(Feiertage!$B$2:$B$200,MATCH(A20,Feiertage!$J$2:$J$200,0)))
A21: =IFERROR(SMALL(Feiertage!$J$2:$J$200,9),"") | B21: =IF(A21="","",A21) | C21: =IF(A21="","",INDEX(Feiertage!$B$2:$B$200,MATCH(A21,Feiertage!$J$2:$J$200,0)))
A22: =IFERROR(SMALL(Feiertage!$J$2:$J$200,10),"") | B22: =IF(A22="","",A22) | C22: =IF(A22="","",INDEX(Feiertage!$B$2:$B$200,MATCH(A22,Feiertage!$J$2:$J$200,0)))
A23: =IFERROR(SMALL(Feiertage!$J$2:$J$200,11),"") | B23: =IF(A23="","",A23) | C23: =IF(A23="","",INDEX(Feiertage!$B$2:$B$200,MATCH(A23,Feiertage!$J$2:$J$200,0)))
A24: =IFERROR(SMALL(Feiertage!$J$2:$J$200,12),"") | B24: =IF(A24="","",A24) | C24: =IF(A24="","",INDEX(Feiertage!$B$2:$B$200,MATCH(A24,Feiertage!$J$2:$J$200,0)))
A25: =IFERROR(SMALL(Feiertage!$J$2:$J$200,13),"") | B25: =IF(A25="","",A25) | C25: =IF(A25="","",INDEX(Feiertage!$B$2:$B$200,MATCH(A25,Feiertage!$J$2:$J$200,0)))
A26: =IFERROR(SMALL(Feiertage!$J$2:$J$200,14),"") | B26: =IF(A26="","",A26) | C26: =IF(A26="","",INDEX(Feiertage!$B$2:$B$200,MATCH(A26,Feiertage!$J$2:$J$200,0)))
A27: =IFERROR(SMALL(Feiertage!$J$2:$J$200,15),"") | B27: =IF(A27="","",A27) | C27: =IF(A27="","",INDEX(Feiertage!$B$2:$B$200,MATCH(A27,Feiertage!$J$2:$J$200,0)))
A28: =IFERROR(SMALL(Feiertage!$J$2:$J$200,16),"") | B28: =IF(A28="","",A28) | C28: =IF(A28="","",INDEX(Feiertage!$B$2:$B$200,MATCH(A28,Feiertage!$J$2:$J$200,0)))
A30: Feiertage, die nur in einzelnen Gemeinden gelten, fehlen. Tragen Sie sie bei Bedarf im Blatt „Feiertage“ ein.

Sheet Team
A1: Team und Urlaubskonten
A2: Namen, Jahresanspruch und Übertrag aus dem Vorjahr eintragen. Genommene Tage, Rest und Krankheitstage holt das Blatt aus den zwölf Monaten.
A3: Weiß: hier eintragen | C3: Grau: wird berechnet
A5: Jahr | C5: =Einstellungen!B5 | E5: Bundesland | G5: =Einstellungen!B6
A7: Nr. | B7: Name | C7: Anspruch (Tage) | D7: Übertrag Vorjahr | E7: Gesamt | F7: Genommen | G7: Rest | H7: Übertrag offen nach März | I7: Krank (Tage) | J7: Sonder-urlaub | K7: Zeit-ausgleich | L7: Bemerkung
A8: 1 | E8: =IF(B8="","",N(C8)+N(D8)) | F8: =IF(B8="","",'Januar'!AG7+'Februar'!AG7+'März'!AG7+'April'!AG7+'Mai'!AG7+'Juni'!AG7+'Juli'!AG7+'August'!AG7+'September'!AG7+'Oktober'!AG7+'November'!AG7+'Dezember'!AG7) | G8: =IF(B8="","",E8-F8) | H8: =IF(B8="","",MAX(0,N(D8)-('Januar'!AG7+'Februar'!AG7+'März'!AG7))) | I8: =IF(B8="","",'Januar'!AH7+'Februar'!AH7+'März'!AH7+'April'!AH7+'Mai'!AH7+'Juni'!AH7+'Juli'!AH7+'August'!AH7+'September'!AH7+'Oktober'!AH7+'November'!AH7+'Dezember'!AH7) | J8: =IF(B8="","",'Januar'!AI7+'Februar'!AI7+'März'!AI7+'April'!AI7+'Mai'!AI7+'Juni'!AI7+'Juli'!AI7+'August'!AI7+'September'!AI7+'Oktober'!AI7+'November'!AI7+'Dezember'!AI7) | K8: =IF(B8="","",'Januar'!AJ7+'Februar'!AJ7+'März'!AJ7+'April'!AJ7+'Mai'!AJ7+'Juni'!AJ7+'Juli'!AJ7+'August'!AJ7+'September'!AJ7+'Oktober'!AJ7+'November'!AJ7+'Dezember'!AJ7)
A9: 2 | E9: =IF(B9="","",N(C9)+N(D9)) | F9: =IF(B9="","",'Januar'!AG8+'Februar'!AG8+'März'!AG8+'April'!AG8+'Mai'!AG8+'Juni'!AG8+'Juli'!AG8+'August'!AG8+'September'!AG8+'Oktober'!AG8+'November'!AG8+'Dezember'!AG8) | G9: =IF(B9="","",E9-F9) | H9: =IF(B9="","",MAX(0,N(D9)-('Januar'!AG8+'Februar'!AG8+'März'!AG8))) | I9: =IF(B9="","",'Januar'!AH8+'Februar'!AH8+'März'!AH8+'April'!AH8+'Mai'!AH8+'Juni'!AH8+'Juli'!AH8+'August'!AH8+'September'!AH8+'Oktober'!AH8+'November'!AH8+'Dezember'!AH8) | J9: =IF(B9="","",'Januar'!AI8+'Februar'!AI8+'März'!AI8+'April'!AI8+'Mai'!AI8+'Juni'!AI8+'Juli'!AI8+'August'!AI8+'September'!AI8+'Oktober'!AI8+'November'!AI8+'Dezember'!AI8) | K9: =IF(B9="","",'Januar'!AJ8+'Februar'!AJ8+'März'!AJ8+'April'!AJ8+'Mai'!AJ8+'Juni'!AJ8+'Juli'!AJ8+'August'!AJ8+'September'!AJ8+'Oktober'!AJ8+'November'!AJ8+'Dezember'!AJ8)
A10: 3 | E10: =IF(B10="","",N(C10)+N(D10)) | F10: =IF(B10="","",'Januar'!AG9+'Februar'!AG9+'März'!AG9+'April'!AG9+'Mai'!AG9+'Juni'!AG9+'Juli'!AG9+'August'!AG9+'September'!AG9+'Oktober'!AG9+'November'!AG9+'Dezember'!AG9) | G10: =IF(B10="","",E10-F10) | H10: =IF(B10="","",MAX(0,N(D10)-('Januar'!AG9+'Februar'!AG9+'März'!AG9))) | I10: =IF(B10="","",'Januar'!AH9+'Februar'!AH9+'März'!AH9+'April'!AH9+'Mai'!AH9+'Juni'!AH9+'Juli'!AH9+'August'!AH9+'September'!AH9+'Oktober'!AH9+'November'!AH9+'Dezember'!AH9) | J10: =IF(B10="","",'Januar'!AI9+'Februar'!AI9+'März'!AI9+'April'!AI9+'Mai'!AI9+'Juni'!AI9+'Juli'!AI9+'August'!AI9+'September'!AI9+'Oktober'!AI9+'November'!AI9+'Dezember'!AI9) | K10: =IF(B10="","",'Januar'!AJ9+'Februar'!AJ9+'März'!AJ9+'April'!AJ9+'Mai'!AJ9+'Juni'!AJ9+'Juli'!AJ9+'August'!AJ9+'September'!AJ9+'Oktober'!AJ9+'November'!AJ9+'Dezember'!AJ9)
A11: 4 | E11: =IF(B11="","",N(C11)+N(D11)) | F11: =IF(B11="","",'Januar'!AG10+'Februar'!AG10+'März'!AG10+'April'!AG10+'Mai'!AG10+'Juni'!AG10+'Juli'!AG10+'August'!AG10+'September'!AG10+'Oktober'!AG10+'November'!AG10+'Dezember'!AG10) | G11: =IF(B11="","",E11-F11) | H11: =IF(B11="","",MAX(0,N(D11)-('Januar'!AG10+'Februar'!AG10+'März'!AG10))) | I11: =IF(B11="","",'Januar'!AH10+'Februar'!AH10+'März'!AH10+'April'!AH10+'Mai'!AH10+'Juni'!AH10+'Juli'!AH10+'August'!AH10+'September'!AH10+'Oktober'!AH10+'November'!AH10+'Dezember'!AH10) | J11: =IF(B11="","",'Januar'!AI10+'Februar'!AI10+'März'!AI10+'April'!AI10+'Mai'!AI10+'Juni'!AI10+'Juli'!AI10+'August'!AI10+'September'!AI10+'Oktober'!AI10+'November'!AI10+'Dezember'!AI10) | K11: =IF(B11="","",'Januar'!AJ10+'Februar'!AJ10+'März'!AJ10+'April'!AJ10+'Mai'!AJ10+'Juni'!AJ10+'Juli'!AJ10+'August'!AJ10+'September'!AJ10+'Oktober'!AJ10+'November'!AJ10+'Dezember'!AJ10)
A12: 5 | E12: =IF(B12="","",N(C12)+N(D12)) | F12: =IF(B12="","",'Januar'!AG11+'Februar'!AG11+'März'!AG11+'April'!AG11+'Mai'!AG11+'Juni'!AG11+'Juli'!AG11+'August'!AG11+'September'!AG11+'Oktober'!AG11+'November'!AG11+'Dezember'!AG11) | G12: =IF(B12="","",E12-F12) | H12: =IF(B12="","",MAX(0,N(D12)-('Januar'!AG11+'Februar'!AG11+'März'!AG11))) | I12: =IF(B12="","",'Januar'!AH11+'Februar'!AH11+'März'!AH11+'April'!AH11+'Mai'!AH11+'Juni'!AH11+'Juli'!AH11+'August'!AH11+'September'!AH11+'Oktober'!AH11+'November'!AH11+'Dezember'!AH11) | J12: =IF(B12="","",'Januar'!AI11+'Februar'!AI11+'März'!AI11+'April'!AI11+'Mai'!AI11+'Juni'!AI11+'Juli'!AI11+'August'!AI11+'September'!AI11+'Oktober'!AI11+'November'!AI11+'Dezember'!AI11) | K12: =IF(B12="","",'Januar'!AJ11+'Februar'!AJ11+'März'!AJ11+'April'!AJ11+'Mai'!AJ11+'Juni'!AJ11+'Juli'!AJ11+'August'!AJ11+'September'!AJ11+'Oktober'!AJ11+'November'!AJ11+'Dezember'!AJ11)
A13: 6 | E13: =IF(B13="","",N(C13)+N(D13)) | F13: =IF(B13="","",'Januar'!AG12+'Februar'!AG12+'März'!AG12+'April'!AG12+'Mai'!AG12+'Juni'!AG12+'Juli'!AG12+'August'!AG12+'September'!AG12+'Oktober'!AG12+'November'!AG12+'Dezember'!AG12) | G13: =IF(B13="","",E13-F13) | H13: =IF(B13="","",MAX(0,N(D13)-('Januar'!AG12+'Februar'!AG12+'März'!AG12))) | I13: =IF(B13="","",'Januar'!AH12+'Februar'!AH12+'März'!AH12+'April'!AH12+'Mai'!AH12+'Juni'!AH12+'Juli'!AH12+'August'!AH12+'September'!AH12+'Oktober'!AH12+'November'!AH12+'Dezember'!AH12) | J13: =IF(B13="","",'Januar'!AI12+'Februar'!AI12+'März'!AI12+'April'!AI12+'Mai'!AI12+'Juni'!AI12+'Juli'!AI12+'August'!AI12+'September'!AI12+'Oktober'!AI12+'November'!AI12+'Dezember'!AI12) | K13: =IF(B13="","",'Januar'!AJ12+'Februar'!AJ12+'März'!AJ12+'April'!AJ12+'Mai'!AJ12+'Juni'!AJ12+'Juli'!AJ12+'August'!AJ12+'September'!AJ12+'Oktober'!AJ12+'November'!AJ12+'Dezember'!AJ12)
A14: 7 | E14: =IF(B14="","",N(C14)+N(D14)) | F14: =IF(B14="","",'Januar'!AG13+'Februar'!AG13+'März'!AG13+'April'!AG13+'Mai'!AG13+'Juni'!AG13+'Juli'!AG13+'August'!AG13+'September'!AG13+'Oktober'!AG13+'November'!AG13+'Dezember'!AG13) | G14: =IF(B14="","",E14-F14) | H14: =IF(B14="","",MAX(0,N(D14)-('Januar'!AG13+'Februar'!AG13+'März'!AG13))) | I14: =IF(B14="","",'Januar'!AH13+'Februar'!AH13+'März'!AH13+'April'!AH13+'Mai'!AH13+'Juni'!AH13+'Juli'!AH13+'August'!AH13+'September'!AH13+'Oktober'!AH13+'November'!AH13+'Dezember'!AH13) | J14: =IF(B14="","",'Januar'!AI13+'Februar'!AI13+'März'!AI13+'April'!AI13+'Mai'!AI13+'Juni'!AI13+'Juli'!AI13+'August'!AI13+'September'!AI13+'Oktober'!AI13+'November'!AI13+'Dezember'!AI13) | K14: =IF(B14="","",'Januar'!AJ13+'Februar'!AJ13+'März'!AJ13+'April'!AJ13+'Mai'!AJ13+'Juni'!AJ13+'Juli'!AJ13+'August'!AJ13+'September'!AJ13+'Oktober'!AJ13+'November'!AJ13+'Dezember'!AJ13)
A15: 8 | E15: =IF(B15="","",N(C15)+N(D15)) | F15: =IF(B15="","",'Januar'!AG14+'Februar'!AG14+'März'!AG14+'April'!AG14+'Mai'!AG14+'Juni'!AG14+'Juli'!AG14+'August'!AG14+'September'!AG14+'Oktober'!AG14+'November'!AG14+'Dezember'!AG14) | G15: =IF(B15="","",E15-F15) | H15: =IF(B15="","",MAX(0,N(D15)-('Januar'!AG14+'Februar'!AG14+'März'!AG14))) | I15: =IF(B15="","",'Januar'!AH14+'Februar'!AH14+'März'!AH14+'April'!AH14+'Mai'!AH14+'Juni'!AH14+'Juli'!AH14+'August'!AH14+'September'!AH14+'Oktober'!AH14+'November'!AH14+'Dezember'!AH14) | J15: =IF(B15="","",'Januar'!AI14+'Februar'!AI14+'März'!AI14+'April'!AI14+'Mai'!AI14+'Juni'!AI14+'Juli'!AI14+'August'!AI14+'September'!AI14+'Oktober'!AI14+'November'!AI14+'Dezember'!AI14) | K15: =IF(B15="","",'Januar'!AJ14+'Februar'!AJ14+'März'!AJ14+'April'!AJ14+'Mai'!AJ14+'Juni'!AJ14+'Juli'!AJ14+'August'!AJ14+'September'!AJ14+'Oktober'!AJ14+'November'!AJ14+'Dezember'!AJ14)
A16: 9 | E16: =IF(B16="","",N(C16)+N(D16)) | F16: =IF(B16="","",'Januar'!AG15+'Februar'!AG15+'März'!AG15+'April'!AG15+'Mai'!AG15+'Juni'!AG15+'Juli'!AG15+'August'!AG15+'September'!AG15+'Oktober'!AG15+'November'!AG15+'Dezember'!AG15) | G16: =IF(B16="","",E16-F16) | H16: =IF(B16="","",MAX(0,N(D16)-('Januar'!AG15+'Februar'!AG15+'März'!AG15))) | I16: =IF(B16="","",'Januar'!AH15+'Februar'!AH15+'März'!AH15+'April'!AH15+'Mai'!AH15+'Juni'!AH15+'Juli'!AH15+'August'!AH15+'September'!AH15+'Oktober'!AH15+'November'!AH15+'Dezember'!AH15) | J16: =IF(B16="","",'Januar'!AI15+'Februar'!AI15+'März'!AI15+'April'!AI15+'Mai'!AI15+'Juni'!AI15+'Juli'!AI15+'August'!AI15+'September'!AI15+'Oktober'!AI15+'November'!AI15+'Dezember'!AI15) | K16: =IF(B16="","",'Januar'!AJ15+'Februar'!AJ15+'März'!AJ15+'April'!AJ15+'Mai'!AJ15+'Juni'!AJ15+'Juli'!AJ15+'August'!AJ15+'September'!AJ15+'Oktober'!AJ15+'November'!AJ15+'Dezember'!AJ15)
A17: 10 | E17: =IF(B17="","",N(C17)+N(D17)) | F17: =IF(B17="","",'Januar'!AG16+'Februar'!AG16+'März'!AG16+'April'!AG16+'Mai'!AG16+'Juni'!AG16+'Juli'!AG16+'August'!AG16+'September'!AG16+'Oktober'!AG16+'November'!AG16+'Dezember'!AG16) | G17: =IF(B17="","",E17-F17) | H17: =IF(B17="","",MAX(0,N(D17)-('Januar'!AG16+'Februar'!AG16+'März'!AG16))) | I17: =IF(B17="","",'Januar'!AH16+'Februar'!AH16+'März'!AH16+'April'!AH16+'Mai'!AH16+'Juni'!AH16+'Juli'!AH16+'August'!AH16+'September'!AH16+'Oktober'!AH16+'November'!AH16+'Dezember'!AH16) | J17: =IF(B17="","",'Januar'!AI16+'Februar'!AI16+'März'!AI16+'April'!AI16+'Mai'!AI16+'Juni'!AI16+'Juli'!AI16+'August'!AI16+'September'!AI16+'Oktober'!AI16+'November'!AI16+'Dezember'!AI16) | K17: =IF(B17="","",'Januar'!AJ16+'Februar'!AJ16+'März'!AJ16+'April'!AJ16+'Mai'!AJ16+'Juni'!AJ16+'Juli'!AJ16+'August'!AJ16+'September'!AJ16+'Oktober'!AJ16+'November'!AJ16+'Dezember'!AJ16)
A18: 11 | E18: =IF(B18="","",N(C18)+N(D18)) | F18: =IF(B18="","",'Januar'!AG17+'Februar'!AG17+'März'!AG17+'April'!AG17+'Mai'!AG17+'Juni'!AG17+'Juli'!AG17+'August'!AG17+'September'!AG17+'Oktober'!AG17+'November'!AG17+'Dezember'!AG17) | G18: =IF(B18="","",E18-F18) | H18: =IF(B18="","",MAX(0,N(D18)-('Januar'!AG17+'Februar'!AG17+'März'!AG17))) | I18: =IF(B18="","",'Januar'!AH17+'Februar'!AH17+'März'!AH17+'April'!AH17+'Mai'!AH17+'Juni'!AH17+'Juli'!AH17+'August'!AH17+'September'!AH17+'Oktober'!AH17+'November'!AH17+'Dezember'!AH17) | J18: =IF(B18="","",'Januar'!AI17+'Februar'!AI17+'März'!AI17+'April'!AI17+'Mai'!AI17+'Juni'!AI17+'Juli'!AI17+'August'!AI17+'September'!AI17+'Oktober'!AI17+'November'!AI17+'Dezember'!AI17) | K18: =IF(B18="","",'Januar'!AJ17+'Februar'!AJ17+'März'!AJ17+'April'!AJ17+'Mai'!AJ17+'Juni'!AJ17+'Juli'!AJ17+'August'!AJ17+'September'!AJ17+'Oktober'!AJ17+'November'!AJ17+'Dezember'!AJ17)
A19: 12 | E19: =IF(B19="","",N(C19)+N(D19)) | F19: =IF(B19="","",'Januar'!AG18+'Februar'!AG18+'März'!AG18+'April'!AG18+'Mai'!AG18+'Juni'!AG18+'Juli'!AG18+'August'!AG18+'September'!AG18+'Oktober'!AG18+'November'!AG18+'Dezember'!AG18) | G19: =IF(B19="","",E19-F19) | H19: =IF(B19="","",MAX(0,N(D19)-('Januar'!AG18+'Februar'!AG18+'März'!AG18))) | I19: =IF(B19="","",'Januar'!AH18+'Februar'!AH18+'März'!AH18+'April'!AH18+'Mai'!AH18+'Juni'!AH18+'Juli'!AH18+'August'!AH18+'September'!AH18+'Oktober'!AH18+'November'!AH18+'Dezember'!AH18) | J19: =IF(B19="","",'Januar'!AI18+'Februar'!AI18+'März'!AI18+'April'!AI18+'Mai'!AI18+'Juni'!AI18+'Juli'!AI18+'August'!AI18+'September'!AI18+'Oktober'!AI18+'November'!AI18+'Dezember'!AI18) | K19: =IF(B19="","",'Januar'!AJ18+'Februar'!AJ18+'März'!AJ18+'April'!AJ18+'Mai'!AJ18+'Juni'!AJ18+'Juli'!AJ18+'August'!AJ18+'September'!AJ18+'Oktober'!AJ18+'November'!AJ18+'Dezember'!AJ18)
... A32: 25 | E32: =IF(B32="","",N(C32)+N(D32)) | F32: =IF(B32="","",'Januar'!AG31+'Februar'!AG31+'März'!AG31+'April'!AG31+'Mai'!AG31+'Juni'!AG31+'Juli'!AG31+'August'!AG31+'September'!AG31+'Oktober'!AG31+'November'!AG31+'Dezember'!AG31) | G32: =IF(B32="","",E32-F32) | H32: =IF(B32="","",MAX(0,N(D32)-('Januar'!AG31+'Februar'!AG31+'März'!AG31))) | I32: =IF(B32="","",'Januar'!AH31+'Februar'!AH31+'März'!AH31+'April'!AH31+'Mai'!AH31+'Juni'!AH31+'Juli'!AH31+'August'!AH31+'September'!AH31+'Oktober'!AH31+'November'!AH31+'Dezember'!AH31) | J32: =IF(B32="","",'Januar'!AI31+'Februar'!AI31+'März'!AI31+'April'!AI31+'Mai'!AI31+'Juni'!AI31+'Juli'!AI31+'August'!AI31+'September'!AI31+'Oktober'!AI31+'November'!AI31+'Dezember'!AI31) | K32: =IF(B32="","",'Januar'!AJ31+'Februar'!AJ31+'März'!AJ31+'April'!AJ31+'Mai'!AJ31+'Juni'!AJ31+'Juli'!AJ31+'August'!AJ31+'September'!AJ31+'Oktober'!AJ31+'November'!AJ31+'Dezember'!AJ31)
A33: Summe Team | C33: =SUM(C8:C32) | D33: =SUM(D8:D32) | E33: =SUM(E8:E32) | F33: =SUM(F8:F32) | G33: =SUM(G8:G32) | H33: =SUM(H8:H32) | I33: =SUM(I8:I32) | J33: =SUM(J8:J32) | K33: =SUM(K8:K32)

Sheet Januar
A1: =DATE(Einstellungen!$B$5,1,1)
A2: ="Kürzel in die Tageszellen eintragen. Grau: Wochenende oder gesetzlicher Feiertag in "&Einstellungen!$B$6&" (F). Urlaub, Krankheit und Zeitausgleich zählen nur an Arbeitstagen."
A3: Kürzel: | B3: U Urlaub, ganzer Tag | H3: H halber Urlaubstag | N3: K krank | T3: S Sonderurlaub | Z3: ZA Zeitausgleich | AF3: Wochenende / Feiertag
A4: Tag | B4: =DATE(Einstellungen!$B$5,1,1)+0 | C4: =DATE(Einstellungen!$B$5,1,1)+1 | D4: =DATE(Einstellungen!$B$5,1,1)+2 | E4: =DATE(Einstellungen!$B$5,1,1)+3 | F4: =DATE(Einstellungen!$B$5,1,1)+4 | G4: =DATE(Einstellungen!$B$5,1,1)+5 | H4: =DATE(Einstellungen!$B$5,1,1)+6 | I4: =DATE(Einstellungen!$B$5,1,1)+7 | J4: =DATE(Einstellungen!$B$5,1,1)+8 | K4: =DATE(Einstellungen!$B$5,1,1)+9 | L4: =DATE(Einstellungen!$B$5,1,1)+10 | M4: =DATE(Einstellungen!$B$5,1,1)+11 | N4: =DATE(Einstellungen!$B$5,1,1)+12 | O4: =DATE(Einstellungen!$B$5,1,1)+13 | P4: =DATE(Einstellungen!$B$5,1,1)+14 | Q4: =DATE(Einstellungen!$B$5,1,1)+15 | R4: =DATE(Einstellungen!$B$5,1,1)+16 | S4: =DATE(Einstellungen!$B$5,1,1)+17 | T4: =DATE(Einstellungen!$B$5,1,1)+18 | U4: =DATE(Einstellungen!$B$5,1,1)+19 | V4: =DATE(Einstellungen!$B$5,1,1)+20 | W4: =DATE(Einstellungen!$B$5,1,1)+21 | X4: =DATE(Einstellungen!$B$5,1,1)+22 | Y4: =DATE(Einstellungen!$B$5,1,1)+23 | Z4: =DATE(Einstellungen!$B$5,1,1)+24 | AA4: =DATE(Einstellungen!$B$5,1,1)+25 | AB4: =DATE(Einstellungen!$B$5,1,1)+26 | AC4: =DATE(Einstellungen!$B$5,1,1)+27 | AD4: =IF(29<=DAY(EOMONTH(DATE(Einstellungen!$B$5,1,1),0)),DATE(Einstellungen!$B$5,1,1)+28,"") | AE4: =IF(30<=DAY(EOMONTH(DATE(Einstellungen!$B$5,1,1),0)),DATE(Einstellungen!$B$5,1,1)+29,"") | AF4: =IF(31<=DAY(EOMONTH(DATE(Einstellungen!$B$5,1,1),0)),DATE(Einstellungen!$B$5,1,1)+30,"") | AG4: Urlaub | AH4: krank | AI4: Sonder-urlaub | AJ4: Zeit-ausgl.
A5: Wochentag | B5: =IF(B4="","",B4) | C5: =IF(C4="","",C4) | D5: =IF(D4="","",D4) | E5: =IF(E4="","",E4) | F5: =IF(F4="","",F4) | G5: =IF(G4="","",G4) | H5: =IF(H4="","",H4) | I5: =IF(I4="","",I4) | ... AF5: =IF(AF4="","",AF4)
A6: Name | B6: =IF(B4="",0,IF(COUNTIF(Feiertage!$H$2:$H$200,B4)>0,-1,IF(WEEKDAY(B4,2)>5,0,1))) | C6: =IF(C4="",0,IF(COUNTIF(Feiertage!$H$2:$H$200,C4)>0,-1,IF(WEEKDAY(C4,2)>5,0,1))) | D6: =IF(D4="",0,IF(COUNTIF(Feiertage!$H$2:$H$200,D4)>0,-1,IF(WEEKDAY(D4,2)>5,0,1))) | E6: =IF(E4="",0,IF(COUNTIF(Feiertage!$H$2:$H$200,E4)>0,-1,IF(WEEKDAY(E4,2)>5,0,1))) | F6: =IF(F4="",0,IF(COUNTIF(Feiertage!$H$2:$H$200,F4)>0,-1,IF(WEEKDAY(F4,2)>5,0,1))) | G6: =IF(G4="",0,IF(COUNTIF(Feiertage!$H$2:$H$200,G4)>0,-1,IF(WEEKDAY(G4,2)>5,0,1))) | H6: =IF(H4="",0,IF(COUNTIF(Feiertage!$H$2:$H$200,H4)>0,-1,IF(WEEKDAY(H4,2)>5,0,1))) | I6: =IF(I4="",0,IF(COUNTIF(Feiertage!$H$2:$H$200,I4)>0,-1,IF(WEEKDAY(I4,2)>5,0,1))) | ... AF6: =IF(AF4="",0,IF(COUNTIF(Feiertage!$H$2:$H$200,AF4)>0,-1,IF(WEEKDAY(AF4,2)>5,0,1)))
A7: =IF(Team!$B$8="","",Team!$B$8) | AG7: =SUMPRODUCT((B7:AF7="U")*($B$6:$AF$6=1))+0.5*SUMPRODUCT((B7:AF7="H")*($B$6:$AF$6=1)) | AH7: =SUMPRODUCT((B7:AF7="K")*($B$6:$AF$6=1)) | AI7: =SUMPRODUCT((B7:AF7="S")*($B$6:$AF$6=1)) | AJ7: =SUMPRODUCT((B7:AF7="ZA")*($B$6:$AF$6=1))
A8: =IF(Team!$B$9="","",Team!$B$9) | AG8: =SUMPRODUCT((B8:AF8="U")*($B$6:$AF$6=1))+0.5*SUMPRODUCT((B8:AF8="H")*($B$6:$AF$6=1)) | AH8: =SUMPRODUCT((B8:AF8="K")*($B$6:$AF$6=1)) | AI8: =SUMPRODUCT((B8:AF8="S")*($B$6:$AF$6=1)) | AJ8: =SUMPRODUCT((B8:AF8="ZA")*($B$6:$AF$6=1))
A9: =IF(Team!$B$10="","",Team!$B$10) | AG9: =SUMPRODUCT((B9:AF9="U")*($B$6:$AF$6=1))+0.5*SUMPRODUCT((B9:AF9="H")*($B$6:$AF$6=1)) | AH9: =SUMPRODUCT((B9:AF9="K")*($B$6:$AF$6=1)) | AI9: =SUMPRODUCT((B9:AF9="S")*($B$6:$AF$6=1)) | AJ9: =SUMPRODUCT((B9:AF9="ZA")*($B$6:$AF$6=1))
A10: =IF(Team!$B$11="","",Team!$B$11) | AG10: =SUMPRODUCT((B10:AF10="U")*($B$6:$AF$6=1))+0.5*SUMPRODUCT((B10:AF10="H")*($B$6:$AF$6=1)) | AH10: =SUMPRODUCT((B10:AF10="K")*($B$6:$AF$6=1)) | AI10: =SUMPRODUCT((B10:AF10="S")*($B$6:$AF$6=1)) | AJ10: =SUMPRODUCT((B10:AF10="ZA")*($B$6:$AF$6=1))
A11: =IF(Team!$B$12="","",Team!$B$12) | AG11: =SUMPRODUCT((B11:AF11="U")*($B$6:$AF$6=1))+0.5*SUMPRODUCT((B11:AF11="H")*($B$6:$AF$6=1)) | AH11: =SUMPRODUCT((B11:AF11="K")*($B$6:$AF$6=1)) | AI11: =SUMPRODUCT((B11:AF11="S")*($B$6:$AF$6=1)) | AJ11: =SUMPRODUCT((B11:AF11="ZA")*($B$6:$AF$6=1))
A12: =IF(Team!$B$13="","",Team!$B$13) | AG12: =SUMPRODUCT((B12:AF12="U")*($B$6:$AF$6=1))+0.5*SUMPRODUCT((B12:AF12="H")*($B$6:$AF$6=1)) | AH12: =SUMPRODUCT((B12:AF12="K")*($B$6:$AF$6=1)) | AI12: =SUMPRODUCT((B12:AF12="S")*($B$6:$AF$6=1)) | AJ12: =SUMPRODUCT((B12:AF12="ZA")*($B$6:$AF$6=1))
A13: =IF(Team!$B$14="","",Team!$B$14) | AG13: =SUMPRODUCT((B13:AF13="U")*($B$6:$AF$6=1))+0.5*SUMPRODUCT((B13:AF13="H")*($B$6:$AF$6=1)) | AH13: =SUMPRODUCT((B13:AF13="K")*($B$6:$AF$6=1)) | AI13: =SUMPRODUCT((B13:AF13="S")*($B$6:$AF$6=1)) | AJ13: =SUMPRODUCT((B13:AF13="ZA")*($B$6:$AF$6=1))
A14: =IF(Team!$B$15="","",Team!$B$15) | AG14: =SUMPRODUCT((B14:AF14="U")*($B$6:$AF$6=1))+0.5*SUMPRODUCT((B14:AF14="H")*($B$6:$AF$6=1)) | AH14: =SUMPRODUCT((B14:AF14="K")*($B$6:$AF$6=1)) | AI14: =SUMPRODUCT((B14:AF14="S")*($B$6:$AF$6=1)) | AJ14: =SUMPRODUCT((B14:AF14="ZA")*($B$6:$AF$6=1))
A15: =IF(Team!$B$16="","",Team!$B$16) | AG15: =SUMPRODUCT((B15:AF15="U")*($B$6:$AF$6=1))+0.5*SUMPRODUCT((B15:AF15="H")*($B$6:$AF$6=1)) | AH15: =SUMPRODUCT((B15:AF15="K")*($B$6:$AF$6=1)) | AI15: =SUMPRODUCT((B15:AF15="S")*($B$6:$AF$6=1)) | AJ15: =SUMPRODUCT((B15:AF15="ZA")*($B$6:$AF$6=1))
A16: =IF(Team!$B$17="","",Team!$B$17) | AG16: =SUMPRODUCT((B16:AF16="U")*($B$6:$AF$6=1))+0.5*SUMPRODUCT((B16:AF16="H")*($B$6:$AF$6=1)) | AH16: =SUMPRODUCT((B16:AF16="K")*($B$6:$AF$6=1)) | AI16: =SUMPRODUCT((B16:AF16="S")*($B$6:$AF$6=1)) | AJ16: =SUMPRODUCT((B16:AF16="ZA")*($B$6:$AF$6=1))
A17: =IF(Team!$B$18="","",Team!$B$18) | AG17: =SUMPRODUCT((B17:AF17="U")*($B$6:$AF$6=1))+0.5*SUMPRODUCT((B17:AF17="H")*($B$6:$AF$6=1)) | AH17: =SUMPRODUCT((B17:AF17="K")*($B$6:$AF$6=1)) | AI17: =SUMPRODUCT((B17:AF17="S")*($B$6:$AF$6=1)) | AJ17: =SUMPRODUCT((B17:AF17="ZA")*($B$6:$AF$6=1))
A18: =IF(Team!$B$19="","",Team!$B$19) | AG18: =SUMPRODUCT((B18:AF18="U")*($B$6:$AF$6=1))+0.5*SUMPRODUCT((B18:AF18="H")*($B$6:$AF$6=1)) | AH18: =SUMPRODUCT((B18:AF18="K")*($B$6:$AF$6=1)) | AI18: =SUMPRODUCT((B18:AF18="S")*($B$6:$AF$6=1)) | AJ18: =SUMPRODUCT((B18:AF18="ZA")*($B$6:$AF$6=1))
A19: =IF(Team!$B$20="","",Team!$B$20) | AG19: =SUMPRODUCT((B19:AF19="U")*($B$6:$AF$6=1))+0.5*SUMPRODUCT((B19:AF19="H")*($B$6:$AF$6=1)) | AH19: =SUMPRODUCT((B19:AF19="K")*($B$6:$AF$6=1)) | AI19: =SUMPRODUCT((B19:AF19="S")*($B$6:$AF$6=1)) | AJ19: =SUMPRODUCT((B19:AF19="ZA")*($B$6:$AF$6=1))
A20: =IF(Team!$B$21="","",Team!$B$21) | AG20: =SUMPRODUCT((B20:AF20="U")*($B$6:$AF$6=1))+0.5*SUMPRODUCT((B20:AF20="H")*($B$6:$AF$6=1)) | AH20: =SUMPRODUCT((B20:AF20="K")*($B$6:$AF$6=1)) | AI20: =SUMPRODUCT((B20:AF20="S")*($B$6:$AF$6=1)) | AJ20: =SUMPRODUCT((B20:AF20="ZA")*($B$6:$AF$6=1))
A21: =IF(Team!$B$22="","",Team!$B$22) | AG21: =SUMPRODUCT((B21:AF21="U")*($B$6:$AF$6=1))+0.5*SUMPRODUCT((B21:AF21="H")*($B$6:$AF$6=1)) | AH21: =SUMPRODUCT((B21:AF21="K")*($B$6:$AF$6=1)) | AI21: =SUMPRODUCT((B21:AF21="S")*($B$6:$AF$6=1)) | AJ21: =SUMPRODUCT((B21:AF21="ZA")*($B$6:$AF$6=1))
A22: =IF(Team!$B$23="","",Team!$B$23) | AG22: =SUMPRODUCT((B22:AF22="U")*($B$6:$AF$6=1))+0.5*SUMPRODUCT((B22:AF22="H")*($B$6:$AF$6=1)) | AH22: =SUMPRODUCT((B22:AF22="K")*($B$6:$AF$6=1)) | AI22: =SUMPRODUCT((B22:AF22="S")*($B$6:$AF$6=1)) | AJ22: =SUMPRODUCT((B22:AF22="ZA")*($B$6:$AF$6=1))
A23: =IF(Team!$B$24="","",Team!$B$24) | AG23: =SUMPRODUCT((B23:AF23="U")*($B$6:$AF$6=1))+0.5*SUMPRODUCT((B23:AF23="H")*($B$6:$AF$6=1)) | AH23: =SUMPRODUCT((B23:AF23="K")*($B$6:$AF$6=1)) | AI23: =SUMPRODUCT((B23:AF23="S")*($B$6:$AF$6=1)) | AJ23: =SUMPRODUCT((B23:AF23="ZA")*($B$6:$AF$6=1))
A24: =IF(Team!$B$25="","",Team!$B$25) | AG24: =SUMPRODUCT((B24:AF24="U")*($B$6:$AF$6=1))+0.5*SUMPRODUCT((B24:AF24="H")*($B$6:$AF$6=1)) | AH24: =SUMPRODUCT((B24:AF24="K")*($B$6:$AF$6=1)) | AI24: =SUMPRODUCT((B24:AF24="S")*($B$6:$AF$6=1)) | AJ24: =SUMPRODUCT((B24:AF24="ZA")*($B$6:$AF$6=1))
A25: =IF(Team!$B$26="","",Team!$B$26) | AG25: =SUMPRODUCT((B25:AF25="U")*($B$6:$AF$6=1))+0.5*SUMPRODUCT((B25:AF25="H")*($B$6:$AF$6=1)) | AH25: =SUMPRODUCT((B25:AF25="K")*($B$6:$AF$6=1)) | AI25: =SUMPRODUCT((B25:AF25="S")*($B$6:$AF$6=1)) | AJ25: =SUMPRODUCT((B25:AF25="ZA")*($B$6:$AF$6=1))
A26: =IF(Team!$B$27="","",Team!$B$27) | AG26: =SUMPRODUCT((B26:AF26="U")*($B$6:$AF$6=1))+0.5*SUMPRODUCT((B26:AF26="H")*($B$6:$AF$6=1)) | AH26: =SUMPRODUCT((B26:AF26="K")*($B$6:$AF$6=1)) | AI26: =SUMPRODUCT((B26:AF26="S")*($B$6:$AF$6=1)) | AJ26: =SUMPRODUCT((B26:AF26="ZA")*($B$6:$AF$6=1))
A27: =IF(Team!$B$28="","",Team!$B$28) | AG27: =SUMPRODUCT((B27:AF27="U")*($B$6:$AF$6=1))+0.5*SUMPRODUCT((B27:AF27="H")*($B$6:$AF$6=1)) | AH27: =SUMPRODUCT((B27:AF27="K")*($B$6:$AF$6=1)) | AI27: =SUMPRODUCT((B27:AF27="S")*($B$6:$AF$6=1)) | AJ27: =SUMPRODUCT((B27:AF27="ZA")*($B$6:$AF$6=1))
A28: =IF(Team!$B$29="","",Team!$B$29) | AG28: =SUMPRODUCT((B28:AF28="U")*($B$6:$AF$6=1))+0.5*SUMPRODUCT((B28:AF28="H")*($B$6:$AF$6=1)) | AH28: =SUMPRODUCT((B28:AF28="K")*($B$6:$AF$6=1)) | AI28: =SUMPRODUCT((B28:AF28="S")*($B$6:$AF$6=1)) | AJ28: =SUMPRODUCT((B28:AF28="ZA")*($B$6:$AF$6=1))
A29: =IF(Team!$B$30="","",Team!$B$30) | AG29: =SUMPRODUCT((B29:AF29="U")*($B$6:$AF$6=1))+0.5*SUMPRODUCT((B29:AF29="H")*($B$6:$AF$6=1)) | AH29: =SUMPRODUCT((B29:AF29="K")*($B$6:$AF$6=1)) | AI29: =SUMPRODUCT((B29:AF29="S")*($B$6:$AF$6=1)) | AJ29: =SUMPRODUCT((B29:AF29="ZA")*($B$6:$AF$6=1))
A30: =IF(Team!$B$31="","",Team!$B$31) | AG30: =SUMPRODUCT((B30:AF30="U")*($B$6:$AF$6=1))+0.5*SUMPRODUCT((B30:AF30="H")*($B$6:$AF$6=1)) | AH30: =SUMPRODUCT((B30:AF30="K")*($B$6:$AF$6=1)) | AI30: =SUMPRODUCT((B30:AF30="S")*($B$6:$AF$6=1)) | AJ30: =SUMPRODUCT((B30:AF30="ZA")*($B$6:$AF$6=1))
A31: =IF(Team!$B$32="","",Team!$B$32) | AG31: =SUMPRODUCT((B31:AF31="U")*($B$6:$AF$6=1))+0.5*SUMPRODUCT((B31:AF31="H")*($B$6:$AF$6=1)) | AH31: =SUMPRODUCT((B31:AF31="K")*($B$6:$AF$6=1)) | AI31: =SUMPRODUCT((B31:AF31="S")*($B$6:$AF$6=1)) | AJ31: =SUMPRODUCT((B31:AF31="ZA")*($B$6:$AF$6=1))
A32: Abwesend (Personen) | B32: =IF(B6<>1,"",COUNTA(B7:B31)) | C32: =IF(C6<>1,"",COUNTA(C7:C31)) | D32: =IF(D6<>1,"",COUNTA(D7:D31)) | E32: =IF(E6<>1,"",COUNTA(E7:E31)) | F32: =IF(F6<>1,"",COUNTA(F7:F31)) | G32: =IF(G6<>1,"",COUNTA(G7:G31)) | H32: =IF(H6<>1,"",COUNTA(H7:H31)) | I32: =IF(I6<>1,"",COUNTA(I7:I31)) | ... AF32: =IF(AF6<>1,"",COUNTA(AF7:AF31)) | AG32: =SUM(AG7:AG31) | AH32: =SUM(AH7:AH31) | AI32: =SUM(AI7:AI31) | AJ32: =SUM(AJ7:AJ31)

Sheet Februar
A1: =DATE(Einstellungen!$B$5,2,1)
A2: ="Kürzel in die Tageszellen eintragen. Grau: Wochenende oder gesetzlicher Feiertag in "&Einstellungen!$B$6&" (F). Urlaub, Krankheit und Zeitausgleich zählen nur an Arbeitstagen."
A3: Kürzel: | B3: U Urlaub, ganzer Tag | H3: H halber Urlaubstag | N3: K krank | T3: S Sonderurlaub | Z3: ZA Zeitausgleich | AF3: Wochenende / Feiertag
A4: Tag | B4: =DATE(Einstellungen!$B$5,2,1)+0 | C4: =DATE(Einstellungen!$B$5,2,1)+1 | D4: =DATE(Einstellungen!$B$5,2,1)+2 | E4: =DATE(Einstellungen!$B$5,2,1)+3 | F4: =DATE(Einstellungen!$B$5,2,1)+4 | G4: =DATE(Einstellungen!$B$5,2,1)+5 | H4: =DATE(Einstellungen!$B$5,2,1)+6 | I4: =DATE(Einstellungen!$B$5,2,1)+7 | J4: =DATE(Einstellungen!$B$5,2,1)+8 | K4: =DATE(Einstellungen!$B$5,2,1)+9 | L4: =DATE(Einstellungen!$B$5,2,1)+10 | M4: =DATE(Einstellungen!$B$5,2,1)+11 | N4: =DATE(Einstellungen!$B$5,2,1)+12 | O4: =DATE(Einstellungen!$B$5,2,1)+13 | P4: =DATE(Einstellungen!$B$5,2,1)+14 | Q4: =DATE(Einstellungen!$B$5,2,1)+15 | R4: =DATE(Einstellungen!$B$5,2,1)+16 | S4: =DATE(Einstellungen!$B$5,2,1)+17 | T4: =DATE(Einstellungen!$B$5,2,1)+18 | U4: =DATE(Einstellungen!$B$5,2,1)+19 | V4: =DATE(Einstellungen!$B$5,2,1)+20 | W4: =DATE(Einstellungen!$B$5,2,1)+21 | X4: =DATE(Einstellungen!$B$5,2,1)+22 | Y4: =DATE(Einstellungen!$B$5,2,1)+23 | Z4: =DATE(Einstellungen!$B$5,2,1)+24 | AA4: =DATE(Einstellungen!$B$5,2,1)+25 | AB4: =DATE(Einstellungen!$B$5,2,1)+26 | AC4: =DATE(Einstellungen!$B$5,2,1)+27 | AD4: =IF(29<=DAY(EOMONTH(DATE(Einstellungen!$B$5,2,1),0)),DATE(Einstellungen!$B$5,2,1)+28,"") | AE4: =IF(30<=DAY(EOMONTH(DATE(Einstellungen!$B$5,2,1),0)),DATE(Einstellungen!$B$5,2,1)+29,"") | AF4: =IF(31<=DAY(EOMONTH(DATE(Einstellungen!$B$5,2,1),0)),DATE(Einstellungen!$B$5,2,1)+30,"") | AG4: Urlaub | AH4: krank | AI4: Sonder-urlaub | AJ4: Zeit-ausgl.
A5: Wochentag | B5: =IF(B4="","",B4) | C5: =IF(C4="","",C4) | D5: =IF(D4="","",D4) | E5: =IF(E4="","",E4) | F5: =IF(F4="","",F4) | G5: =IF(G4="","",G4) | H5: =IF(H4="","",H4) | I5: =IF(I4="","",I4) | ... AF5: =IF(AF4="","",AF4)
A6: Name | B6: =IF(B4="",0,IF(COUNTIF(Feiertage!$H$2:$H$200,B4)>0,-1,IF(WEEKDAY(B4,2)>5,0,1))) | C6: =IF(C4="",0,IF(COUNTIF(Feiertage!$H$2:$H$200,C4)>0,-1,IF(WEEKDAY(C4,2)>5,0,1))) | D6: =IF(D4="",0,IF(COUNTIF(Feiertage!$H$2:$H$200,D4)>0,-1,IF(WEEKDAY(D4,2)>5,0,1))) | E6: =IF(E4="",0,IF(COUNTIF(Feiertage!$H$2:$H$200,E4)>0,-1,IF(WEEKDAY(E4,2)>5,0,1))) | F6: =IF(F4="",0,IF(COUNTIF(Feiertage!$H$2:$H$200,F4)>0,-1,IF(WEEKDAY(F4,2)>5,0,1))) | G6: =IF(G4="",0,IF(COUNTIF(Feiertage!$H$2:$H$200,G4)>0,-1,IF(WEEKDAY(G4,2)>5,0,1))) | H6: =IF(H4="",0,IF(COUNTIF(Feiertage!$H$2:$H$200,H4)>0,-1,IF(WEEKDAY(H4,2)>5,0,1))) | I6: =IF(I4="",0,IF(COUNTIF(Feiertage!$H$2:$H$200,I4)>0,-1,IF(WEEKDAY(I4,2)>5,0,1))) | ... AF6: =IF(AF4="",0,IF(COUNTIF(Feiertage!$H$2:$H$200,AF4)>0,-1,IF(WEEKDAY(AF4,2)>5,0,1)))
A7: =IF(Team!$B$8="","",Team!$B$8) | AG7: =SUMPRODUCT((B7:AF7="U")*($B$6:$AF$6=1))+0.5*SUMPRODUCT((B7:AF7="H")*($B$6:$AF$6=1)) | AH7: =SUMPRODUCT((B7:AF7="K")*($B$6:$AF$6=1)) | AI7: =SUMPRODUCT((B7:AF7="S")*($B$6:$AF$6=1)) | AJ7: =SUMPRODUCT((B7:AF7="ZA")*($B$6:$AF$6=1))
A8: =IF(Team!$B$9="","",Team!$B$9) | AG8: =SUMPRODUCT((B8:AF8="U")*($B$6:$AF$6=1))+0.5*SUMPRODUCT((B8:AF8="H")*($B$6:$AF$6=1)) | AH8: =SUMPRODUCT((B8:AF8="K")*($B$6:$AF$6=1)) | AI8: =SUMPRODUCT((B8:AF8="S")*($B$6:$AF$6=1)) | AJ8: =SUMPRODUCT((B8:AF8="ZA")*($B$6:$AF$6=1))
A9: =IF(Team!$B$10="","",Team!$B$10) | AG9: =SUMPRODUCT((B9:AF9="U")*($B$6:$AF$6=1))+0.5*SUMPRODUCT((B9:AF9="H")*($B$6:$AF$6=1)) | AH9: =SUMPRODUCT((B9:AF9="K")*($B$6:$AF$6=1)) | AI9: =SUMPRODUCT((B9:AF9="S")*($B$6:$AF$6=1)) | AJ9: =SUMPRODUCT((B9:AF9="ZA")*($B$6:$AF$6=1))
A10: =IF(Team!$B$11="","",Team!$B$11) | AG10: =SUMPRODUCT((B10:AF10="U")*($B$6:$AF$6=1))+0.5*SUMPRODUCT((B10:AF10="H")*($B$6:$AF$6=1)) | AH10: =SUMPRODUCT((B10:AF10="K")*($B$6:$AF$6=1)) | AI10: =SUMPRODUCT((B10:AF10="S")*($B$6:$AF$6=1)) | AJ10: =SUMPRODUCT((B10:AF10="ZA")*($B$6:$AF$6=1))
A11: =IF(Team!$B$12="","",Team!$B$12) | AG11: =SUMPRODUCT((B11:AF11="U")*($B$6:$AF$6=1))+0.5*SUMPRODUCT((B11:AF11="H")*($B$6:$AF$6=1)) | AH11: =SUMPRODUCT((B11:AF11="K")*($B$6:$AF$6=1)) | AI11: =SUMPRODUCT((B11:AF11="S")*($B$6:$AF$6=1)) | AJ11: =SUMPRODUCT((B11:AF11="ZA")*($B$6:$AF$6=1))
A12: =IF(Team!$B$13="","",Team!$B$13) | AG12: =SUMPRODUCT((B12:AF12="U")*($B$6:$AF$6=1))+0.5*SUMPRODUCT((B12:AF12="H")*($B$6:$AF$6=1)) | AH12: =SUMPRODUCT((B12:AF12="K")*($B$6:$AF$6=1)) | AI12: =SUMPRODUCT((B12:AF12="S")*($B$6:$AF$6=1)) | AJ12: =SUMPRODUCT((B12:AF12="ZA")*($B$6:$AF$6=1))
A13: =IF(Team!$B$14="","",Team!$B$14) | AG13: =SUMPRODUCT((B13:AF13="U")*($B$6:$AF$6=1))+0.5*SUMPRODUCT((B13:AF13="H")*($B$6:$AF$6=1)) | AH13: =SUMPRODUCT((B13:AF13="K")*($B$6:$AF$6=1)) | AI13: =SUMPRODUCT((B13:AF13="S")*($B$6:$AF$6=1)) | AJ13: =SUMPRODUCT((B13:AF13="ZA")*($B$6:$AF$6=1))
A14: =IF(Team!$B$15="","",Team!$B$15) | AG14: =SUMPRODUCT((B14:AF14="U")*($B$6:$AF$6=1))+0.5*SUMPRODUCT((B14:AF14="H")*($B$6:$AF$6=1)) | AH14: =SUMPRODUCT((B14:AF14="K")*($B$6:$AF$6=1)) | AI14: =SUMPRODUCT((B14:AF14="S")*($B$6:$AF$6=1)) | AJ14: =SUMPRODUCT((B14:AF14="ZA")*($B$6:$AF$6=1))
A15: =IF(Team!$B$16="","",Team!$B$16) | AG15: =SUMPRODUCT((B15:AF15="U")*($B$6:$AF$6=1))+0.5*SUMPRODUCT((B15:AF15="H")*($B$6:$AF$6=1)) | AH15: =SUMPRODUCT((B15:AF15="K")*($B$6:$AF$6=1)) | AI15: =SUMPRODUCT((B15:AF15="S")*($B$6:$AF$6=1)) | AJ15: =SUMPRODUCT((B15:AF15="ZA")*($B$6:$AF$6=1))
A16: =IF(Team!$B$17="","",Team!$B$17) | AG16: =SUMPRODUCT((B16:AF16="U")*($B$6:$AF$6=1))+0.5*SUMPRODUCT((B16:AF16="H")*($B$6:$AF$6=1)) | AH16: =SUMPRODUCT((B16:AF16="K")*($B$6:$AF$6=1)) | AI16: =SUMPRODUCT((B16:AF16="S")*($B$6:$AF$6=1)) | AJ16: =SUMPRODUCT((B16:AF16="ZA")*($B$6:$AF$6=1))
A17: =IF(Team!$B$18="","",Team!$B$18) | AG17: =SUMPRODUCT((B17:AF17="U")*($B$6:$AF$6=1))+0.5*SUMPRODUCT((B17:AF17="H")*($B$6:$AF$6=1)) | AH17: =SUMPRODUCT((B17:AF17="K")*($B$6:$AF$6=1)) | AI17: =SUMPRODUCT((B17:AF17="S")*($B$6:$AF$6=1)) | AJ17: =SUMPRODUCT((B17:AF17="ZA")*($B$6:$AF$6=1))
A18: =IF(Team!$B$19="","",Team!$B$19) | AG18: =SUMPRODUCT((B18:AF18="U")*($B$6:$AF$6=1))+0.5*SUMPRODUCT((B18:AF18="H")*($B$6:$AF$6=1)) | AH18: =SUMPRODUCT((B18:AF18="K")*($B$6:$AF$6=1)) | AI18: =SUMPRODUCT((B18:AF18="S")*($B$6:$AF$6=1)) | AJ18: =SUMPRODUCT((B18:AF18="ZA")*($B$6:$AF$6=1))
A19: =IF(Team!$B$20="","",Team!$B$20) | AG19: =SUMPRODUCT((B19:AF19="U")*($B$6:$AF$6=1))+0.5*SUMPRODUCT((B19:AF19="H")*($B$6:$AF$6=1)) | AH19: =SUMPRODUCT((B19:AF19="K")*($B$6:$AF$6=1)) | AI19: =SUMPRODUCT((B19:AF19="S")*($B$6:$AF$6=1)) | AJ19: =SUMPRODUCT((B19:AF19="ZA")*($B$6:$AF$6=1))
A20: =IF(Team!$B$21="","",Team!$B$21) | AG20: =SUMPRODUCT((B20:AF20="U")*($B$6:$AF$6=1))+0.5*SUMPRODUCT((B20:AF20="H")*($B$6:$AF$6=1)) | AH20: =SUMPRODUCT((B20:AF20="K")*($B$6:$AF$6=1)) | AI20: =SUMPRODUCT((B20:AF20="S")*($B$6:$AF$6=1)) | AJ20: =SUMPRODUCT((B20:AF20="ZA")*($B$6:$AF$6=1))
A21: =IF(Team!$B$22="","",Team!$B$22) | AG21: =SUMPRODUCT((B21:AF21="U")*($B$6:$AF$6=1))+0.5*SUMPRODUCT((B21:AF21="H")*($B$6:$AF$6=1)) | AH21: =SUMPRODUCT((B21:AF21="K")*($B$6:$AF$6=1)) | AI21: =SUMPRODUCT((B21:AF21="S")*($B$6:$AF$6=1)) | AJ21: =SUMPRODUCT((B21:AF21="ZA")*($B$6:$AF$6=1))
A22: =IF(Team!$B$23="","",Team!$B$23) | AG22: =SUMPRODUCT((B22:AF22="U")*($B$6:$AF$6=1))+0.5*SUMPRODUCT((B22:AF22="H")*($B$6:$AF$6=1)) | AH22: =SUMPRODUCT((B22:AF22="K")*($B$6:$AF$6=1)) | AI22: =SUMPRODUCT((B22:AF22="S")*($B$6:$AF$6=1)) | AJ22: =SUMPRODUCT((B22:AF22="ZA")*($B$6:$AF$6=1))
A23: =IF(Team!$B$24="","",Team!$B$24) | AG23: =SUMPRODUCT((B23:AF23="U")*($B$6:$AF$6=1))+0.5*SUMPRODUCT((B23:AF23="H")*($B$6:$AF$6=1)) | AH23: =SUMPRODUCT((B23:AF23="K")*($B$6:$AF$6=1)) | AI23: =SUMPRODUCT((B23:AF23="S")*($B$6:$AF$6=1)) | AJ23: =SUMPRODUCT((B23:AF23="ZA")*($B$6:$AF$6=1))
A24: =IF(Team!$B$25="","",Team!$B$25) | AG24: =SUMPRODUCT((B24:AF24="U")*($B$6:$AF$6=1))+0.5*SUMPRODUCT((B24:AF24="H")*($B$6:$AF$6=1)) | AH24: =SUMPRODUCT((B24:AF24="K")*($B$6:$AF$6=1)) | AI24: =SUMPRODUCT((B24:AF24="S")*($B$6:$AF$6=1)) | AJ24: =SUMPRODUCT((B24:AF24="ZA")*($B$6:$AF$6=1))
A25: =IF(Team!$B$26="","",Team!$B$26) | AG25: =SUMPRODUCT((B25:AF25="U")*($B$6:$AF$6=1))+0.5*SUMPRODUCT((B25:AF25="H")*($B$6:$AF$6=1)) | AH25: =SUMPRODUCT((B25:AF25="K")*($B$6:$AF$6=1)) | AI25: =SUMPRODUCT((B25:AF25="S")*($B$6:$AF$6=1)) | AJ25: =SUMPRODUCT((B25:AF25="ZA")*($B$6:$AF$6=1))
A26: =IF(Team!$B$27="","",Team!$B$27) | AG26: =SUMPRODUCT((B26:AF26="U")*($B$6:$AF$6=1))+0.5*SUMPRODUCT((B26:AF26="H")*($B$6:$AF$6=1)) | AH26: =SUMPRODUCT((B26:AF26="K")*($B$6:$AF$6=1)) | AI26: =SUMPRODUCT((B26:AF26="S")*($B$6:$AF$6=1)) | AJ26: =SUMPRODUCT((B26:AF26="ZA")*($B$6:$AF$6=1))
A27: =IF(Team!$B$28="","",Team!$B$28) | AG27: =SUMPRODUCT((B27:AF27="U")*($B$6:$AF$6=1))+0.5*SUMPRODUCT((B27:AF27="H")*($B$6:$AF$6=1)) | AH27: =SUMPRODUCT((B27:AF27="K")*($B$6:$AF$6=1)) | AI27: =SUMPRODUCT((B27:AF27="S")*($B$6:$AF$6=1)) | AJ27: =SUMPRODUCT((B27:AF27="ZA")*($B$6:$AF$6=1))
A28: =IF(Team!$B$29="","",Team!$B$29) | AG28: =SUMPRODUCT((B28:AF28="U")*($B$6:$AF$6=1))+0.5*SUMPRODUCT((B28:AF28="H")*($B$6:$AF$6=1)) | AH28: =SUMPRODUCT((B28:AF28="K")*($B$6:$AF$6=1)) | AI28: =SUMPRODUCT((B28:AF28="S")*($B$6:$AF$6=1)) | AJ28: =SUMPRODUCT((B28:AF28="ZA")*($B$6:$AF$6=1))
A29: =IF(Team!$B$30="","",Team!$B$30) | AG29: =SUMPRODUCT((B29:AF29="U")*($B$6:$AF$6=1))+0.5*SUMPRODUCT((B29:AF29="H")*($B$6:$AF$6=1)) | AH29: =SUMPRODUCT((B29:AF29="K")*($B$6:$AF$6=1)) | AI29: =SUMPRODUCT((B29:AF29="S")*($B$6:$AF$6=1)) | AJ29: =SUMPRODUCT((B29:AF29="ZA")*($B$6:$AF$6=1))
A30: =IF(Team!$B$31="","",Team!$B$31) | AG30: =SUMPRODUCT((B30:AF30="U")*($B$6:$AF$6=1))+0.5*SUMPRODUCT((B30:AF30="H")*($B$6:$AF$6=1)) | AH30: =SUMPRODUCT((B30:AF30="K")*($B$6:$AF$6=1)) | AI30: =SUMPRODUCT((B30:AF30="S")*($B$6:$AF$6=1)) | AJ30: =SUMPRODUCT((B30:AF30="ZA")*($B$6:$AF$6=1))
A31: =IF(Team!$B$32="","",Team!$B$32) | AG31: =SUMPRODUCT((B31:AF31="U")*($B$6:$AF$6=1))+0.5*SUMPRODUCT((B31:AF31="H")*($B$6:$AF$6=1)) | AH31: =SUMPRODUCT((B31:AF31="K")*($B$6:$AF$6=1)) | AI31: =SUMPRODUCT((B31:AF31="S")*($B$6:$AF$6=1)) | AJ31: =SUMPRODUCT((B31:AF31="ZA")*($B$6:$AF$6=1))
A32: Abwesend (Personen) | B32: =IF(B6<>1,"",COUNTA(B7:B31)) | C32: =IF(C6<>1,"",COUNTA(C7:C31)) | D32: =IF(D6<>1,"",COUNTA(D7:D31)) | E32: =IF(E6<>1,"",COUNTA(E7:E31)) | F32: =IF(F6<>1,"",COUNTA(F7:F31)) | G32: =IF(G6<>1,"",COUNTA(G7:G31)) | H32: =IF(H6<>1,"",COUNTA(H7:H31)) | I32: =IF(I6<>1,"",COUNTA(I7:I31)) | ... AF32: =IF(AF6<>1,"",COUNTA(AF7:AF31)) | AG32: =SUM(AG7:AG31) | AH32: =SUM(AH7:AH31) | AI32: =SUM(AI7:AI31) | AJ32: =SUM(AJ7:AJ31)

Sheet März
A1: =DATE(Einstellungen!$B$5,3,1)
A2: ="Kürzel in die Tageszellen eintragen. Grau: Wochenende oder gesetzlicher Feiertag in "&Einstellungen!$B$6&" (F). Urlaub, Krankheit und Zeitausgleich zählen nur an Arbeitstagen."
A3: Kürzel: | B3: U Urlaub, ganzer Tag | H3: H halber Urlaubstag | N3: K krank | T3: S Sonderurlaub | Z3: ZA Zeitausgleich | AF3: Wochenende / Feiertag
A4: Tag | B4: =DATE(Einstellungen!$B$5,3,1)+0 | C4: =DATE(Einstellungen!$B$5,3,1)+1 | D4: =DATE(Einstellungen!$B$5,3,1)+2 | E4: =DATE(Einstellungen!$B$5,3,1)+3 | F4: =DATE(Einstellungen!$B$5,3,1)+4 | G4: =DATE(Einstellungen!$B$5,3,1)+5 | H4: =DATE(Einstellungen!$B$5,3,1)+6 | I4: =DATE(Einstellungen!$B$5,3,1)+7 | J4: =DATE(Einstellungen!$B$5,3,1)+8 | K4: =DATE(Einstellungen!$B$5,3,1)+9 | L4: =DATE(Einstellungen!$B$5,3,1)+10 | M4: =DATE(Einstellungen!$B$5,3,1)+11 | N4: =DATE(Einstellungen!$B$5,3,1)+12 | O4: =DATE(Einstellungen!$B$5,3,1)+13 | P4: =DATE(Einstellungen!$B$5,3,1)+14 | Q4: =DATE(Einstellungen!$B$5,3,1)+15 | R4: =DATE(Einstellungen!$B$5,3,1)+16 | S4: =DATE(Einstellungen!$B$5,3,1)+17 | T4: =DATE(Einstellungen!$B$5,3,1)+18 | U4: =DATE(Einstellungen!$B$5,3,1)+19 | V4: =DATE(Einstellungen!$B$5,3,1)+20 | W4: =DATE(Einstellungen!$B$5,3,1)+21 | X4: =DATE(Einstellungen!$B$5,3,1)+22 | Y4: =DATE(Einstellungen!$B$5,3,1)+23 | Z4: =DATE(Einstellungen!$B$5,3,1)+24 | AA4: =DATE(Einstellungen!$B$5,3,1)+25 | AB4: =DATE(Einstellungen!$B$5,3,1)+26 | AC4: =DATE(Einstellungen!$B$5,3,1)+27 | AD4: =IF(29<=DAY(EOMONTH(DATE(Einstellungen!$B$5,3,1),0)),DATE(Einstellungen!$B$5,3,1)+28,"") | AE4: =IF(30<=DAY(EOMONTH(DATE(Einstellungen!$B$5,3,1),0)),DATE(Einstellungen!$B$5,3,1)+29,"") | AF4: =IF(31<=DAY(EOMONTH(DATE(Einstellungen!$B$5,3,1),0)),DATE(Einstellungen!$B$5,3,1)+30,"") | AG4: Urlaub | AH4: krank | AI4: Sonder-urlaub | AJ4: Zeit-ausgl.
A5: Wochentag | B5: =IF(B4="","",B4) | C5: =IF(C4="","",C4) | D5: =IF(D4="","",D4) | E5: =IF(E4="","",E4) | F5: =IF(F4="","",F4) | G5: =IF(G4="","",G4) | H5: =IF(H4="","",H4) | I5: =IF(I4="","",I4) | ... AF5: =IF(AF4="","",AF4)
A6: Name | B6: =IF(B4="",0,IF(COUNTIF(Feiertage!$H$2:$H$200,B4)>0,-1,IF(WEEKDAY(B4,2)>5,0,1))) | C6: =IF(C4="",0,IF(COUNTIF(Feiertage!$H$2:$H$200,C4)>0,-1,IF(WEEKDAY(C4,2)>5,0,1))) | D6: =IF(D4="",0,IF(COUNTIF(Feiertage!$H$2:$H$200,D4)>0,-1,IF(WEEKDAY(D4,2)>5,0,1))) | E6: =IF(E4="",0,IF(COUNTIF(Feiertage!$H$2:$H$200,E4)>0,-1,IF(WEEKDAY(E4,2)>5,0,1))) | F6: =IF(F4="",0,IF(COUNTIF(Feiertage!$H$2:$H$200,F4)>0,-1,IF(WEEKDAY(F4,2)>5,0,1))) | G6: =IF(G4="",0,IF(COUNTIF(Feiertage!$H$2:$H$200,G4)>0,-1,IF(WEEKDAY(G4,2)>5,0,1))) | H6: =IF(H4="",0,IF(COUNTIF(Feiertage!$H$2:$H$200,H4)>0,-1,IF(WEEKDAY(H4,2)>5,0,1))) | I6: =IF(I4="",0,IF(COUNTIF(Feiertage!$H$2:$H$200,I4)>0,-1,IF(WEEKDAY(I4,2)>5,0,1))) | ... AF6: =IF(AF4="",0,IF(COUNTIF(Feiertage!$H$2:$H$200,AF4)>0,-1,IF(WEEKDAY(AF4,2)>5,0,1)))
A7: =IF(Team!$B$8="","",Team!$B$8) | AG7: =SUMPRODUCT((B7:AF7="U")*($B$6:$AF$6=1))+0.5*SUMPRODUCT((B7:AF7="H")*($B$6:$AF$6=1)) | AH7: =SUMPRODUCT((B7:AF7="K")*($B$6:$AF$6=1)) | AI7: =SUMPRODUCT((B7:AF7="S")*($B$6:$AF$6=1)) | AJ7: =SUMPRODUCT((B7:AF7="ZA")*($B$6:$AF$6=1))
A8: =IF(Team!$B$9="","",Team!$B$9) | AG8: =SUMPRODUCT((B8:AF8="U")*($B$6:$AF$6=1))+0.5*SUMPRODUCT((B8:AF8="H")*($B$6:$AF$6=1)) | AH8: =SUMPRODUCT((B8:AF8="K")*($B$6:$AF$6=1)) | AI8: =SUMPRODUCT((B8:AF8="S")*($B$6:$AF$6=1)) | AJ8: =SUMPRODUCT((B8:AF8="ZA")*($B$6:$AF$6=1))
A9: =IF(Team!$B$10="","",Team!$B$10) | AG9: =SUMPRODUCT((B9:AF9="U")*($B$6:$AF$6=1))+0.5*SUMPRODUCT((B9:AF9="H")*($B$6:$AF$6=1)) | AH9: =SUMPRODUCT((B9:AF9="K")*($B$6:$AF$6=1)) | AI9: =SUMPRODUCT((B9:AF9="S")*($B$6:$AF$6=1)) | AJ9: =SUMPRODUCT((B9:AF9="ZA")*($B$6:$AF$6=1))
A10: =IF(Team!$B$11="","",Team!$B$11) | AG10: =SUMPRODUCT((B10:AF10="U")*($B$6:$AF$6=1))+0.5*SUMPRODUCT((B10:AF10="H")*($B$6:$AF$6=1)) | AH10: =SUMPRODUCT((B10:AF10="K")*($B$6:$AF$6=1)) | AI10: =SUMPRODUCT((B10:AF10="S")*($B$6:$AF$6=1)) | AJ10: =SUMPRODUCT((B10:AF10="ZA")*($B$6:$AF$6=1))
A11: =IF(Team!$B$12="","",Team!$B$12) | AG11: =SUMPRODUCT((B11:AF11="U")*($B$6:$AF$6=1))+0.5*SUMPRODUCT((B11:AF11="H")*($B$6:$AF$6=1)) | AH11: =SUMPRODUCT((B11:AF11="K")*($B$6:$AF$6=1)) | AI11: =SUMPRODUCT((B11:AF11="S")*($B$6:$AF$6=1)) | AJ11: =SUMPRODUCT((B11:AF11="ZA")*($B$6:$AF$6=1))
A12: =IF(Team!$B$13="","",Team!$B$13) | AG12: =SUMPRODUCT((B12:AF12="U")*($B$6:$AF$6=1))+0.5*SUMPRODUCT((B12:AF12="H")*($B$6:$AF$6=1)) | AH12: =SUMPRODUCT((B12:AF12="K")*($B$6:$AF$6=1)) | AI12: =SUMPRODUCT((B12:AF12="S")*($B$6:$AF$6=1)) | AJ12: =SUMPRODUCT((B12:AF12="ZA")*($B$6:$AF$6=1))
A13: =IF(Team!$B$14="","",Team!$B$14) | AG13: =SUMPRODUCT((B13:AF13="U")*($B$6:$AF$6=1))+0.5*SUMPRODUCT((B13:AF13="H")*($B$6:$AF$6=1)) | AH13: =SUMPRODUCT((B13:AF13="K")*($B$6:$AF$6=1)) | AI13: =SUMPRODUCT((B13:AF13="S")*($B$6:$AF$6=1)) | AJ13: =SUMPRODUCT((B13:AF13="ZA")*($B$6:$AF$6=1))
A14: =IF(Team!$B$15="","",Team!$B$15) | AG14: =SUMPRODUCT((B14:AF14="U")*($B$6:$AF$6=1))+0.5*SUMPRODUCT((B14:AF14="H")*($B$6:$AF$6=1)) | AH14: =SUMPRODUCT((B14:AF14="K")*($B$6:$AF$6=1)) | AI14: =SUMPRODUCT((B14:AF14="S")*($B$6:$AF$6=1)) | AJ14: =SUMPRODUCT((B14:AF14="ZA")*($B$6:$AF$6=1))
A15: =IF(Team!$B$16="","",Team!$B$16) | AG15: =SUMPRODUCT((B15:AF15="U")*($B$6:$AF$6=1))+0.5*SUMPRODUCT((B15:AF15="H")*($B$6:$AF$6=1)) | AH15: =SUMPRODUCT((B15:AF15="K")*($B$6:$AF$6=1)) | AI15: =SUMPRODUCT((B15:AF15="S")*($B$6:$AF$6=1)) | AJ15: =SUMPRODUCT((B15:AF15="ZA")*($B$6:$AF$6=1))
A16: =IF(Team!$B$17="","",Team!$B$17) | AG16: =SUMPRODUCT((B16:AF16="U")*($B$6:$AF$6=1))+0.5*SUMPRODUCT((B16:AF16="H")*($B$6:$AF$6=1)) | AH16: =SUMPRODUCT((B16:AF16="K")*($B$6:$AF$6=1)) | AI16: =SUMPRODUCT((B16:AF16="S")*($B$6:$AF$6=1)) | AJ16: =SUMPRODUCT((B16:AF16="ZA")*($B$6:$AF$6=1))
A17: =IF(Team!$B$18="","",Team!$B$18) | AG17: =SUMPRODUCT((B17:AF17="U")*($B$6:$AF$6=1))+0.5*SUMPRODUCT((B17:AF17="H")*($B$6:$AF$6=1)) | AH17: =SUMPRODUCT((B17:AF17="K")*($B$6:$AF$6=1)) | AI17: =SUMPRODUCT((B17:AF17="S")*($B$6:$AF$6=1)) | AJ17: =SUMPRODUCT((B17:AF17="ZA")*($B$6:$AF$6=1))
A18: =IF(Team!$B$19="","",Team!$B$19) | AG18: =SUMPRODUCT((B18:AF18="U")*($B$6:$AF$6=1))+0.5*SUMPRODUCT((B18:AF18="H")*($B$6:$AF$6=1)) | AH18: =SUMPRODUCT((B18:AF18="K")*($B$6:$AF$6=1)) | AI18: =SUMPRODUCT((B18:AF18="S")*($B$6:$AF$6=1)) | AJ18: =SUMPRODUCT((B18:AF18="ZA")*($B$6:$AF$6=1))
A19: =IF(Team!$B$20="","",Team!$B$20) | AG19: =SUMPRODUCT((B19:AF19="U")*($B$6:$AF$6=1))+0.5*SUMPRODUCT((B19:AF19="H")*($B$6:$AF$6=1)) | AH19: =SUMPRODUCT((B19:AF19="K")*($B$6:$AF$6=1)) | AI19: =SUMPRODUCT((B19:AF19="S")*($B$6:$AF$6=1)) | AJ19: =SUMPRODUCT((B19:AF19="ZA")*($B$6:$AF$6=1))
A20: =IF(Team!$B$21="","",Team!$B$21) | AG20: =SUMPRODUCT((B20:AF20="U")*($B$6:$AF$6=1))+0.5*SUMPRODUCT((B20:AF20="H")*($B$6:$AF$6=1)) | AH20: =SUMPRODUCT((B20:AF20="K")*($B$6:$AF$6=1)) | AI20: =SUMPRODUCT((B20:AF20="S")*($B$6:$AF$6=1)) | AJ20: =SUMPRODUCT((B20:AF20="ZA")*($B$6:$AF$6=1))
A21: =IF(Team!$B$22="","",Team!$B$22) | AG21: =SUMPRODUCT((B21:AF21="U")*($B$6:$AF$6=1))+0.5*SUMPRODUCT((B21:AF21="H")*($B$6:$AF$6=1)) | AH21: =SUMPRODUCT((B21:AF21="K")*($B$6:$AF$6=1)) | AI21: =SUMPRODUCT((B21:AF21="S")*($B$6:$AF$6=1)) | AJ21: =SUMPRODUCT((B21:AF21="ZA")*($B$6:$AF$6=1))
A22: =IF(Team!$B$23="","",Team!$B$23) | AG22: =SUMPRODUCT((B22:AF22="U")*($B$6:$AF$6=1))+0.5*SUMPRODUCT((B22:AF22="H")*($B$6:$AF$6=1)) | AH22: =SUMPRODUCT((B22:AF22="K")*($B$6:$AF$6=1)) | AI22: =SUMPRODUCT((B22:AF22="S")*($B$6:$AF$6=1)) | AJ22: =SUMPRODUCT((B22:AF22="ZA")*($B$6:$AF$6=1))
A23: =IF(Team!$B$24="","",Team!$B$24) | AG23: =SUMPRODUCT((B23:AF23="U")*($B$6:$AF$6=1))+0.5*SUMPRODUCT((B23:AF23="H")*($B$6:$AF$6=1)) | AH23: =SUMPRODUCT((B23:AF23="K")*($B$6:$AF$6=1)) | AI23: =SUMPRODUCT((B23:AF23="S")*($B$6:$AF$6=1)) | AJ23: =SUMPRODUCT((B23:AF23="ZA")*($B$6:$AF$6=1))
A24: =IF(Team!$B$25="","",Team!$B$25) | AG24: =SUMPRODUCT((B24:AF24="U")*($B$6:$AF$6=1))+0.5*SUMPRODUCT((B24:AF24="H")*($B$6:$AF$6=1)) | AH24: =SUMPRODUCT((B24:AF24="K")*($B$6:$AF$6=1)) | AI24: =SUMPRODUCT((B24:AF24="S")*($B$6:$AF$6=1)) | AJ24: =SUMPRODUCT((B24:AF24="ZA")*($B$6:$AF$6=1))
A25: =IF(Team!$B$26="","",Team!$B$26) | AG25: =SUMPRODUCT((B25:AF25="U")*($B$6:$AF$6=1))+0.5*SUMPRODUCT((B25:AF25="H")*($B$6:$AF$6=1)) | AH25: =SUMPRODUCT((B25:AF25="K")*($B$6:$AF$6=1)) | AI25: =SUMPRODUCT((B25:AF25="S")*($B$6:$AF$6=1)) | AJ25: =SUMPRODUCT((B25:AF25="ZA")*($B$6:$AF$6=1))
A26: =IF(Team!$B$27="","",Team!$B$27) | AG26: =SUMPRODUCT((B26:AF26="U")*($B$6:$AF$6=1))+0.5*SUMPRODUCT((B26:AF26="H")*($B$6:$AF$6=1)) | AH26: =SUMPRODUCT((B26:AF26="K")*($B$6:$AF$6=1)) | AI26: =SUMPRODUCT((B26:AF26="S")*($B$6:$AF$6=1)) | AJ26: =SUMPRODUCT((B26:AF26="ZA")*($B$6:$AF$6=1))
A27: =IF(Team!$B$28="","",Team!$B$28) | AG27: =SUMPRODUCT((B27:AF27="U")*($B$6:$AF$6=1))+0.5*SUMPRODUCT((B27:AF27="H")*($B$6:$AF$6=1)) | AH27: =SUMPRODUCT((B27:AF27="K")*($B$6:$AF$6=1)) | AI27: =SUMPRODUCT((B27:AF27="S")*($B$6:$AF$6=1)) | AJ27: =SUMPRODUCT((B27:AF27="ZA")*($B$6:$AF$6=1))
A28: =IF(Team!$B$29="","",Team!$B$29) | AG28: =SUMPRODUCT((B28:AF28="U")*($B$6:$AF$6=1))+0.5*SUMPRODUCT((B28:AF28="H")*($B$6:$AF$6=1)) | AH28: =SUMPRODUCT((B28:AF28="K")*($B$6:$AF$6=1)) | AI28: =SUMPRODUCT((B28:AF28="S")*($B$6:$AF$6=1)) | AJ28: =SUMPRODUCT((B28:AF28="ZA")*($B$6:$AF$6=1))
A29: =IF(Team!$B$30="","",Team!$B$30) | AG29: =SUMPRODUCT((B29:AF29="U")*($B$6:$AF$6=1))+0.5*SUMPRODUCT((B29:AF29="H")*($B$6:$AF$6=1)) | AH29: =SUMPRODUCT((B29:AF29="K")*($B$6:$AF$6=1)) | AI29: =SUMPRODUCT((B29:AF29="S")*($B$6:$AF$6=1)) | AJ29: =SUMPRODUCT((B29:AF29="ZA")*($B$6:$AF$6=1))
A30: =IF(Team!$B$31="","",Team!$B$31) | AG30: =SUMPRODUCT((B30:AF30="U")*($B$6:$AF$6=1))+0.5*SUMPRODUCT((B30:AF30="H")*($B$6:$AF$6=1)) | AH30: =SUMPRODUCT((B30:AF30="K")*($B$6:$AF$6=1)) | AI30: =SUMPRODUCT((B30:AF30="S")*($B$6:$AF$6=1)) | AJ30: =SUMPRODUCT((B30:AF30="ZA")*($B$6:$AF$6=1))
A31: =IF(Team!$B$32="","",Team!$B$32) | AG31: =SUMPRODUCT((B31:AF31="U")*($B$6:$AF$6=1))+0.5*SUMPRODUCT((B31:AF31="H")*($B$6:$AF$6=1)) | AH31: =SUMPRODUCT((B31:AF31="K")*($B$6:$AF$6=1)) | AI31: =SUMPRODUCT((B31:AF31="S")*($B$6:$AF$6=1)) | AJ31: =SUMPRODUCT((B31:AF31="ZA")*($B$6:$AF$6=1))
A32: Abwesend (Personen) | B32: =IF(B6<>1,"",COUNTA(B7:B31)) | C32: =IF(C6<>1,"",COUNTA(C7:C31)) | D32: =IF(D6<>1,"",COUNTA(D7:D31)) | E32: =IF(E6<>1,"",COUNTA(E7:E31)) | F32: =IF(F6<>1,"",COUNTA(F7:F31)) | G32: =IF(G6<>1,"",COUNTA(G7:G31)) | H32: =IF(H6<>1,"",COUNTA(H7:H31)) | I32: =IF(I6<>1,"",COUNTA(I7:I31)) | ... AF32: =IF(AF6<>1,"",COUNTA(AF7:AF31)) | AG32: =SUM(AG7:AG31) | AH32: =SUM(AH7:AH31) | AI32: =SUM(AI7:AI31) | AJ32: =SUM(AJ7:AJ31)

Sheet April
A1: =DATE(Einstellungen!$B$5,4,1)
A2: ="Kürzel in die Tageszellen eintragen. Grau: Wochenende oder gesetzlicher Feiertag in "&Einstellungen!$B$6&" (F). Urlaub, Krankheit und Zeitausgleich zählen nur an Arbeitstagen."
A3: Kürzel: | B3: U Urlaub, ganzer Tag | H3: H halber Urlaubstag | N3: K krank | T3: S Sonderurlaub | Z3: ZA Zeitausgleich | AF3: Wochenende / Feiertag
A4: Tag | B4: =DATE(Einstellungen!$B$5,4,1)+0 | C4: =DATE(Einstellungen!$B$5,4,1)+1 | D4: =DATE(Einstellungen!$B$5,4,1)+2 | E4: =DATE(Einstellungen!$B$5,4,1)+3 | F4: =DATE(Einstellungen!$B$5,4,1)+4 | G4: =DATE(Einstellungen!$B$5,4,1)+5 | H4: =DATE(Einstellungen!$B$5,4,1)+6 | I4: =DATE(Einstellungen!$B$5,4,1)+7 | J4: =DATE(Einstellungen!$B$5,4,1)+8 | K4: =DATE(Einstellungen!$B$5,4,1)+9 | L4: =DATE(Einstellungen!$B$5,4,1)+10 | M4: =DATE(Einstellungen!$B$5,4,1)+11 | N4: =DATE(Einstellungen!$B$5,4,1)+12 | O4: =DATE(Einstellungen!$B$5,4,1)+13 | P4: =DATE(Einstellungen!$B$5,4,1)+14 | Q4: =DATE(Einstellungen!$B$5,4,1)+15 | R4: =DATE(Einstellungen!$B$5,4,1)+16 | S4: =DATE(Einstellungen!$B$5,4,1)+17 | T4: =DATE(Einstellungen!$B$5,4,1)+18 | U4: =DATE(Einstellungen!$B$5,4,1)+19 | V4: =DATE(Einstellungen!$B$5,4,1)+20 | W4: =DATE(Einstellungen!$B$5,4,1)+21 | X4: =DATE(Einstellungen!$B$5,4,1)+22 | Y4: =DATE(Einstellungen!$B$5,4,1)+23 | Z4: =DATE(Einstellungen!$B$5,4,1)+24 | AA4: =DATE(Einstellungen!$B$5,4,1)+25 | AB4: =DATE(Einstellungen!$B$5,4,1)+26 | AC4: =DATE(Einstellungen!$B$5,4,1)+27 | AD4: =IF(29<=DAY(EOMONTH(DATE(Einstellungen!$B$5,4,1),0)),DATE(Einstellungen!$B$5,4,1)+28,"") | AE4: =IF(30<=DAY(EOMONTH(DATE(Einstellungen!$B$5,4,1),0)),DATE(Einstellungen!$B$5,4,1)+29,"") | AF4: =IF(31<=DAY(EOMONTH(DATE(Einstellungen!$B$5,4,1),0)),DATE(Einstellungen!$B$5,4,1)+30,"") | AG4: Urlaub | AH4: krank | AI4: Sonder-urlaub | AJ4: Zeit-ausgl.
A5: Wochentag | B5: =IF(B4="","",B4) | C5: =IF(C4="","",C4) | D5: =IF(D4="","",D4) | E5: =IF(E4="","",E4) | F5: =IF(F4="","",F4) | G5: =IF(G4="","",G4) | H5: =IF(H4="","",H4) | I5: =IF(I4="","",I4) | ... AF5: =IF(AF4="","",AF4)
A6: Name | B6: =IF(B4="",0,IF(COUNTIF(Feiertage!$H$2:$H$200,B4)>0,-1,IF(WEEKDAY(B4,2)>5,0,1))) | C6: =IF(C4="",0,IF(COUNTIF(Feiertage!$H$2:$H$200,C4)>0,-1,IF(WEEKDAY(C4,2)>5,0,1))) | D6: =IF(D4="",0,IF(COUNTIF(Feiertage!$H$2:$H$200,D4)>0,-1,IF(WEEKDAY(D4,2)>5,0,1))) | E6: =IF(E4="",0,IF(COUNTIF(Feiertage!$H$2:$H$200,E4)>0,-1,IF(WEEKDAY(E4,2)>5,0,1))) | F6: =IF(F4="",0,IF(COUNTIF(Feiertage!$H$2:$H$200,F4)>0,-1,IF(WEEKDAY(F4,2)>5,0,1))) | G6: =IF(G4="",0,IF(COUNTIF(Feiertage!$H$2:$H$200,G4)>0,-1,IF(WEEKDAY(G4,2)>5,0,1))) | H6: =IF(H4="",0,IF(COUNTIF(Feiertage!$H$2:$H$200,H4)>0,-1,IF(WEEKDAY(H4,2)>5,0,1))) | I6: =IF(I4="",0,IF(COUNTIF(Feiertage!$H$2:$H$200,I4)>0,-1,IF(WEEKDAY(I4,2)>5,0,1))) | ... AF6: =IF(AF4="",0,IF(COUNTIF(Feiertage!$H$2:$H$200,AF4)>0,-1,IF(WEEKDAY(AF4,2)>5,0,1)))
A7: =IF(Team!$B$8="","",Team!$B$8) | AG7: =SUMPRODUCT((B7:AF7="U")*($B$6:$AF$6=1))+0.5*SUMPRODUCT((B7:AF7="H")*($B$6:$AF$6=1)) | AH7: =SUMPRODUCT((B7:AF7="K")*($B$6:$AF$6=1)) | AI7: =SUMPRODUCT((B7:AF7="S")*($B$6:$AF$6=1)) | AJ7: =SUMPRODUCT((B7:AF7="ZA")*($B$6:$AF$6=1))
A8: =IF(Team!$B$9="","",Team!$B$9) | AG8: =SUMPRODUCT((B8:AF8="U")*($B$6:$AF$6=1))+0.5*SUMPRODUCT((B8:AF8="H")*($B$6:$AF$6=1)) | AH8: =SUMPRODUCT((B8:AF8="K")*($B$6:$AF$6=1)) | AI8: =SUMPRODUCT((B8:AF8="S")*($B$6:$AF$6=1)) | AJ8: =SUMPRODUCT((B8:AF8="ZA")*($B$6:$AF$6=1))
A9: =IF(Team!$B$10="","",Team!$B$10) | AG9: =SUMPRODUCT((B9:AF9="U")*($B$6:$AF$6=1))+0.5*SUMPRODUCT((B9:AF9="H")*($B$6:$AF$6=1)) | AH9: =SUMPRODUCT((B9:AF9="K")*($B$6:$AF$6=1)) | AI9: =SUMPRODUCT((B9:AF9="S")*($B$6:$AF$6=1)) | AJ9: =SUMPRODUCT((B9:AF9="ZA")*($B$6:$AF$6=1))
A10: =IF(Team!$B$11="","",Team!$B$11) | AG10: =SUMPRODUCT((B10:AF10="U")*($B$6:$AF$6=1))+0.5*SUMPRODUCT((B10:AF10="H")*($B$6:$AF$6=1)) | AH10: =SUMPRODUCT((B10:AF10="K")*($B$6:$AF$6=1)) | AI10: =SUMPRODUCT((B10:AF10="S")*($B$6:$AF$6=1)) | AJ10: =SUMPRODUCT((B10:AF10="ZA")*($B$6:$AF$6=1))
A11: =IF(Team!$B$12="","",Team!$B$12) | AG11: =SUMPRODUCT((B11:AF11="U")*($B$6:$AF$6=1))+0.5*SUMPRODUCT((B11:AF11="H")*($B$6:$AF$6=1)) | AH11: =SUMPRODUCT((B11:AF11="K")*($B$6:$AF$6=1)) | AI11: =SUMPRODUCT((B11:AF11="S")*($B$6:$AF$6=1)) | AJ11: =SUMPRODUCT((B11:AF11="ZA")*($B$6:$AF$6=1))
A12: =IF(Team!$B$13="","",Team!$B$13) | AG12: =SUMPRODUCT((B12:AF12="U")*($B$6:$AF$6=1))+0.5*SUMPRODUCT((B12:AF12="H")*($B$6:$AF$6=1)) | AH12: =SUMPRODUCT((B12:AF12="K")*($B$6:$AF$6=1)) | AI12: =SUMPRODUCT((B12:AF12="S")*($B$6:$AF$6=1)) | AJ12: =SUMPRODUCT((B12:AF12="ZA")*($B$6:$AF$6=1))
A13: =IF(Team!$B$14="","",Team!$B$14) | AG13: =SUMPRODUCT((B13:AF13="U")*($B$6:$AF$6=1))+0.5*SUMPRODUCT((B13:AF13="H")*($B$6:$AF$6=1)) | AH13: =SUMPRODUCT((B13:AF13="K")*($B$6:$AF$6=1)) | AI13: =SUMPRODUCT((B13:AF13="S")*($B$6:$AF$6=1)) | AJ13: =SUMPRODUCT((B13:AF13="ZA")*($B$6:$AF$6=1))
A14: =IF(Team!$B$15="","",Team!$B$15) | AG14: =SUMPRODUCT((B14:AF14="U")*($B$6:$AF$6=1))+0.5*SUMPRODUCT((B14:AF14="H")*($B$6:$AF$6=1)) | AH14: =SUMPRODUCT((B14:AF14="K")*($B$6:$AF$6=1)) | AI14: =SUMPRODUCT((B14:AF14="S")*($B$6:$AF$6=1)) | AJ14: =SUMPRODUCT((B14:AF14="ZA")*($B$6:$AF$6=1))
A15: =IF(Team!$B$16="","",Team!$B$16) | AG15: =SUMPRODUCT((B15:AF15="U")*($B$6:$AF$6=1))+0.5*SUMPRODUCT((B15:AF15="H")*($B$6:$AF$6=1)) | AH15: =SUMPRODUCT((B15:AF15="K")*($B$6:$AF$6=1)) | AI15: =SUMPRODUCT((B15:AF15="S")*($B$6:$AF$6=1)) | AJ15: =SUMPRODUCT((B15:AF15="ZA")*($B$6:$AF$6=1))
A16: =IF(Team!$B$17="","",Team!$B$17) | AG16: =SUMPRODUCT((B16:AF16="U")*($B$6:$AF$6=1))+0.5*SUMPRODUCT((B16:AF16="H")*($B$6:$AF$6=1)) | AH16: =SUMPRODUCT((B16:AF16="K")*($B$6:$AF$6=1)) | AI16: =SUMPRODUCT((B16:AF16="S")*($B$6:$AF$6=1)) | AJ16: =SUMPRODUCT((B16:AF16="ZA")*($B$6:$AF$6=1))
A17: =IF(Team!$B$18="","",Team!$B$18) | AG17: =SUMPRODUCT((B17:AF17="U")*($B$6:$AF$6=1))+0.5*SUMPRODUCT((B17:AF17="H")*($B$6:$AF$6=1)) | AH17: =SUMPRODUCT((B17:AF17="K")*($B$6:$AF$6=1)) | AI17: =SUMPRODUCT((B17:AF17="S")*($B$6:$AF$6=1)) | AJ17: =SUMPRODUCT((B17:AF17="ZA")*($B$6:$AF$6=1))
A18: =IF(Team!$B$19="","",Team!$B$19) | AG18: =SUMPRODUCT((B18:AF18="U")*($B$6:$AF$6=1))+0.5*SUMPRODUCT((B18:AF18="H")*($B$6:$AF$6=1)) | AH18: =SUMPRODUCT((B18:AF18="K")*($B$6:$AF$6=1)) | AI18: =SUMPRODUCT((B18:AF18="S")*($B$6:$AF$6=1)) | AJ18: =SUMPRODUCT((B18:AF18="ZA")*($B$6:$AF$6=1))
A19: =IF(Team!$B$20="","",Team!$B$20) | AG19: =SUMPRODUCT((B19:AF19="U")*($B$6:$AF$6=1))+0.5*SUMPRODUCT((B19:AF19="H")*($B$6:$AF$6=1)) | AH19: =SUMPRODUCT((B19:AF19="K")*($B$6:$AF$6=1)) | AI19: =SUMPRODUCT((B19:AF19="S")*($B$6:$AF$6=1)) | AJ19: =SUMPRODUCT((B19:AF19="ZA")*($B$6:$AF$6=1))
A20: =IF(Team!$B$21="","",Team!$B$21) | AG20: =SUMPRODUCT((B20:AF20="U")*($B$6:$AF$6=1))+0.5*SUMPRODUCT((B20:AF20="H")*($B$6:$AF$6=1)) | AH20: =SUMPRODUCT((B20:AF20="K")*($B$6:$AF$6=1)) | AI20: =SUMPRODUCT((B20:AF20="S")*($B$6:$AF$6=1)) | AJ20: =SUMPRODUCT((B20:AF20="ZA")*($B$6:$AF$6=1))
A21: =IF(Team!$B$22="","",Team!$B$22) | AG21: =SUMPRODUCT((B21:AF21="U")*($B$6:$AF$6=1))+0.5*SUMPRODUCT((B21:AF21="H")*($B$6:$AF$6=1)) | AH21: =SUMPRODUCT((B21:AF21="K")*($B$6:$AF$6=1)) | AI21: =SUMPRODUCT((B21:AF21="S")*($B$6:$AF$6=1)) | AJ21: =SUMPRODUCT((B21:AF21="ZA")*($B$6:$AF$6=1))
A22: =IF(Team!$B$23="","",Team!$B$23) | AG22: =SUMPRODUCT((B22:AF22="U")*($B$6:$AF$6=1))+0.5*SUMPRODUCT((B22:AF22="H")*($B$6:$AF$6=1)) | AH22: =SUMPRODUCT((B22:AF22="K")*($B$6:$AF$6=1)) | AI22: =SUMPRODUCT((B22:AF22="S")*($B$6:$AF$6=1)) | AJ22: =SUMPRODUCT((B22:AF22="ZA")*($B$6:$AF$6=1))
A23: =IF(Team!$B$24="","",Team!$B$24) | AG23: =SUMPRODUCT((B23:AF23="U")*($B$6:$AF$6=1))+0.5*SUMPRODUCT((B23:AF23="H")*($B$6:$AF$6=1)) | AH23: =SUMPRODUCT((B23:AF23="K")*($B$6:$AF$6=1)) | AI23: =SUMPRODUCT((B23:AF23="S")*($B$6:$AF$6=1)) | AJ23: =SUMPRODUCT((B23:AF23="ZA")*($B$6:$AF$6=1))
A24: =IF(Team!$B$25="","",Team!$B$25) | AG24: =SUMPRODUCT((B24:AF24="U")*($B$6:$AF$6=1))+0.5*SUMPRODUCT((B24:AF24="H")*($B$6:$AF$6=1)) | AH24: =SUMPRODUCT((B24:AF24="K")*($B$6:$AF$6=1)) | AI24: =SUMPRODUCT((B24:AF24="S")*($B$6:$AF$6=1)) | AJ24: =SUMPRODUCT((B24:AF24="ZA")*($B$6:$AF$6=1))
A25: =IF(Team!$B$26="","",Team!$B$26) | AG25: =SUMPRODUCT((B25:AF25="U")*($B$6:$AF$6=1))+0.5*SUMPRODUCT((B25:AF25="H")*($B$6:$AF$6=1)) | AH25: =SUMPRODUCT((B25:AF25="K")*($B$6:$AF$6=1)) | AI25: =SUMPRODUCT((B25:AF25="S")*($B$6:$AF$6=1)) | AJ25: =SUMPRODUCT((B25:AF25="ZA")*($B$6:$AF$6=1))
A26: =IF(Team!$B$27="","",Team!$B$27) | AG26: =SUMPRODUCT((B26:AF26="U")*($B$6:$AF$6=1))+0.5*SUMPRODUCT((B26:AF26="H")*($B$6:$AF$6=1)) | AH26: =SUMPRODUCT((B26:AF26="K")*($B$6:$AF$6=1)) | AI26: =SUMPRODUCT((B26:AF26="S")*($B$6:$AF$6=1)) | AJ26: =SUMPRODUCT((B26:AF26="ZA")*($B$6:$AF$6=1))
A27: =IF(Team!$B$28="","",Team!$B$28) | AG27: =SUMPRODUCT((B27:AF27="U")*($B$6:$AF$6=1))+0.5*SUMPRODUCT((B27:AF27="H")*($B$6:$AF$6=1)) | AH27: =SUMPRODUCT((B27:AF27="K")*($B$6:$AF$6=1)) | AI27: =SUMPRODUCT((B27:AF27="S")*($B$6:$AF$6=1)) | AJ27: =SUMPRODUCT((B27:AF27="ZA")*($B$6:$AF$6=1))
A28: =IF(Team!$B$29="","",Team!$B$29) | AG28: =SUMPRODUCT((B28:AF28="U")*($B$6:$AF$6=1))+0.5*SUMPRODUCT((B28:AF28="H")*($B$6:$AF$6=1)) | AH28: =SUMPRODUCT((B28:AF28="K")*($B$6:$AF$6=1)) | AI28: =SUMPRODUCT((B28:AF28="S")*($B$6:$AF$6=1)) | AJ28: =SUMPRODUCT((B28:AF28="ZA")*($B$6:$AF$6=1))
A29: =IF(Team!$B$30="","",Team!$B$30) | AG29: =SUMPRODUCT((B29:AF29="U")*($B$6:$AF$6=1))+0.5*SUMPRODUCT((B29:AF29="H")*($B$6:$AF$6=1)) | AH29: =SUMPRODUCT((B29:AF29="K")*($B$6:$AF$6=1)) | AI29: =SUMPRODUCT((B29:AF29="S")*($B$6:$AF$6=1)) | AJ29: =SUMPRODUCT((B29:AF29="ZA")*($B$6:$AF$6=1))
A30: =IF(Team!$B$31="","",Team!$B$31) | AG30: =SUMPRODUCT((B30:AF30="U")*($B$6:$AF$6=1))+0.5*SUMPRODUCT((B30:AF30="H")*($B$6:$AF$6=1)) | AH30: =SUMPRODUCT((B30:AF30="K")*($B$6:$AF$6=1)) | AI30: =SUMPRODUCT((B30:AF30="S")*($B$6:$AF$6=1)) | AJ30: =SUMPRODUCT((B30:AF30="ZA")*($B$6:$AF$6=1))
A31: =IF(Team!$B$32="","",Team!$B$32) | AG31: =SUMPRODUCT((B31:AF31="U")*($B$6:$AF$6=1))+0.5*SUMPRODUCT((B31:AF31="H")*($B$6:$AF$6=1)) | AH31: =SUMPRODUCT((B31:AF31="K")*($B$6:$AF$6=1)) | AI31: =SUMPRODUCT((B31:AF31="S")*($B$6:$AF$6=1)) | AJ31: =SUMPRODUCT((B31:AF31="ZA")*($B$6:$AF$6=1))
A32: Abwesend (Personen) | B32: =IF(B6<>1,"",COUNTA(B7:B31)) | C32: =IF(C6<>1,"",COUNTA(C7:C31)) | D32: =IF(D6<>1,"",COUNTA(D7:D31)) | E32: =IF(E6<>1,"",COUNTA(E7:E31)) | F32: =IF(F6<>1,"",COUNTA(F7:F31)) | G32: =IF(G6<>1,"",COUNTA(G7:G31)) | H32: =IF(H6<>1,"",COUNTA(H7:H31)) | I32: =IF(I6<>1,"",COUNTA(I7:I31)) | ... AF32: =IF(AF6<>1,"",COUNTA(AF7:AF31)) | AG32: =SUM(AG7:AG31) | AH32: =SUM(AH7:AH31) | AI32: =SUM(AI7:AI31) | AJ32: =SUM(AJ7:AJ31)

Sheet Mai
A1: =DATE(Einstellungen!$B$5,5,1)
A2: ="Kürzel in die Tageszellen eintragen. Grau: Wochenende oder gesetzlicher Feiertag in "&Einstellungen!$B$6&" (F). Urlaub, Krankheit und Zeitausgleich zählen nur an Arbeitstagen."
A3: Kürzel: | B3: U Urlaub, ganzer Tag | H3: H halber Urlaubstag | N3: K krank | T3: S Sonderurlaub | Z3: ZA Zeitausgleich | AF3: Wochenende / Feiertag
A4: Tag | B4: =DATE(Einstellungen!$B$5,5,1)+0 | C4: =DATE(Einstellungen!$B$5,5,1)+1 | D4: =DATE(Einstellungen!$B$5,5,1)+2 | E4: =DATE(Einstellungen!$B$5,5,1)+3 | F4: =DATE(Einstellungen!$B$5,5,1)+4 | G4: =DATE(Einstellungen!$B$5,5,1)+5 | H4: =DATE(Einstellungen!$B$5,5,1)+6 | I4: =DATE(Einstellungen!$B$5,5,1)+7 | J4: =DATE(Einstellungen!$B$5,5,1)+8 | K4: =DATE(Einstellungen!$B$5,5,1)+9 | L4: =DATE(Einstellungen!$B$5,5,1)+10 | M4: =DATE(Einstellungen!$B$5,5,1)+11 | N4: =DATE(Einstellungen!$B$5,5,1)+12 | O4: =DATE(Einstellungen!$B$5,5,1)+13 | P4: =DATE(Einstellungen!$B$5,5,1)+14 | Q4: =DATE(Einstellungen!$B$5,5,1)+15 | R4: =DATE(Einstellungen!$B$5,5,1)+16 | S4: =DATE(Einstellungen!$B$5,5,1)+17 | T4: =DATE(Einstellungen!$B$5,5,1)+18 | U4: =DATE(Einstellungen!$B$5,5,1)+19 | V4: =DATE(Einstellungen!$B$5,5,1)+20 | W4: =DATE(Einstellungen!$B$5,5,1)+21 | X4: =DATE(Einstellungen!$B$5,5,1)+22 | Y4: =DATE(Einstellungen!$B$5,5,1)+23 | Z4: =DATE(Einstellungen!$B$5,5,1)+24 | AA4: =DATE(Einstellungen!$B$5,5,1)+25 | AB4: =DATE(Einstellungen!$B$5,5,1)+26 | AC4: =DATE(Einstellungen!$B$5,5,1)+27 | AD4: =IF(29<=DAY(EOMONTH(DATE(Einstellungen!$B$5,5,1),0)),DATE(Einstellungen!$B$5,5,1)+28,"") | AE4: =IF(30<=DAY(EOMONTH(DATE(Einstellungen!$B$5,5,1),0)),DATE(Einstellungen!$B$5,5,1)+29,"") | AF4: =IF(31<=DAY(EOMONTH(DATE(Einstellungen!$B$5,5,1),0)),DATE(Einstellungen!$B$5,5,1)+30,"") | AG4: Urlaub | AH4: krank | AI4: Sonder-urlaub | AJ4: Zeit-ausgl.
