Workbook

Sheet Stammdaten
A1: Stammdaten
A2: Projekte mit Kunde, Budget und Stundensatz, dazu die Mitarbeitenden. Beide Listen erscheinen im Blatt „Zeiten“ als Auswahl. Jeder Projektname nur einmal.
A3: Weiß: hier eintragen | C3: Grau: wird berechnet
A5: Nr. | B5: Projekt (eindeutiger Name) | C5: Kunde | D5: Budget (Std.) | E5: Stundensatz (€) | G5: Mitarbeiter/in
A27: Die Mappe ist für bis zu 20 Projekte und 15 Personen gebaut. Abgeschlossene Projekte bleiben stehen, solange ihre Zeiten im Blatt „Zeiten“ stehen, sonst zählt die Auswertung sie als „ohne gültiges Projekt“.

Sheet Zeiten
A1: Zeiten
A2: Eine Zeile je Buchung: Datum, Person und Projekt aus der Liste, Tätigkeit, Stunden als Dezimalzahl. Kunde, Satz und Wert holt das Blatt aus den Stammdaten.
A3: Weiß: hier eintragen | C3: Grau: wird berechnet
A5: Datum | B5: Mitarbeiter/in | C5: Projekt | D5: Tätigkeit | E5: Stunden | F5: Abrechenbar | G5: Kunde | H5: Satz (€) | I5: Wert (€)
G6: =IF(C6="","",IFERROR(INDEX('Stammdaten'!$C$6:$C$25,MATCH(C6,'Stammdaten'!$B$6:$B$25,0))&"","Projekt fehlt in Stammdaten")) | H6: =IF(C6="","",IFERROR(INDEX('Stammdaten'!$E$6:$E$25,MATCH(C6,'Stammdaten'!$B$6:$B$25,0)),"")) | I6: =IF(N(E6)=0,"",IF(F6="Nein",0,ROUND(E6*N(H6),2)))
G7: =IF(C7="","",IFERROR(INDEX('Stammdaten'!$C$6:$C$25,MATCH(C7,'Stammdaten'!$B$6:$B$25,0))&"","Projekt fehlt in Stammdaten")) | H7: =IF(C7="","",IFERROR(INDEX('Stammdaten'!$E$6:$E$25,MATCH(C7,'Stammdaten'!$B$6:$B$25,0)),"")) | I7: =IF(N(E7)=0,"",IF(F7="Nein",0,ROUND(E7*N(H7),2)))
G8: =IF(C8="","",IFERROR(INDEX('Stammdaten'!$C$6:$C$25,MATCH(C8,'Stammdaten'!$B$6:$B$25,0))&"","Projekt fehlt in Stammdaten")) | H8: =IF(C8="","",IFERROR(INDEX('Stammdaten'!$E$6:$E$25,MATCH(C8,'Stammdaten'!$B$6:$B$25,0)),"")) | I8: =IF(N(E8)=0,"",IF(F8="Nein",0,ROUND(E8*N(H8),2)))
G9: =IF(C9="","",IFERROR(INDEX('Stammdaten'!$C$6:$C$25,MATCH(C9,'Stammdaten'!$B$6:$B$25,0))&"","Projekt fehlt in Stammdaten")) | H9: =IF(C9="","",IFERROR(INDEX('Stammdaten'!$E$6:$E$25,MATCH(C9,'Stammdaten'!$B$6:$B$25,0)),"")) | I9: =IF(N(E9)=0,"",IF(F9="Nein",0,ROUND(E9*N(H9),2)))
G10: =IF(C10="","",IFERROR(INDEX('Stammdaten'!$C$6:$C$25,MATCH(C10,'Stammdaten'!$B$6:$B$25,0))&"","Projekt fehlt in Stammdaten")) | H10: =IF(C10="","",IFERROR(INDEX('Stammdaten'!$E$6:$E$25,MATCH(C10,'Stammdaten'!$B$6:$B$25,0)),"")) | I10: =IF(N(E10)=0,"",IF(F10="Nein",0,ROUND(E10*N(H10),2)))
G11: =IF(C11="","",IFERROR(INDEX('Stammdaten'!$C$6:$C$25,MATCH(C11,'Stammdaten'!$B$6:$B$25,0))&"","Projekt fehlt in Stammdaten")) | H11: =IF(C11="","",IFERROR(INDEX('Stammdaten'!$E$6:$E$25,MATCH(C11,'Stammdaten'!$B$6:$B$25,0)),"")) | I11: =IF(N(E11)=0,"",IF(F11="Nein",0,ROUND(E11*N(H11),2)))
G12: =IF(C12="","",IFERROR(INDEX('Stammdaten'!$C$6:$C$25,MATCH(C12,'Stammdaten'!$B$6:$B$25,0))&"","Projekt fehlt in Stammdaten")) | H12: =IF(C12="","",IFERROR(INDEX('Stammdaten'!$E$6:$E$25,MATCH(C12,'Stammdaten'!$B$6:$B$25,0)),"")) | I12: =IF(N(E12)=0,"",IF(F12="Nein",0,ROUND(E12*N(H12),2)))
G13: =IF(C13="","",IFERROR(INDEX('Stammdaten'!$C$6:$C$25,MATCH(C13,'Stammdaten'!$B$6:$B$25,0))&"","Projekt fehlt in Stammdaten")) | H13: =IF(C13="","",IFERROR(INDEX('Stammdaten'!$E$6:$E$25,MATCH(C13,'Stammdaten'!$B$6:$B$25,0)),"")) | I13: =IF(N(E13)=0,"",IF(F13="Nein",0,ROUND(E13*N(H13),2)))
G14: =IF(C14="","",IFERROR(INDEX('Stammdaten'!$C$6:$C$25,MATCH(C14,'Stammdaten'!$B$6:$B$25,0))&"","Projekt fehlt in Stammdaten")) | H14: =IF(C14="","",IFERROR(INDEX('Stammdaten'!$E$6:$E$25,MATCH(C14,'Stammdaten'!$B$6:$B$25,0)),"")) | I14: =IF(N(E14)=0,"",IF(F14="Nein",0,ROUND(E14*N(H14),2)))
G15: =IF(C15="","",IFERROR(INDEX('Stammdaten'!$C$6:$C$25,MATCH(C15,'Stammdaten'!$B$6:$B$25,0))&"","Projekt fehlt in Stammdaten")) | H15: =IF(C15="","",IFERROR(INDEX('Stammdaten'!$E$6:$E$25,MATCH(C15,'Stammdaten'!$B$6:$B$25,0)),"")) | I15: =IF(N(E15)=0,"",IF(F15="Nein",0,ROUND(E15*N(H15),2)))
G16: =IF(C16="","",IFERROR(INDEX('Stammdaten'!$C$6:$C$25,MATCH(C16,'Stammdaten'!$B$6:$B$25,0))&"","Projekt fehlt in Stammdaten")) | H16: =IF(C16="","",IFERROR(INDEX('Stammdaten'!$E$6:$E$25,MATCH(C16,'Stammdaten'!$B$6:$B$25,0)),"")) | I16: =IF(N(E16)=0,"",IF(F16="Nein",0,ROUND(E16*N(H16),2)))
G17: =IF(C17="","",IFERROR(INDEX('Stammdaten'!$C$6:$C$25,MATCH(C17,'Stammdaten'!$B$6:$B$25,0))&"","Projekt fehlt in Stammdaten")) | H17: =IF(C17="","",IFERROR(INDEX('Stammdaten'!$E$6:$E$25,MATCH(C17,'Stammdaten'!$B$6:$B$25,0)),"")) | I17: =IF(N(E17)=0,"",IF(F17="Nein",0,ROUND(E17*N(H17),2)))
... G305: =IF(C305="","",IFERROR(INDEX('Stammdaten'!$C$6:$C$25,MATCH(C305,'Stammdaten'!$B$6:$B$25,0))&"","Projekt fehlt in Stammdaten")) | H305: =IF(C305="","",IFERROR(INDEX('Stammdaten'!$E$6:$E$25,MATCH(C305,'Stammdaten'!$B$6:$B$25,0)),"")) | I305: =IF(N(E305)=0,"",IF(F305="Nein",0,ROUND(E305*N(H305),2)))

Sheet Auswertung
A1: Auswertung
A2: Rechnet sich aus den Blättern „Zeiten“ und „Stammdaten“. Eingetragen wird hier nur der Monat, der rechts gesondert ausgewertet wird. Budget-Verbrauch ab 80 % orange, ab 100 % rot.
A3: Weiß: hier eintragen | C3: Grau: wird berechnet
A5: Monat für die rechten Spalten
A7: Projekt | B7: Kunde | C7: Stunden gesamt | D7: davon abrechenbar | E7: nicht abrechenbar | F7: Budget (Std.) | G7: Budget verbraucht | H7: Rest (Std.) | I7: Wert gesamt (€) | J7: Stunden im Monat | K7: Wert im Monat (€)
A8: =IF('Stammdaten'!$B$6="","",'Stammdaten'!$B$6) | B8: =IF($A8="","",'Stammdaten'!$C$6&"") | C8: =IF($A8="","",SUMIFS('Zeiten'!$E$6:$E$1000,'Zeiten'!$C$6:$C$1000,$A8)) | D8: =IF($A8="","",SUMIFS('Zeiten'!$E$6:$E$1000,'Zeiten'!$C$6:$C$1000,$A8,'Zeiten'!$F$6:$F$1000,"<>Nein")) | E8: =IF($A8="","",C8-D8) | F8: =IF(OR($A8="",N('Stammdaten'!$D$6)=0),"",'Stammdaten'!$D$6) | G8: =IF(F8="","",C8/F8) | H8: =IF(F8="","",F8-C8) | I8: =IF($A8="","",SUMIFS('Zeiten'!$I$6:$I$1000,'Zeiten'!$C$6:$C$1000,$A8)) | J8: =IF(AND(ISNUMBER($B$5),$A8<>""),SUMIFS('Zeiten'!$E$6:$E$1000,'Zeiten'!$C$6:$C$1000,$A8,'Zeiten'!$A$6:$A$1000,">="&$B$5,'Zeiten'!$A$6:$A$1000,"<="&EOMONTH($B$5,0)),"") | K8: =IF(AND(ISNUMBER($B$5),$A8<>""),SUMIFS('Zeiten'!$I$6:$I$1000,'Zeiten'!$C$6:$C$1000,$A8,'Zeiten'!$A$6:$A$1000,">="&$B$5,'Zeiten'!$A$6:$A$1000,"<="&EOMONTH($B$5,0)),"")
A9: =IF('Stammdaten'!$B$7="","",'Stammdaten'!$B$7) | B9: =IF($A9="","",'Stammdaten'!$C$7&"") | C9: =IF($A9="","",SUMIFS('Zeiten'!$E$6:$E$1000,'Zeiten'!$C$6:$C$1000,$A9)) | D9: =IF($A9="","",SUMIFS('Zeiten'!$E$6:$E$1000,'Zeiten'!$C$6:$C$1000,$A9,'Zeiten'!$F$6:$F$1000,"<>Nein")) | E9: =IF($A9="","",C9-D9) | F9: =IF(OR($A9="",N('Stammdaten'!$D$7)=0),"",'Stammdaten'!$D$7) | G9: =IF(F9="","",C9/F9) | H9: =IF(F9="","",F9-C9) | I9: =IF($A9="","",SUMIFS('Zeiten'!$I$6:$I$1000,'Zeiten'!$C$6:$C$1000,$A9)) | J9: =IF(AND(ISNUMBER($B$5),$A9<>""),SUMIFS('Zeiten'!$E$6:$E$1000,'Zeiten'!$C$6:$C$1000,$A9,'Zeiten'!$A$6:$A$1000,">="&$B$5,'Zeiten'!$A$6:$A$1000,"<="&EOMONTH($B$5,0)),"") | K9: =IF(AND(ISNUMBER($B$5),$A9<>""),SUMIFS('Zeiten'!$I$6:$I$1000,'Zeiten'!$C$6:$C$1000,$A9,'Zeiten'!$A$6:$A$1000,">="&$B$5,'Zeiten'!$A$6:$A$1000,"<="&EOMONTH($B$5,0)),"")
A10: =IF('Stammdaten'!$B$8="","",'Stammdaten'!$B$8) | B10: =IF($A10="","",'Stammdaten'!$C$8&"") | C10: =IF($A10="","",SUMIFS('Zeiten'!$E$6:$E$1000,'Zeiten'!$C$6:$C$1000,$A10)) | D10: =IF($A10="","",SUMIFS('Zeiten'!$E$6:$E$1000,'Zeiten'!$C$6:$C$1000,$A10,'Zeiten'!$F$6:$F$1000,"<>Nein")) | E10: =IF($A10="","",C10-D10) | F10: =IF(OR($A10="",N('Stammdaten'!$D$8)=0),"",'Stammdaten'!$D$8) | G10: =IF(F10="","",C10/F10) | H10: =IF(F10="","",F10-C10) | I10: =IF($A10="","",SUMIFS('Zeiten'!$I$6:$I$1000,'Zeiten'!$C$6:$C$1000,$A10)) | J10: =IF(AND(ISNUMBER($B$5),$A10<>""),SUMIFS('Zeiten'!$E$6:$E$1000,'Zeiten'!$C$6:$C$1000,$A10,'Zeiten'!$A$6:$A$1000,">="&$B$5,'Zeiten'!$A$6:$A$1000,"<="&EOMONTH($B$5,0)),"") | K10: =IF(AND(ISNUMBER($B$5),$A10<>""),SUMIFS('Zeiten'!$I$6:$I$1000,'Zeiten'!$C$6:$C$1000,$A10,'Zeiten'!$A$6:$A$1000,">="&$B$5,'Zeiten'!$A$6:$A$1000,"<="&EOMONTH($B$5,0)),"")
A11: =IF('Stammdaten'!$B$9="","",'Stammdaten'!$B$9) | B11: =IF($A11="","",'Stammdaten'!$C$9&"") | C11: =IF($A11="","",SUMIFS('Zeiten'!$E$6:$E$1000,'Zeiten'!$C$6:$C$1000,$A11)) | D11: =IF($A11="","",SUMIFS('Zeiten'!$E$6:$E$1000,'Zeiten'!$C$6:$C$1000,$A11,'Zeiten'!$F$6:$F$1000,"<>Nein")) | E11: =IF($A11="","",C11-D11) | F11: =IF(OR($A11="",N('Stammdaten'!$D$9)=0),"",'Stammdaten'!$D$9) | G11: =IF(F11="","",C11/F11) | H11: =IF(F11="","",F11-C11) | I11: =IF($A11="","",SUMIFS('Zeiten'!$I$6:$I$1000,'Zeiten'!$C$6:$C$1000,$A11)) | J11: =IF(AND(ISNUMBER($B$5),$A11<>""),SUMIFS('Zeiten'!$E$6:$E$1000,'Zeiten'!$C$6:$C$1000,$A11,'Zeiten'!$A$6:$A$1000,">="&$B$5,'Zeiten'!$A$6:$A$1000,"<="&EOMONTH($B$5,0)),"") | K11: =IF(AND(ISNUMBER($B$5),$A11<>""),SUMIFS('Zeiten'!$I$6:$I$1000,'Zeiten'!$C$6:$C$1000,$A11,'Zeiten'!$A$6:$A$1000,">="&$B$5,'Zeiten'!$A$6:$A$1000,"<="&EOMONTH($B$5,0)),"")
A12: =IF('Stammdaten'!$B$10="","",'Stammdaten'!$B$10) | B12: =IF($A12="","",'Stammdaten'!$C$10&"") | C12: =IF($A12="","",SUMIFS('Zeiten'!$E$6:$E$1000,'Zeiten'!$C$6:$C$1000,$A12)) | D12: =IF($A12="","",SUMIFS('Zeiten'!$E$6:$E$1000,'Zeiten'!$C$6:$C$1000,$A12,'Zeiten'!$F$6:$F$1000,"<>Nein")) | E12: =IF($A12="","",C12-D12) | F12: =IF(OR($A12="",N('Stammdaten'!$D$10)=0),"",'Stammdaten'!$D$10) | G12: =IF(F12="","",C12/F12) | H12: =IF(F12="","",F12-C12) | I12: =IF($A12="","",SUMIFS('Zeiten'!$I$6:$I$1000,'Zeiten'!$C$6:$C$1000,$A12)) | J12: =IF(AND(ISNUMBER($B$5),$A12<>""),SUMIFS('Zeiten'!$E$6:$E$1000,'Zeiten'!$C$6:$C$1000,$A12,'Zeiten'!$A$6:$A$1000,">="&$B$5,'Zeiten'!$A$6:$A$1000,"<="&EOMONTH($B$5,0)),"") | K12: =IF(AND(ISNUMBER($B$5),$A12<>""),SUMIFS('Zeiten'!$I$6:$I$1000,'Zeiten'!$C$6:$C$1000,$A12,'Zeiten'!$A$6:$A$1000,">="&$B$5,'Zeiten'!$A$6:$A$1000,"<="&EOMONTH($B$5,0)),"")
A13: =IF('Stammdaten'!$B$11="","",'Stammdaten'!$B$11) | B13: =IF($A13="","",'Stammdaten'!$C$11&"") | C13: =IF($A13="","",SUMIFS('Zeiten'!$E$6:$E$1000,'Zeiten'!$C$6:$C$1000,$A13)) | D13: =IF($A13="","",SUMIFS('Zeiten'!$E$6:$E$1000,'Zeiten'!$C$6:$C$1000,$A13,'Zeiten'!$F$6:$F$1000,"<>Nein")) | E13: =IF($A13="","",C13-D13) | F13: =IF(OR($A13="",N('Stammdaten'!$D$11)=0),"",'Stammdaten'!$D$11) | G13: =IF(F13="","",C13/F13) | H13: =IF(F13="","",F13-C13) | I13: =IF($A13="","",SUMIFS('Zeiten'!$I$6:$I$1000,'Zeiten'!$C$6:$C$1000,$A13)) | J13: =IF(AND(ISNUMBER($B$5),$A13<>""),SUMIFS('Zeiten'!$E$6:$E$1000,'Zeiten'!$C$6:$C$1000,$A13,'Zeiten'!$A$6:$A$1000,">="&$B$5,'Zeiten'!$A$6:$A$1000,"<="&EOMONTH($B$5,0)),"") | K13: =IF(AND(ISNUMBER($B$5),$A13<>""),SUMIFS('Zeiten'!$I$6:$I$1000,'Zeiten'!$C$6:$C$1000,$A13,'Zeiten'!$A$6:$A$1000,">="&$B$5,'Zeiten'!$A$6:$A$1000,"<="&EOMONTH($B$5,0)),"")
A14: =IF('Stammdaten'!$B$12="","",'Stammdaten'!$B$12) | B14: =IF($A14="","",'Stammdaten'!$C$12&"") | C14: =IF($A14="","",SUMIFS('Zeiten'!$E$6:$E$1000,'Zeiten'!$C$6:$C$1000,$A14)) | D14: =IF($A14="","",SUMIFS('Zeiten'!$E$6:$E$1000,'Zeiten'!$C$6:$C$1000,$A14,'Zeiten'!$F$6:$F$1000,"<>Nein")) | E14: =IF($A14="","",C14-D14) | F14: =IF(OR($A14="",N('Stammdaten'!$D$12)=0),"",'Stammdaten'!$D$12) | G14: =IF(F14="","",C14/F14) | H14: =IF(F14="","",F14-C14) | I14: =IF($A14="","",SUMIFS('Zeiten'!$I$6:$I$1000,'Zeiten'!$C$6:$C$1000,$A14)) | J14: =IF(AND(ISNUMBER($B$5),$A14<>""),SUMIFS('Zeiten'!$E$6:$E$1000,'Zeiten'!$C$6:$C$1000,$A14,'Zeiten'!$A$6:$A$1000,">="&$B$5,'Zeiten'!$A$6:$A$1000,"<="&EOMONTH($B$5,0)),"") | K14: =IF(AND(ISNUMBER($B$5),$A14<>""),SUMIFS('Zeiten'!$I$6:$I$1000,'Zeiten'!$C$6:$C$1000,$A14,'Zeiten'!$A$6:$A$1000,">="&$B$5,'Zeiten'!$A$6:$A$1000,"<="&EOMONTH($B$5,0)),"")
A15: =IF('Stammdaten'!$B$13="","",'Stammdaten'!$B$13) | B15: =IF($A15="","",'Stammdaten'!$C$13&"") | C15: =IF($A15="","",SUMIFS('Zeiten'!$E$6:$E$1000,'Zeiten'!$C$6:$C$1000,$A15)) | D15: =IF($A15="","",SUMIFS('Zeiten'!$E$6:$E$1000,'Zeiten'!$C$6:$C$1000,$A15,'Zeiten'!$F$6:$F$1000,"<>Nein")) | E15: =IF($A15="","",C15-D15) | F15: =IF(OR($A15="",N('Stammdaten'!$D$13)=0),"",'Stammdaten'!$D$13) | G15: =IF(F15="","",C15/F15) | H15: =IF(F15="","",F15-C15) | I15: =IF($A15="","",SUMIFS('Zeiten'!$I$6:$I$1000,'Zeiten'!$C$6:$C$1000,$A15)) | J15: =IF(AND(ISNUMBER($B$5),$A15<>""),SUMIFS('Zeiten'!$E$6:$E$1000,'Zeiten'!$C$6:$C$1000,$A15,'Zeiten'!$A$6:$A$1000,">="&$B$5,'Zeiten'!$A$6:$A$1000,"<="&EOMONTH($B$5,0)),"") | K15: =IF(AND(ISNUMBER($B$5),$A15<>""),SUMIFS('Zeiten'!$I$6:$I$1000,'Zeiten'!$C$6:$C$1000,$A15,'Zeiten'!$A$6:$A$1000,">="&$B$5,'Zeiten'!$A$6:$A$1000,"<="&EOMONTH($B$5,0)),"")
A16: =IF('Stammdaten'!$B$14="","",'Stammdaten'!$B$14) | B16: =IF($A16="","",'Stammdaten'!$C$14&"") | C16: =IF($A16="","",SUMIFS('Zeiten'!$E$6:$E$1000,'Zeiten'!$C$6:$C$1000,$A16)) | D16: =IF($A16="","",SUMIFS('Zeiten'!$E$6:$E$1000,'Zeiten'!$C$6:$C$1000,$A16,'Zeiten'!$F$6:$F$1000,"<>Nein")) | E16: =IF($A16="","",C16-D16) | F16: =IF(OR($A16="",N('Stammdaten'!$D$14)=0),"",'Stammdaten'!$D$14) | G16: =IF(F16="","",C16/F16) | H16: =IF(F16="","",F16-C16) | I16: =IF($A16="","",SUMIFS('Zeiten'!$I$6:$I$1000,'Zeiten'!$C$6:$C$1000,$A16)) | J16: =IF(AND(ISNUMBER($B$5),$A16<>""),SUMIFS('Zeiten'!$E$6:$E$1000,'Zeiten'!$C$6:$C$1000,$A16,'Zeiten'!$A$6:$A$1000,">="&$B$5,'Zeiten'!$A$6:$A$1000,"<="&EOMONTH($B$5,0)),"") | K16: =IF(AND(ISNUMBER($B$5),$A16<>""),SUMIFS('Zeiten'!$I$6:$I$1000,'Zeiten'!$C$6:$C$1000,$A16,'Zeiten'!$A$6:$A$1000,">="&$B$5,'Zeiten'!$A$6:$A$1000,"<="&EOMONTH($B$5,0)),"")
A17: =IF('Stammdaten'!$B$15="","",'Stammdaten'!$B$15) | B17: =IF($A17="","",'Stammdaten'!$C$15&"") | C17: =IF($A17="","",SUMIFS('Zeiten'!$E$6:$E$1000,'Zeiten'!$C$6:$C$1000,$A17)) | D17: =IF($A17="","",SUMIFS('Zeiten'!$E$6:$E$1000,'Zeiten'!$C$6:$C$1000,$A17,'Zeiten'!$F$6:$F$1000,"<>Nein")) | E17: =IF($A17="","",C17-D17) | F17: =IF(OR($A17="",N('Stammdaten'!$D$15)=0),"",'Stammdaten'!$D$15) | G17: =IF(F17="","",C17/F17) | H17: =IF(F17="","",F17-C17) | I17: =IF($A17="","",SUMIFS('Zeiten'!$I$6:$I$1000,'Zeiten'!$C$6:$C$1000,$A17)) | J17: =IF(AND(ISNUMBER($B$5),$A17<>""),SUMIFS('Zeiten'!$E$6:$E$1000,'Zeiten'!$C$6:$C$1000,$A17,'Zeiten'!$A$6:$A$1000,">="&$B$5,'Zeiten'!$A$6:$A$1000,"<="&EOMONTH($B$5,0)),"") | K17: =IF(AND(ISNUMBER($B$5),$A17<>""),SUMIFS('Zeiten'!$I$6:$I$1000,'Zeiten'!$C$6:$C$1000,$A17,'Zeiten'!$A$6:$A$1000,">="&$B$5,'Zeiten'!$A$6:$A$1000,"<="&EOMONTH($B$5,0)),"")
A18: =IF('Stammdaten'!$B$16="","",'Stammdaten'!$B$16) | B18: =IF($A18="","",'Stammdaten'!$C$16&"") | C18: =IF($A18="","",SUMIFS('Zeiten'!$E$6:$E$1000,'Zeiten'!$C$6:$C$1000,$A18)) | D18: =IF($A18="","",SUMIFS('Zeiten'!$E$6:$E$1000,'Zeiten'!$C$6:$C$1000,$A18,'Zeiten'!$F$6:$F$1000,"<>Nein")) | E18: =IF($A18="","",C18-D18) | F18: =IF(OR($A18="",N('Stammdaten'!$D$16)=0),"",'Stammdaten'!$D$16) | G18: =IF(F18="","",C18/F18) | H18: =IF(F18="","",F18-C18) | I18: =IF($A18="","",SUMIFS('Zeiten'!$I$6:$I$1000,'Zeiten'!$C$6:$C$1000,$A18)) | J18: =IF(AND(ISNUMBER($B$5),$A18<>""),SUMIFS('Zeiten'!$E$6:$E$1000,'Zeiten'!$C$6:$C$1000,$A18,'Zeiten'!$A$6:$A$1000,">="&$B$5,'Zeiten'!$A$6:$A$1000,"<="&EOMONTH($B$5,0)),"") | K18: =IF(AND(ISNUMBER($B$5),$A18<>""),SUMIFS('Zeiten'!$I$6:$I$1000,'Zeiten'!$C$6:$C$1000,$A18,'Zeiten'!$A$6:$A$1000,">="&$B$5,'Zeiten'!$A$6:$A$1000,"<="&EOMONTH($B$5,0)),"")
A19: =IF('Stammdaten'!$B$17="","",'Stammdaten'!$B$17) | B19: =IF($A19="","",'Stammdaten'!$C$17&"") | C19: =IF($A19="","",SUMIFS('Zeiten'!$E$6:$E$1000,'Zeiten'!$C$6:$C$1000,$A19)) | D19: =IF($A19="","",SUMIFS('Zeiten'!$E$6:$E$1000,'Zeiten'!$C$6:$C$1000,$A19,'Zeiten'!$F$6:$F$1000,"<>Nein")) | E19: =IF($A19="","",C19-D19) | F19: =IF(OR($A19="",N('Stammdaten'!$D$17)=0),"",'Stammdaten'!$D$17) | G19: =IF(F19="","",C19/F19) | H19: =IF(F19="","",F19-C19) | I19: =IF($A19="","",SUMIFS('Zeiten'!$I$6:$I$1000,'Zeiten'!$C$6:$C$1000,$A19)) | J19: =IF(AND(ISNUMBER($B$5),$A19<>""),SUMIFS('Zeiten'!$E$6:$E$1000,'Zeiten'!$C$6:$C$1000,$A19,'Zeiten'!$A$6:$A$1000,">="&$B$5,'Zeiten'!$A$6:$A$1000,"<="&EOMONTH($B$5,0)),"") | K19: =IF(AND(ISNUMBER($B$5),$A19<>""),SUMIFS('Zeiten'!$I$6:$I$1000,'Zeiten'!$C$6:$C$1000,$A19,'Zeiten'!$A$6:$A$1000,">="&$B$5,'Zeiten'!$A$6:$A$1000,"<="&EOMONTH($B$5,0)),"")
A20: =IF('Stammdaten'!$B$18="","",'Stammdaten'!$B$18) | B20: =IF($A20="","",'Stammdaten'!$C$18&"") | C20: =IF($A20="","",SUMIFS('Zeiten'!$E$6:$E$1000,'Zeiten'!$C$6:$C$1000,$A20)) | D20: =IF($A20="","",SUMIFS('Zeiten'!$E$6:$E$1000,'Zeiten'!$C$6:$C$1000,$A20,'Zeiten'!$F$6:$F$1000,"<>Nein")) | E20: =IF($A20="","",C20-D20) | F20: =IF(OR($A20="",N('Stammdaten'!$D$18)=0),"",'Stammdaten'!$D$18) | G20: =IF(F20="","",C20/F20) | H20: =IF(F20="","",F20-C20) | I20: =IF($A20="","",SUMIFS('Zeiten'!$I$6:$I$1000,'Zeiten'!$C$6:$C$1000,$A20)) | J20: =IF(AND(ISNUMBER($B$5),$A20<>""),SUMIFS('Zeiten'!$E$6:$E$1000,'Zeiten'!$C$6:$C$1000,$A20,'Zeiten'!$A$6:$A$1000,">="&$B$5,'Zeiten'!$A$6:$A$1000,"<="&EOMONTH($B$5,0)),"") | K20: =IF(AND(ISNUMBER($B$5),$A20<>""),SUMIFS('Zeiten'!$I$6:$I$1000,'Zeiten'!$C$6:$C$1000,$A20,'Zeiten'!$A$6:$A$1000,">="&$B$5,'Zeiten'!$A$6:$A$1000,"<="&EOMONTH($B$5,0)),"")
A21: =IF('Stammdaten'!$B$19="","",'Stammdaten'!$B$19) | B21: =IF($A21="","",'Stammdaten'!$C$19&"") | C21: =IF($A21="","",SUMIFS('Zeiten'!$E$6:$E$1000,'Zeiten'!$C$6:$C$1000,$A21)) | D21: =IF($A21="","",SUMIFS('Zeiten'!$E$6:$E$1000,'Zeiten'!$C$6:$C$1000,$A21,'Zeiten'!$F$6:$F$1000,"<>Nein")) | E21: =IF($A21="","",C21-D21) | F21: =IF(OR($A21="",N('Stammdaten'!$D$19)=0),"",'Stammdaten'!$D$19) | G21: =IF(F21="","",C21/F21) | H21: =IF(F21="","",F21-C21) | I21: =IF($A21="","",SUMIFS('Zeiten'!$I$6:$I$1000,'Zeiten'!$C$6:$C$1000,$A21)) | J21: =IF(AND(ISNUMBER($B$5),$A21<>""),SUMIFS('Zeiten'!$E$6:$E$1000,'Zeiten'!$C$6:$C$1000,$A21,'Zeiten'!$A$6:$A$1000,">="&$B$5,'Zeiten'!$A$6:$A$1000,"<="&EOMONTH($B$5,0)),"") | K21: =IF(AND(ISNUMBER($B$5),$A21<>""),SUMIFS('Zeiten'!$I$6:$I$1000,'Zeiten'!$C$6:$C$1000,$A21,'Zeiten'!$A$6:$A$1000,">="&$B$5,'Zeiten'!$A$6:$A$1000,"<="&EOMONTH($B$5,0)),"")
A22: =IF('Stammdaten'!$B$20="","",'Stammdaten'!$B$20) | B22: =IF($A22="","",'Stammdaten'!$C$20&"") | C22: =IF($A22="","",SUMIFS('Zeiten'!$E$6:$E$1000,'Zeiten'!$C$6:$C$1000,$A22)) | D22: =IF($A22="","",SUMIFS('Zeiten'!$E$6:$E$1000,'Zeiten'!$C$6:$C$1000,$A22,'Zeiten'!$F$6:$F$1000,"<>Nein")) | E22: =IF($A22="","",C22-D22) | F22: =IF(OR($A22="",N('Stammdaten'!$D$20)=0),"",'Stammdaten'!$D$20) | G22: =IF(F22="","",C22/F22) | H22: =IF(F22="","",F22-C22) | I22: =IF($A22="","",SUMIFS('Zeiten'!$I$6:$I$1000,'Zeiten'!$C$6:$C$1000,$A22)) | J22: =IF(AND(ISNUMBER($B$5),$A22<>""),SUMIFS('Zeiten'!$E$6:$E$1000,'Zeiten'!$C$6:$C$1000,$A22,'Zeiten'!$A$6:$A$1000,">="&$B$5,'Zeiten'!$A$6:$A$1000,"<="&EOMONTH($B$5,0)),"") | K22: =IF(AND(ISNUMBER($B$5),$A22<>""),SUMIFS('Zeiten'!$I$6:$I$1000,'Zeiten'!$C$6:$C$1000,$A22,'Zeiten'!$A$6:$A$1000,">="&$B$5,'Zeiten'!$A$6:$A$1000,"<="&EOMONTH($B$5,0)),"")
A23: =IF('Stammdaten'!$B$21="","",'Stammdaten'!$B$21) | B23: =IF($A23="","",'Stammdaten'!$C$21&"") | C23: =IF($A23="","",SUMIFS('Zeiten'!$E$6:$E$1000,'Zeiten'!$C$6:$C$1000,$A23)) | D23: =IF($A23="","",SUMIFS('Zeiten'!$E$6:$E$1000,'Zeiten'!$C$6:$C$1000,$A23,'Zeiten'!$F$6:$F$1000,"<>Nein")) | E23: =IF($A23="","",C23-D23) | F23: =IF(OR($A23="",N('Stammdaten'!$D$21)=0),"",'Stammdaten'!$D$21) | G23: =IF(F23="","",C23/F23) | H23: =IF(F23="","",F23-C23) | I23: =IF($A23="","",SUMIFS('Zeiten'!$I$6:$I$1000,'Zeiten'!$C$6:$C$1000,$A23)) | J23: =IF(AND(ISNUMBER($B$5),$A23<>""),SUMIFS('Zeiten'!$E$6:$E$1000,'Zeiten'!$C$6:$C$1000,$A23,'Zeiten'!$A$6:$A$1000,">="&$B$5,'Zeiten'!$A$6:$A$1000,"<="&EOMONTH($B$5,0)),"") | K23: =IF(AND(ISNUMBER($B$5),$A23<>""),SUMIFS('Zeiten'!$I$6:$I$1000,'Zeiten'!$C$6:$C$1000,$A23,'Zeiten'!$A$6:$A$1000,">="&$B$5,'Zeiten'!$A$6:$A$1000,"<="&EOMONTH($B$5,0)),"")
A24: =IF('Stammdaten'!$B$22="","",'Stammdaten'!$B$22) | B24: =IF($A24="","",'Stammdaten'!$C$22&"") | C24: =IF($A24="","",SUMIFS('Zeiten'!$E$6:$E$1000,'Zeiten'!$C$6:$C$1000,$A24)) | D24: =IF($A24="","",SUMIFS('Zeiten'!$E$6:$E$1000,'Zeiten'!$C$6:$C$1000,$A24,'Zeiten'!$F$6:$F$1000,"<>Nein")) | E24: =IF($A24="","",C24-D24) | F24: =IF(OR($A24="",N('Stammdaten'!$D$22)=0),"",'Stammdaten'!$D$22) | G24: =IF(F24="","",C24/F24) | H24: =IF(F24="","",F24-C24) | I24: =IF($A24="","",SUMIFS('Zeiten'!$I$6:$I$1000,'Zeiten'!$C$6:$C$1000,$A24)) | J24: =IF(AND(ISNUMBER($B$5),$A24<>""),SUMIFS('Zeiten'!$E$6:$E$1000,'Zeiten'!$C$6:$C$1000,$A24,'Zeiten'!$A$6:$A$1000,">="&$B$5,'Zeiten'!$A$6:$A$1000,"<="&EOMONTH($B$5,0)),"") | K24: =IF(AND(ISNUMBER($B$5),$A24<>""),SUMIFS('Zeiten'!$I$6:$I$1000,'Zeiten'!$C$6:$C$1000,$A24,'Zeiten'!$A$6:$A$1000,">="&$B$5,'Zeiten'!$A$6:$A$1000,"<="&EOMONTH($B$5,0)),"")
A25: =IF('Stammdaten'!$B$23="","",'Stammdaten'!$B$23) | B25: =IF($A25="","",'Stammdaten'!$C$23&"") | C25: =IF($A25="","",SUMIFS('Zeiten'!$E$6:$E$1000,'Zeiten'!$C$6:$C$1000,$A25)) | D25: =IF($A25="","",SUMIFS('Zeiten'!$E$6:$E$1000,'Zeiten'!$C$6:$C$1000,$A25,'Zeiten'!$F$6:$F$1000,"<>Nein")) | E25: =IF($A25="","",C25-D25) | F25: =IF(OR($A25="",N('Stammdaten'!$D$23)=0),"",'Stammdaten'!$D$23) | G25: =IF(F25="","",C25/F25) | H25: =IF(F25="","",F25-C25) | I25: =IF($A25="","",SUMIFS('Zeiten'!$I$6:$I$1000,'Zeiten'!$C$6:$C$1000,$A25)) | J25: =IF(AND(ISNUMBER($B$5),$A25<>""),SUMIFS('Zeiten'!$E$6:$E$1000,'Zeiten'!$C$6:$C$1000,$A25,'Zeiten'!$A$6:$A$1000,">="&$B$5,'Zeiten'!$A$6:$A$1000,"<="&EOMONTH($B$5,0)),"") | K25: =IF(AND(ISNUMBER($B$5),$A25<>""),SUMIFS('Zeiten'!$I$6:$I$1000,'Zeiten'!$C$6:$C$1000,$A25,'Zeiten'!$A$6:$A$1000,">="&$B$5,'Zeiten'!$A$6:$A$1000,"<="&EOMONTH($B$5,0)),"")
A26: =IF('Stammdaten'!$B$24="","",'Stammdaten'!$B$24) | B26: =IF($A26="","",'Stammdaten'!$C$24&"") | C26: =IF($A26="","",SUMIFS('Zeiten'!$E$6:$E$1000,'Zeiten'!$C$6:$C$1000,$A26)) | D26: =IF($A26="","",SUMIFS('Zeiten'!$E$6:$E$1000,'Zeiten'!$C$6:$C$1000,$A26,'Zeiten'!$F$6:$F$1000,"<>Nein")) | E26: =IF($A26="","",C26-D26) | F26: =IF(OR($A26="",N('Stammdaten'!$D$24)=0),"",'Stammdaten'!$D$24) | G26: =IF(F26="","",C26/F26) | H26: =IF(F26="","",F26-C26) | I26: =IF($A26="","",SUMIFS('Zeiten'!$I$6:$I$1000,'Zeiten'!$C$6:$C$1000,$A26)) | J26: =IF(AND(ISNUMBER($B$5),$A26<>""),SUMIFS('Zeiten'!$E$6:$E$1000,'Zeiten'!$C$6:$C$1000,$A26,'Zeiten'!$A$6:$A$1000,">="&$B$5,'Zeiten'!$A$6:$A$1000,"<="&EOMONTH($B$5,0)),"") | K26: =IF(AND(ISNUMBER($B$5),$A26<>""),SUMIFS('Zeiten'!$I$6:$I$1000,'Zeiten'!$C$6:$C$1000,$A26,'Zeiten'!$A$6:$A$1000,">="&$B$5,'Zeiten'!$A$6:$A$1000,"<="&EOMONTH($B$5,0)),"")
A27: =IF('Stammdaten'!$B$25="","",'Stammdaten'!$B$25) | B27: =IF($A27="","",'Stammdaten'!$C$25&"") | C27: =IF($A27="","",SUMIFS('Zeiten'!$E$6:$E$1000,'Zeiten'!$C$6:$C$1000,$A27)) | D27: =IF($A27="","",SUMIFS('Zeiten'!$E$6:$E$1000,'Zeiten'!$C$6:$C$1000,$A27,'Zeiten'!$F$6:$F$1000,"<>Nein")) | E27: =IF($A27="","",C27-D27) | F27: =IF(OR($A27="",N('Stammdaten'!$D$25)=0),"",'Stammdaten'!$D$25) | G27: =IF(F27="","",C27/F27) | H27: =IF(F27="","",F27-C27) | I27: =IF($A27="","",SUMIFS('Zeiten'!$I$6:$I$1000,'Zeiten'!$C$6:$C$1000,$A27)) | J27: =IF(AND(ISNUMBER($B$5),$A27<>""),SUMIFS('Zeiten'!$E$6:$E$1000,'Zeiten'!$C$6:$C$1000,$A27,'Zeiten'!$A$6:$A$1000,">="&$B$5,'Zeiten'!$A$6:$A$1000,"<="&EOMONTH($B$5,0)),"") | K27: =IF(AND(ISNUMBER($B$5),$A27<>""),SUMIFS('Zeiten'!$I$6:$I$1000,'Zeiten'!$C$6:$C$1000,$A27,'Zeiten'!$A$6:$A$1000,">="&$B$5,'Zeiten'!$A$6:$A$1000,"<="&EOMONTH($B$5,0)),"")
A28: Summe | C28: =SUM(C8:C27) | D28: =SUM(D8:D27) | E28: =SUM(E8:E27) | F28: =SUM(F8:F27) | I28: =SUM(I8:I27) | J28: =SUM(J8:J27) | K28: =SUM(K8:K27)
A29: Stunden ohne gültiges Projekt (sollte 0 sein) | C29: =SUM('Zeiten'!$E$6:$E$1000)-C28
A31: Mitarbeiter/in | B31: Anteil abrechenbar | C31: Stunden gesamt | D31: davon abrechenbar | E31: nicht abrechenbar | F31: Wert gesamt (€) | G31: Stunden im Monat | H31: Wert im Monat (€)
A32: =IF('Stammdaten'!$G$6="","",'Stammdaten'!$G$6) | B32: =IF(OR($A32="",N(C32)=0),"",D32/C32) | C32: =IF($A32="","",SUMIFS('Zeiten'!$E$6:$E$1000,'Zeiten'!$B$6:$B$1000,$A32)) | D32: =IF($A32="","",SUMIFS('Zeiten'!$E$6:$E$1000,'Zeiten'!$B$6:$B$1000,$A32,'Zeiten'!$F$6:$F$1000,"<>Nein")) | E32: =IF($A32="","",C32-D32) | F32: =IF($A32="","",SUMIFS('Zeiten'!$I$6:$I$1000,'Zeiten'!$B$6:$B$1000,$A32)) | G32: =IF(AND(ISNUMBER($B$5),$A32<>""),SUMIFS('Zeiten'!$E$6:$E$1000,'Zeiten'!$B$6:$B$1000,$A32,'Zeiten'!$A$6:$A$1000,">="&$B$5,'Zeiten'!$A$6:$A$1000,"<="&EOMONTH($B$5,0)),"") | H32: =IF(AND(ISNUMBER($B$5),$A32<>""),SUMIFS('Zeiten'!$I$6:$I$1000,'Zeiten'!$B$6:$B$1000,$A32,'Zeiten'!$A$6:$A$1000,">="&$B$5,'Zeiten'!$A$6:$A$1000,"<="&EOMONTH($B$5,0)),"")
A33: =IF('Stammdaten'!$G$7="","",'Stammdaten'!$G$7) | B33: =IF(OR($A33="",N(C33)=0),"",D33/C33) | C33: =IF($A33="","",SUMIFS('Zeiten'!$E$6:$E$1000,'Zeiten'!$B$6:$B$1000,$A33)) | D33: =IF($A33="","",SUMIFS('Zeiten'!$E$6:$E$1000,'Zeiten'!$B$6:$B$1000,$A33,'Zeiten'!$F$6:$F$1000,"<>Nein")) | E33: =IF($A33="","",C33-D33) | F33: =IF($A33="","",SUMIFS('Zeiten'!$I$6:$I$1000,'Zeiten'!$B$6:$B$1000,$A33)) | G33: =IF(AND(ISNUMBER($B$5),$A33<>""),SUMIFS('Zeiten'!$E$6:$E$1000,'Zeiten'!$B$6:$B$1000,$A33,'Zeiten'!$A$6:$A$1000,">="&$B$5,'Zeiten'!$A$6:$A$1000,"<="&EOMONTH($B$5,0)),"") | H33: =IF(AND(ISNUMBER($B$5),$A33<>""),SUMIFS('Zeiten'!$I$6:$I$1000,'Zeiten'!$B$6:$B$1000,$A33,'Zeiten'!$A$6:$A$1000,">="&$B$5,'Zeiten'!$A$6:$A$1000,"<="&EOMONTH($B$5,0)),"")
A34: =IF('Stammdaten'!$G$8="","",'Stammdaten'!$G$8) | B34: =IF(OR($A34="",N(C34)=0),"",D34/C34) | C34: =IF($A34="","",SUMIFS('Zeiten'!$E$6:$E$1000,'Zeiten'!$B$6:$B$1000,$A34)) | D34: =IF($A34="","",SUMIFS('Zeiten'!$E$6:$E$1000,'Zeiten'!$B$6:$B$1000,$A34,'Zeiten'!$F$6:$F$1000,"<>Nein")) | E34: =IF($A34="","",C34-D34) | F34: =IF($A34="","",SUMIFS('Zeiten'!$I$6:$I$1000,'Zeiten'!$B$6:$B$1000,$A34)) | G34: =IF(AND(ISNUMBER($B$5),$A34<>""),SUMIFS('Zeiten'!$E$6:$E$1000,'Zeiten'!$B$6:$B$1000,$A34,'Zeiten'!$A$6:$A$1000,">="&$B$5,'Zeiten'!$A$6:$A$1000,"<="&EOMONTH($B$5,0)),"") | H34: =IF(AND(ISNUMBER($B$5),$A34<>""),SUMIFS('Zeiten'!$I$6:$I$1000,'Zeiten'!$B$6:$B$1000,$A34,'Zeiten'!$A$6:$A$1000,">="&$B$5,'Zeiten'!$A$6:$A$1000,"<="&EOMONTH($B$5,0)),"")
A35: =IF('Stammdaten'!$G$9="","",'Stammdaten'!$G$9) | B35: =IF(OR($A35="",N(C35)=0),"",D35/C35) | C35: =IF($A35="","",SUMIFS('Zeiten'!$E$6:$E$1000,'Zeiten'!$B$6:$B$1000,$A35)) | D35: =IF($A35="","",SUMIFS('Zeiten'!$E$6:$E$1000,'Zeiten'!$B$6:$B$1000,$A35,'Zeiten'!$F$6:$F$1000,"<>Nein")) | E35: =IF($A35="","",C35-D35) | F35: =IF($A35="","",SUMIFS('Zeiten'!$I$6:$I$1000,'Zeiten'!$B$6:$B$1000,$A35)) | G35: =IF(AND(ISNUMBER($B$5),$A35<>""),SUMIFS('Zeiten'!$E$6:$E$1000,'Zeiten'!$B$6:$B$1000,$A35,'Zeiten'!$A$6:$A$1000,">="&$B$5,'Zeiten'!$A$6:$A$1000,"<="&EOMONTH($B$5,0)),"") | H35: =IF(AND(ISNUMBER($B$5),$A35<>""),SUMIFS('Zeiten'!$I$6:$I$1000,'Zeiten'!$B$6:$B$1000,$A35,'Zeiten'!$A$6:$A$1000,">="&$B$5,'Zeiten'!$A$6:$A$1000,"<="&EOMONTH($B$5,0)),"")
A36: =IF('Stammdaten'!$G$10="","",'Stammdaten'!$G$10) | B36: =IF(OR($A36="",N(C36)=0),"",D36/C36) | C36: =IF($A36="","",SUMIFS('Zeiten'!$E$6:$E$1000,'Zeiten'!$B$6:$B$1000,$A36)) | D36: =IF($A36="","",SUMIFS('Zeiten'!$E$6:$E$1000,'Zeiten'!$B$6:$B$1000,$A36,'Zeiten'!$F$6:$F$1000,"<>Nein")) | E36: =IF($A36="","",C36-D36) | F36: =IF($A36="","",SUMIFS('Zeiten'!$I$6:$I$1000,'Zeiten'!$B$6:$B$1000,$A36)) | G36: =IF(AND(ISNUMBER($B$5),$A36<>""),SUMIFS('Zeiten'!$E$6:$E$1000,'Zeiten'!$B$6:$B$1000,$A36,'Zeiten'!$A$6:$A$1000,">="&$B$5,'Zeiten'!$A$6:$A$1000,"<="&EOMONTH($B$5,0)),"") | H36: =IF(AND(ISNUMBER($B$5),$A36<>""),SUMIFS('Zeiten'!$I$6:$I$1000,'Zeiten'!$B$6:$B$1000,$A36,'Zeiten'!$A$6:$A$1000,">="&$B$5,'Zeiten'!$A$6:$A$1000,"<="&EOMONTH($B$5,0)),"")
A37: =IF('Stammdaten'!$G$11="","",'Stammdaten'!$G$11) | B37: =IF(OR($A37="",N(C37)=0),"",D37/C37) | C37: =IF($A37="","",SUMIFS('Zeiten'!$E$6:$E$1000,'Zeiten'!$B$6:$B$1000,$A37)) | D37: =IF($A37="","",SUMIFS('Zeiten'!$E$6:$E$1000,'Zeiten'!$B$6:$B$1000,$A37,'Zeiten'!$F$6:$F$1000,"<>Nein")) | E37: =IF($A37="","",C37-D37) | F37: =IF($A37="","",SUMIFS('Zeiten'!$I$6:$I$1000,'Zeiten'!$B$6:$B$1000,$A37)) | G37: =IF(AND(ISNUMBER($B$5),$A37<>""),SUMIFS('Zeiten'!$E$6:$E$1000,'Zeiten'!$B$6:$B$1000,$A37,'Zeiten'!$A$6:$A$1000,">="&$B$5,'Zeiten'!$A$6:$A$1000,"<="&EOMONTH($B$5,0)),"") | H37: =IF(AND(ISNUMBER($B$5),$A37<>""),SUMIFS('Zeiten'!$I$6:$I$1000,'Zeiten'!$B$6:$B$1000,$A37,'Zeiten'!$A$6:$A$1000,">="&$B$5,'Zeiten'!$A$6:$A$1000,"<="&EOMONTH($B$5,0)),"")
A38: =IF('Stammdaten'!$G$12="","",'Stammdaten'!$G$12) | B38: =IF(OR($A38="",N(C38)=0),"",D38/C38) | C38: =IF($A38="","",SUMIFS('Zeiten'!$E$6:$E$1000,'Zeiten'!$B$6:$B$1000,$A38)) | D38: =IF($A38="","",SUMIFS('Zeiten'!$E$6:$E$1000,'Zeiten'!$B$6:$B$1000,$A38,'Zeiten'!$F$6:$F$1000,"<>Nein")) | E38: =IF($A38="","",C38-D38) | F38: =IF($A38="","",SUMIFS('Zeiten'!$I$6:$I$1000,'Zeiten'!$B$6:$B$1000,$A38)) | G38: =IF(AND(ISNUMBER($B$5),$A38<>""),SUMIFS('Zeiten'!$E$6:$E$1000,'Zeiten'!$B$6:$B$1000,$A38,'Zeiten'!$A$6:$A$1000,">="&$B$5,'Zeiten'!$A$6:$A$1000,"<="&EOMONTH($B$5,0)),"") | H38: =IF(AND(ISNUMBER($B$5),$A38<>""),SUMIFS('Zeiten'!$I$6:$I$1000,'Zeiten'!$B$6:$B$1000,$A38,'Zeiten'!$A$6:$A$1000,">="&$B$5,'Zeiten'!$A$6:$A$1000,"<="&EOMONTH($B$5,0)),"")
A39: =IF('Stammdaten'!$G$13="","",'Stammdaten'!$G$13) | B39: =IF(OR($A39="",N(C39)=0),"",D39/C39) | C39: =IF($A39="","",SUMIFS('Zeiten'!$E$6:$E$1000,'Zeiten'!$B$6:$B$1000,$A39)) | D39: =IF($A39="","",SUMIFS('Zeiten'!$E$6:$E$1000,'Zeiten'!$B$6:$B$1000,$A39,'Zeiten'!$F$6:$F$1000,"<>Nein")) | E39: =IF($A39="","",C39-D39) | F39: =IF($A39="","",SUMIFS('Zeiten'!$I$6:$I$1000,'Zeiten'!$B$6:$B$1000,$A39)) | G39: =IF(AND(ISNUMBER($B$5),$A39<>""),SUMIFS('Zeiten'!$E$6:$E$1000,'Zeiten'!$B$6:$B$1000,$A39,'Zeiten'!$A$6:$A$1000,">="&$B$5,'Zeiten'!$A$6:$A$1000,"<="&EOMONTH($B$5,0)),"") | H39: =IF(AND(ISNUMBER($B$5),$A39<>""),SUMIFS('Zeiten'!$I$6:$I$1000,'Zeiten'!$B$6:$B$1000,$A39,'Zeiten'!$A$6:$A$1000,">="&$B$5,'Zeiten'!$A$6:$A$1000,"<="&EOMONTH($B$5,0)),"")
A40: =IF('Stammdaten'!$G$14="","",'Stammdaten'!$G$14) | B40: =IF(OR($A40="",N(C40)=0),"",D40/C40) | C40: =IF($A40="","",SUMIFS('Zeiten'!$E$6:$E$1000,'Zeiten'!$B$6:$B$1000,$A40)) | D40: =IF($A40="","",SUMIFS('Zeiten'!$E$6:$E$1000,'Zeiten'!$B$6:$B$1000,$A40,'Zeiten'!$F$6:$F$1000,"<>Nein")) | E40: =IF($A40="","",C40-D40) | F40: =IF($A40="","",SUMIFS('Zeiten'!$I$6:$I$1000,'Zeiten'!$B$6:$B$1000,$A40)) | G40: =IF(AND(ISNUMBER($B$5),$A40<>""),SUMIFS('Zeiten'!$E$6:$E$1000,'Zeiten'!$B$6:$B$1000,$A40,'Zeiten'!$A$6:$A$1000,">="&$B$5,'Zeiten'!$A$6:$A$1000,"<="&EOMONTH($B$5,0)),"") | H40: =IF(AND(ISNUMBER($B$5),$A40<>""),SUMIFS('Zeiten'!$I$6:$I$1000,'Zeiten'!$B$6:$B$1000,$A40,'Zeiten'!$A$6:$A$1000,">="&$B$5,'Zeiten'!$A$6:$A$1000,"<="&EOMONTH($B$5,0)),"")
A41: =IF('Stammdaten'!$G$15="","",'Stammdaten'!$G$15) | B41: =IF(OR($A41="",N(C41)=0),"",D41/C41) | C41: =IF($A41="","",SUMIFS('Zeiten'!$E$6:$E$1000,'Zeiten'!$B$6:$B$1000,$A41)) | D41: =IF($A41="","",SUMIFS('Zeiten'!$E$6:$E$1000,'Zeiten'!$B$6:$B$1000,$A41,'Zeiten'!$F$6:$F$1000,"<>Nein")) | E41: =IF($A41="","",C41-D41) | F41: =IF($A41="","",SUMIFS('Zeiten'!$I$6:$I$1000,'Zeiten'!$B$6:$B$1000,$A41)) | G41: =IF(AND(ISNUMBER($B$5),$A41<>""),SUMIFS('Zeiten'!$E$6:$E$1000,'Zeiten'!$B$6:$B$1000,$A41,'Zeiten'!$A$6:$A$1000,">="&$B$5,'Zeiten'!$A$6:$A$1000,"<="&EOMONTH($B$5,0)),"") | H41: =IF(AND(ISNUMBER($B$5),$A41<>""),SUMIFS('Zeiten'!$I$6:$I$1000,'Zeiten'!$B$6:$B$1000,$A41,'Zeiten'!$A$6:$A$1000,">="&$B$5,'Zeiten'!$A$6:$A$1000,"<="&EOMONTH($B$5,0)),"")
A42: =IF('Stammdaten'!$G$16="","",'Stammdaten'!$G$16) | B42: =IF(OR($A42="",N(C42)=0),"",D42/C42) | C42: =IF($A42="","",SUMIFS('Zeiten'!$E$6:$E$1000,'Zeiten'!$B$6:$B$1000,$A42)) | D42: =IF($A42="","",SUMIFS('Zeiten'!$E$6:$E$1000,'Zeiten'!$B$6:$B$1000,$A42,'Zeiten'!$F$6:$F$1000,"<>Nein")) | E42: =IF($A42="","",C42-D42) | F42: =IF($A42="","",SUMIFS('Zeiten'!$I$6:$I$1000,'Zeiten'!$B$6:$B$1000,$A42)) | G42: =IF(AND(ISNUMBER($B$5),$A42<>""),SUMIFS('Zeiten'!$E$6:$E$1000,'Zeiten'!$B$6:$B$1000,$A42,'Zeiten'!$A$6:$A$1000,">="&$B$5,'Zeiten'!$A$6:$A$1000,"<="&EOMONTH($B$5,0)),"") | H42: =IF(AND(ISNUMBER($B$5),$A42<>""),SUMIFS('Zeiten'!$I$6:$I$1000,'Zeiten'!$B$6:$B$1000,$A42,'Zeiten'!$A$6:$A$1000,">="&$B$5,'Zeiten'!$A$6:$A$1000,"<="&EOMONTH($B$5,0)),"")
A43: =IF('Stammdaten'!$G$17="","",'Stammdaten'!$G$17) | B43: =IF(OR($A43="",N(C43)=0),"",D43/C43) | C43: =IF($A43="","",SUMIFS('Zeiten'!$E$6:$E$1000,'Zeiten'!$B$6:$B$1000,$A43)) | D43: =IF($A43="","",SUMIFS('Zeiten'!$E$6:$E$1000,'Zeiten'!$B$6:$B$1000,$A43,'Zeiten'!$F$6:$F$1000,"<>Nein")) | E43: =IF($A43="","",C43-D43) | F43: =IF($A43="","",SUMIFS('Zeiten'!$I$6:$I$1000,'Zeiten'!$B$6:$B$1000,$A43)) | G43: =IF(AND(ISNUMBER($B$5),$A43<>""),SUMIFS('Zeiten'!$E$6:$E$1000,'Zeiten'!$B$6:$B$1000,$A43,'Zeiten'!$A$6:$A$1000,">="&$B$5,'Zeiten'!$A$6:$A$1000,"<="&EOMONTH($B$5,0)),"") | H43: =IF(AND(ISNUMBER($B$5),$A43<>""),SUMIFS('Zeiten'!$I$6:$I$1000,'Zeiten'!$B$6:$B$1000,$A43,'Zeiten'!$A$6:$A$1000,">="&$B$5,'Zeiten'!$A$6:$A$1000,"<="&EOMONTH($B$5,0)),"")
A44: =IF('Stammdaten'!$G$18="","",'Stammdaten'!$G$18) | B44: =IF(OR($A44="",N(C44)=0),"",D44/C44) | C44: =IF($A44="","",SUMIFS('Zeiten'!$E$6:$E$1000,'Zeiten'!$B$6:$B$1000,$A44)) | D44: =IF($A44="","",SUMIFS('Zeiten'!$E$6:$E$1000,'Zeiten'!$B$6:$B$1000,$A44,'Zeiten'!$F$6:$F$1000,"<>Nein")) | E44: =IF($A44="","",C44-D44) | F44: =IF($A44="","",SUMIFS('Zeiten'!$I$6:$I$1000,'Zeiten'!$B$6:$B$1000,$A44)) | G44: =IF(AND(ISNUMBER($B$5),$A44<>""),SUMIFS('Zeiten'!$E$6:$E$1000,'Zeiten'!$B$6:$B$1000,$A44,'Zeiten'!$A$6:$A$1000,">="&$B$5,'Zeiten'!$A$6:$A$1000,"<="&EOMONTH($B$5,0)),"") | H44: =IF(AND(ISNUMBER($B$5),$A44<>""),SUMIFS('Zeiten'!$I$6:$I$1000,'Zeiten'!$B$6:$B$1000,$A44,'Zeiten'!$A$6:$A$1000,">="&$B$5,'Zeiten'!$A$6:$A$1000,"<="&EOMONTH($B$5,0)),"")
A45: =IF('Stammdaten'!$G$19="","",'Stammdaten'!$G$19) | B45: =IF(OR($A45="",N(C45)=0),"",D45/C45) | C45: =IF($A45="","",SUMIFS('Zeiten'!$E$6:$E$1000,'Zeiten'!$B$6:$B$1000,$A45)) | D45: =IF($A45="","",SUMIFS('Zeiten'!$E$6:$E$1000,'Zeiten'!$B$6:$B$1000,$A45,'Zeiten'!$F$6:$F$1000,"<>Nein")) | E45: =IF($A45="","",C45-D45) | F45: =IF($A45="","",SUMIFS('Zeiten'!$I$6:$I$1000,'Zeiten'!$B$6:$B$1000,$A45)) | G45: =IF(AND(ISNUMBER($B$5),$A45<>""),SUMIFS('Zeiten'!$E$6:$E$1000,'Zeiten'!$B$6:$B$1000,$A45,'Zeiten'!$A$6:$A$1000,">="&$B$5,'Zeiten'!$A$6:$A$1000,"<="&EOMONTH($B$5,0)),"") | H45: =IF(AND(ISNUMBER($B$5),$A45<>""),SUMIFS('Zeiten'!$I$6:$I$1000,'Zeiten'!$B$6:$B$1000,$A45,'Zeiten'!$A$6:$A$1000,">="&$B$5,'Zeiten'!$A$6:$A$1000,"<="&EOMONTH($B$5,0)),"")
A46: =IF('Stammdaten'!$G$20="","",'Stammdaten'!$G$20) | B46: =IF(OR($A46="",N(C46)=0),"",D46/C46) | C46: =IF($A46="","",SUMIFS('Zeiten'!$E$6:$E$1000,'Zeiten'!$B$6:$B$1000,$A46)) | D46: =IF($A46="","",SUMIFS('Zeiten'!$E$6:$E$1000,'Zeiten'!$B$6:$B$1000,$A46,'Zeiten'!$F$6:$F$1000,"<>Nein")) | E46: =IF($A46="","",C46-D46) | F46: =IF($A46="","",SUMIFS('Zeiten'!$I$6:$I$1000,'Zeiten'!$B$6:$B$1000,$A46)) | G46: =IF(AND(ISNUMBER($B$5),$A46<>""),SUMIFS('Zeiten'!$E$6:$E$1000,'Zeiten'!$B$6:$B$1000,$A46,'Zeiten'!$A$6:$A$1000,">="&$B$5,'Zeiten'!$A$6:$A$1000,"<="&EOMONTH($B$5,0)),"") | H46: =IF(AND(ISNUMBER($B$5),$A46<>""),SUMIFS('Zeiten'!$I$6:$I$1000,'Zeiten'!$B$6:$B$1000,$A46,'Zeiten'!$A$6:$A$1000,">="&$B$5,'Zeiten'!$A$6:$A$1000,"<="&EOMONTH($B$5,0)),"")
A47: Summe | B47: =IF(N(C47)=0,"",D47/C47) | C47: =SUM(C32:C46) | D47: =SUM(D32:D46) | E47: =SUM(E32:E46) | F47: =SUM(F32:F46) | G47: =SUM(G32:G46) | H47: =SUM(H32:H46)
A49: Anteil abrechenbar = abrechenbare Stunden geteilt durch alle Stunden der Person. Wert = abrechenbare Stunden mal Stundensatz des Projekts.

Sheet Beispiel Stammdaten
A1: Stammdaten (Beispiel)
A2: Projekte mit Kunde, Budget und Stundensatz, dazu die Mitarbeitenden. Beide Listen erscheinen im Blatt „Zeiten“ als Auswahl. Jeder Projektname nur einmal.
A3: Weiß: hier eintragen | C3: Grau: wird berechnet
A5: Nr. | B5: Projekt (eindeutiger Name) | C5: Kunde | D5: Budget (Std.) | E5: Stundensatz (€) | G5: Mitarbeiter/in
A6: P-101 | B6: Controlling Bauer KG | C6: Bauer KG | D6: 60 | E6: 145 | G6: Lena Bauer
A7: P-102 | B7: Kennzahlen-Dashboard Bauer KG | C7: Bauer KG | D7: 40 | E7: 125 | G7: Jonas Hoffmann
A8: P-103 | B8: Strategieprojekt Weber GmbH | C8: Weber GmbH | D8: 80 | E8: 145 | G8: Sarah Neumann
A9: P-104 | B9: Prozessanalyse Müller AG | C9: Müller AG | D9: 44 | E9: 135
A10: P-900 | B10: Intern: Akquise und Verwaltung | C10: Müller Consulting GmbH | E10: 0
A27: Die Mappe ist für bis zu 20 Projekte und 15 Personen gebaut. Abgeschlossene Projekte bleiben stehen, solange ihre Zeiten im Blatt „Zeiten“ stehen, sonst zählt die Auswertung sie als „ohne gültiges Projekt“.

Sheet Beispiel Zeiten
A1: Zeiten (Beispiel)
A2: Eine Zeile je Buchung: Datum, Person und Projekt aus der Liste, Tätigkeit, Stunden als Dezimalzahl. Kunde, Satz und Wert holt das Blatt aus den Stammdaten.
A3: Weiß: hier eintragen | C3: Grau: wird berechnet
A5: Datum | B5: Mitarbeiter/in | C5: Projekt | D5: Tätigkeit | E5: Stunden | F5: Abrechenbar | G5: Kunde | H5: Satz (€) | I5: Wert (€)
A6: 46296 | B6: Lena Bauer | C6: Prozessanalyse Müller AG | D6: Workshop Prozessanalyse | E6: 8 | F6: Ja | G6: =IF(C6="","",IFERROR(INDEX('Beispiel Stammdaten'!$C$6:$C$25,MATCH(C6,'Beispiel Stammdaten'!$B$6:$B$25,0))&"","Projekt fehlt in Stammdaten")) | H6: =IF(C6="","",IFERROR(INDEX('Beispiel Stammdaten'!$E$6:$E$25,MATCH(C6,'Beispiel Stammdaten'!$B$6:$B$25,0)),"")) | I6: =IF(N(E6)=0,"",IF(F6="Nein",0,ROUND(E6*N(H6),2)))
A7: 46297 | B7: Lena Bauer | C7: Prozessanalyse Müller AG | D7: Protokoll, Nachbereitung | E7: 8 | F7: Ja | G7: =IF(C7="","",IFERROR(INDEX('Beispiel Stammdaten'!$C$6:$C$25,MATCH(C7,'Beispiel Stammdaten'!$B$6:$B$25,0))&"","Projekt fehlt in Stammdaten")) | H7: =IF(C7="","",IFERROR(INDEX('Beispiel Stammdaten'!$E$6:$E$25,MATCH(C7,'Beispiel Stammdaten'!$B$6:$B$25,0)),"")) | I7: =IF(N(E7)=0,"",IF(F7="Nein",0,ROUND(E7*N(H7),2)))
A8: 46300 | B8: Lena Bauer | C8: Controlling Bauer KG | D8: Konzept Controlling | E8: 8 | F8: Ja | G8: =IF(C8="","",IFERROR(INDEX('Beispiel Stammdaten'!$C$6:$C$25,MATCH(C8,'Beispiel Stammdaten'!$B$6:$B$25,0))&"","Projekt fehlt in Stammdaten")) | H8: =IF(C8="","",IFERROR(INDEX('Beispiel Stammdaten'!$E$6:$E$25,MATCH(C8,'Beispiel Stammdaten'!$B$6:$B$25,0)),"")) | I8: =IF(N(E8)=0,"",IF(F8="Nein",0,ROUND(E8*N(H8),2)))
A9: 46301 | B9: Lena Bauer | C9: Controlling Bauer KG | D9: Konzept Controlling | E9: 8 | F9: Ja | G9: =IF(C9="","",IFERROR(INDEX('Beispiel Stammdaten'!$C$6:$C$25,MATCH(C9,'Beispiel Stammdaten'!$B$6:$B$25,0))&"","Projekt fehlt in Stammdaten")) | H9: =IF(C9="","",IFERROR(INDEX('Beispiel Stammdaten'!$E$6:$E$25,MATCH(C9,'Beispiel Stammdaten'!$B$6:$B$25,0)),"")) | I9: =IF(N(E9)=0,"",IF(F9="Nein",0,ROUND(E9*N(H9),2)))
A10: 46302 | B10: Lena Bauer | C10: Controlling Bauer KG | D10: Abstimmung Geschäftsführung | E10: 8.75 | F10: Ja | G10: =IF(C10="","",IFERROR(INDEX('Beispiel Stammdaten'!$C$6:$C$25,MATCH(C10,'Beispiel Stammdaten'!$B$6:$B$25,0))&"","Projekt fehlt in Stammdaten")) | H10: =IF(C10="","",IFERROR(INDEX('Beispiel Stammdaten'!$E$6:$E$25,MATCH(C10,'Beispiel Stammdaten'!$B$6:$B$25,0)),"")) | I10: =IF(N(E10)=0,"",IF(F10="Nein",0,ROUND(E10*N(H10),2)))
A11: 46303 | B11: Lena Bauer | C11: Intern: Akquise und Verwaltung | D11: Teammeeting, Akquise | E11: 8 | F11: Nein | G11: =IF(C11="","",IFERROR(INDEX('Beispiel Stammdaten'!$C$6:$C$25,MATCH(C11,'Beispiel Stammdaten'!$B$6:$B$25,0))&"","Projekt fehlt in Stammdaten")) | H11: =IF(C11="","",IFERROR(INDEX('Beispiel Stammdaten'!$E$6:$E$25,MATCH(C11,'Beispiel Stammdaten'!$B$6:$B$25,0)),"")) | I11: =IF(N(E11)=0,"",IF(F11="Nein",0,ROUND(E11*N(H11),2)))
A12: 46303 | B12: Jonas Hoffmann | C12: Kennzahlen-Dashboard Bauer KG | D12: Datenexport Finanzbuchhaltung | E12: 3.5 | F12: Ja | G12: =IF(C12="","",IFERROR(INDEX('Beispiel Stammdaten'!$C$6:$C$25,MATCH(C12,'Beispiel Stammdaten'!$B$6:$B$25,0))&"","Projekt fehlt in Stammdaten")) | H12: =IF(C12="","",IFERROR(INDEX('Beispiel Stammdaten'!$E$6:$E$25,MATCH(C12,'Beispiel Stammdaten'!$B$6:$B$25,0)),"")) | I12: =IF(N(E12)=0,"",IF(F12="Nein",0,ROUND(E12*N(H12),2)))
A13: 46307 | B13: Lena Bauer | C13: Prozessanalyse Müller AG | D13: Workshop Sollprozess | E13: 8 | F13: Ja | G13: =IF(C13="","",IFERROR(INDEX('Beispiel Stammdaten'!$C$6:$C$25,MATCH(C13,'Beispiel Stammdaten'!$B$6:$B$25,0))&"","Projekt fehlt in Stammdaten")) | H13: =IF(C13="","",IFERROR(INDEX('Beispiel Stammdaten'!$E$6:$E$25,MATCH(C13,'Beispiel Stammdaten'!$B$6:$B$25,0)),"")) | I13: =IF(N(E13)=0,"",IF(F13="Nein",0,ROUND(E13*N(H13),2)))
A14: 46307 | B14: Jonas Hoffmann | C14: Kennzahlen-Dashboard Bauer KG | D14: Datenmodell und Berichtsvorlage | E14: 6.5 | F14: Ja | G14: =IF(C14="","",IFERROR(INDEX('Beispiel Stammdaten'!$C$6:$C$25,MATCH(C14,'Beispiel Stammdaten'!$B$6:$B$25,0))&"","Projekt fehlt in Stammdaten")) | H14: =IF(C14="","",IFERROR(INDEX('Beispiel Stammdaten'!$E$6:$E$25,MATCH(C14,'Beispiel Stammdaten'!$B$6:$B$25,0)),"")) | I14: =IF(N(E14)=0,"",IF(F14="Nein",0,ROUND(E14*N(H14),2)))
A15: 46308 | B15: Lena Bauer | C15: Prozessanalyse Müller AG | D15: Workshop Sollprozess | E15: 8 | F15: Ja | G15: =IF(C15="","",IFERROR(INDEX('Beispiel Stammdaten'!$C$6:$C$25,MATCH(C15,'Beispiel Stammdaten'!$B$6:$B$25,0))&"","Projekt fehlt in Stammdaten")) | H15: =IF(C15="","",IFERROR(INDEX('Beispiel Stammdaten'!$E$6:$E$25,MATCH(C15,'Beispiel Stammdaten'!$B$6:$B$25,0)),"")) | I15: =IF(N(E15)=0,"",IF(F15="Nein",0,ROUND(E15*N(H15),2)))
A16: 46308 | B16: Jonas Hoffmann | C16: Kennzahlen-Dashboard Bauer KG | D16: Fehler im Import behoben | E16: 1.5 | F16: Nein | G16: =IF(C16="","",IFERROR(INDEX('Beispiel Stammdaten'!$C$6:$C$25,MATCH(C16,'Beispiel Stammdaten'!$B$6:$B$25,0))&"","Projekt fehlt in Stammdaten")) | H16: =IF(C16="","",IFERROR(INDEX('Beispiel Stammdaten'!$E$6:$E$25,MATCH(C16,'Beispiel Stammdaten'!$B$6:$B$25,0)),"")) | I16: =IF(N(E16)=0,"",IF(F16="Nein",0,ROUND(E16*N(H16),2)))
A17: 46309 | B17: Lena Bauer | C17: Intern: Akquise und Verwaltung | D17: Schulung Datenschutz | E17: 8.25 | F17: Nein | G17: =IF(C17="","",IFERROR(INDEX('Beispiel Stammdaten'!$C$6:$C$25,MATCH(C17,'Beispiel Stammdaten'!$B$6:$B$25,0))&"","Projekt fehlt in Stammdaten")) | H17: =IF(C17="","",IFERROR(INDEX('Beispiel Stammdaten'!$E$6:$E$25,MATCH(C17,'Beispiel Stammdaten'!$B$6:$B$25,0)),"")) | I17: =IF(N(E17)=0,"",IF(F17="Nein",0,ROUND(E17*N(H17),2)))
... A35: 46325 | B35: Lena Bauer | C35: Prozessanalyse Müller AG | D35: Abschlusspräsentation | E35: 7.5 | F35: Ja | G35: =IF(C35="","",IFERROR(INDEX('Beispiel Stammdaten'!$C$6:$C$25,MATCH(C35,'Beispiel Stammdaten'!$B$6:$B$25,0))&"","Projekt fehlt in Stammdaten")) | H35: =IF(C35="","",IFERROR(INDEX('Beispiel Stammdaten'!$E$6:$E$25,MATCH(C35,'Beispiel Stammdaten'!$B$6:$B$25,0)),"")) | I35: =IF(N(E35)=0,"",IF(F35="Nein",0,ROUND(E35*N(H35),2)))
G36: =IF(C36="","",IFERROR(INDEX('Beispiel Stammdaten'!$C$6:$C$25,MATCH(C36,'Beispiel Stammdaten'!$B$6:$B$25,0))&"","Projekt fehlt in Stammdaten")) | H36: =IF(C36="","",IFERROR(INDEX('Beispiel Stammdaten'!$E$6:$E$25,MATCH(C36,'Beispiel Stammdaten'!$B$6:$B$25,0)),"")) | I36: =IF(N(E36)=0,"",IF(F36="Nein",0,ROUND(E36*N(H36),2)))
G37: =IF(C37="","",IFERROR(INDEX('Beispiel Stammdaten'!$C$6:$C$25,MATCH(C37,'Beispiel Stammdaten'!$B$6:$B$25,0))&"","Projekt fehlt in Stammdaten")) | H37: =IF(C37="","",IFERROR(INDEX('Beispiel Stammdaten'!$E$6:$E$25,MATCH(C37,'Beispiel Stammdaten'!$B$6:$B$25,0)),"")) | I37: =IF(N(E37)=0,"",IF(F37="Nein",0,ROUND(E37*N(H37),2)))

Sheet Beispiel Auswertung
A1: Auswertung (Beispiel)
A2: Rechnet sich aus den Blättern „Zeiten“ und „Stammdaten“. Eingetragen wird hier nur der Monat, der rechts gesondert ausgewertet wird. Budget-Verbrauch ab 80 % orange, ab 100 % rot.
A3: Weiß: hier eintragen | C3: Grau: wird berechnet
A5: Monat für die rechten Spalten | B5: 46296
A7: Projekt | B7: Kunde | C7: Stunden gesamt | D7: davon abrechenbar | E7: nicht abrechenbar | F7: Budget (Std.) | G7: Budget verbraucht | H7: Rest (Std.) | I7: Wert gesamt (€) | J7: Stunden im Monat | K7: Wert im Monat (€)
A8: =IF('Beispiel Stammdaten'!$B$6="","",'Beispiel Stammdaten'!$B$6) | B8: =IF($A8="","",'Beispiel Stammdaten'!$C$6&"") | C8: =IF($A8="","",SUMIFS('Beispiel Zeiten'!$E$6:$E$1000,'Beispiel Zeiten'!$C$6:$C$1000,$A8)) | D8: =IF($A8="","",SUMIFS('Beispiel Zeiten'!$E$6:$E$1000,'Beispiel Zeiten'!$C$6:$C$1000,$A8,'Beispiel Zeiten'!$F$6:$F$1000,"<>Nein")) | E8: =IF($A8="","",C8-D8) | F8: =IF(OR($A8="",N('Beispiel Stammdaten'!$D$6)=0),"",'Beispiel Stammdaten'!$D$6) | G8: =IF(F8="","",C8/F8) | H8: =IF(F8="","",F8-C8) | I8: =IF($A8="","",SUMIFS('Beispiel Zeiten'!$I$6:$I$1000,'Beispiel Zeiten'!$C$6:$C$1000,$A8)) | J8: =IF(AND(ISNUMBER($B$5),$A8<>""),SUMIFS('Beispiel Zeiten'!$E$6:$E$1000,'Beispiel Zeiten'!$C$6:$C$1000,$A8,'Beispiel Zeiten'!$A$6:$A$1000,">="&$B$5,'Beispiel Zeiten'!$A$6:$A$1000,"<="&EOMONTH($B$5,0)),"") | K8: =IF(AND(ISNUMBER($B$5),$A8<>""),SUMIFS('Beispiel Zeiten'!$I$6:$I$1000,'Beispiel Zeiten'!$C$6:$C$1000,$A8,'Beispiel Zeiten'!$A$6:$A$1000,">="&$B$5,'Beispiel Zeiten'!$A$6:$A$1000,"<="&EOMONTH($B$5,0)),"")
A9: =IF('Beispiel Stammdaten'!$B$7="","",'Beispiel Stammdaten'!$B$7) | B9: =IF($A9="","",'Beispiel Stammdaten'!$C$7&"") | C9: =IF($A9="","",SUMIFS('Beispiel Zeiten'!$E$6:$E$1000,'Beispiel Zeiten'!$C$6:$C$1000,$A9)) | D9: =IF($A9="","",SUMIFS('Beispiel Zeiten'!$E$6:$E$1000,'Beispiel Zeiten'!$C$6:$C$1000,$A9,'Beispiel Zeiten'!$F$6:$F$1000,"<>Nein")) | E9: =IF($A9="","",C9-D9) | F9: =IF(OR($A9="",N('Beispiel Stammdaten'!$D$7)=0),"",'Beispiel Stammdaten'!$D$7) | G9: =IF(F9="","",C9/F9) | H9: =IF(F9="","",F9-C9) | I9: =IF($A9="","",SUMIFS('Beispiel Zeiten'!$I$6:$I$1000,'Beispiel Zeiten'!$C$6:$C$1000,$A9)) | J9: =IF(AND(ISNUMBER($B$5),$A9<>""),SUMIFS('Beispiel Zeiten'!$E$6:$E$1000,'Beispiel Zeiten'!$C$6:$C$1000,$A9,'Beispiel Zeiten'!$A$6:$A$1000,">="&$B$5,'Beispiel Zeiten'!$A$6:$A$1000,"<="&EOMONTH($B$5,0)),"") | K9: =IF(AND(ISNUMBER($B$5),$A9<>""),SUMIFS('Beispiel Zeiten'!$I$6:$I$1000,'Beispiel Zeiten'!$C$6:$C$1000,$A9,'Beispiel Zeiten'!$A$6:$A$1000,">="&$B$5,'Beispiel Zeiten'!$A$6:$A$1000,"<="&EOMONTH($B$5,0)),"")
A10: =IF('Beispiel Stammdaten'!$B$8="","",'Beispiel Stammdaten'!$B$8) | B10: =IF($A10="","",'Beispiel Stammdaten'!$C$8&"") | C10: =IF($A10="","",SUMIFS('Beispiel Zeiten'!$E$6:$E$1000,'Beispiel Zeiten'!$C$6:$C$1000,$A10)) | D10: =IF($A10="","",SUMIFS('Beispiel Zeiten'!$E$6:$E$1000,'Beispiel Zeiten'!$C$6:$C$1000,$A10,'Beispiel Zeiten'!$F$6:$F$1000,"<>Nein")) | E10: =IF($A10="","",C10-D10) | F10: =IF(OR($A10="",N('Beispiel Stammdaten'!$D$8)=0),"",'Beispiel Stammdaten'!$D$8) | G10: =IF(F10="","",C10/F10) | H10: =IF(F10="","",F10-C10) | I10: =IF($A10="","",SUMIFS('Beispiel Zeiten'!$I$6:$I$1000,'Beispiel Zeiten'!$C$6:$C$1000,$A10)) | J10: =IF(AND(ISNUMBER($B$5),$A10<>""),SUMIFS('Beispiel Zeiten'!$E$6:$E$1000,'Beispiel Zeiten'!$C$6:$C$1000,$A10,'Beispiel Zeiten'!$A$6:$A$1000,">="&$B$5,'Beispiel Zeiten'!$A$6:$A$1000,"<="&EOMONTH($B$5,0)),"") | K10: =IF(AND(ISNUMBER($B$5),$A10<>""),SUMIFS('Beispiel Zeiten'!$I$6:$I$1000,'Beispiel Zeiten'!$C$6:$C$1000,$A10,'Beispiel Zeiten'!$A$6:$A$1000,">="&$B$5,'Beispiel Zeiten'!$A$6:$A$1000,"<="&EOMONTH($B$5,0)),"")
A11: =IF('Beispiel Stammdaten'!$B$9="","",'Beispiel Stammdaten'!$B$9) | B11: =IF($A11="","",'Beispiel Stammdaten'!$C$9&"") | C11: =IF($A11="","",SUMIFS('Beispiel Zeiten'!$E$6:$E$1000,'Beispiel Zeiten'!$C$6:$C$1000,$A11)) | D11: =IF($A11="","",SUMIFS('Beispiel Zeiten'!$E$6:$E$1000,'Beispiel Zeiten'!$C$6:$C$1000,$A11,'Beispiel Zeiten'!$F$6:$F$1000,"<>Nein")) | E11: =IF($A11="","",C11-D11) | F11: =IF(OR($A11="",N('Beispiel Stammdaten'!$D$9)=0),"",'Beispiel Stammdaten'!$D$9) | G11: =IF(F11="","",C11/F11) | H11: =IF(F11="","",F11-C11) | I11: =IF($A11="","",SUMIFS('Beispiel Zeiten'!$I$6:$I$1000,'Beispiel Zeiten'!$C$6:$C$1000,$A11)) | J11: =IF(AND(ISNUMBER($B$5),$A11<>""),SUMIFS('Beispiel Zeiten'!$E$6:$E$1000,'Beispiel Zeiten'!$C$6:$C$1000,$A11,'Beispiel Zeiten'!$A$6:$A$1000,">="&$B$5,'Beispiel Zeiten'!$A$6:$A$1000,"<="&EOMONTH($B$5,0)),"") | K11: =IF(AND(ISNUMBER($B$5),$A11<>""),SUMIFS('Beispiel Zeiten'!$I$6:$I$1000,'Beispiel Zeiten'!$C$6:$C$1000,$A11,'Beispiel Zeiten'!$A$6:$A$1000,">="&$B$5,'Beispiel Zeiten'!$A$6:$A$1000,"<="&EOMONTH($B$5,0)),"")
A12: =IF('Beispiel Stammdaten'!$B$10="","",'Beispiel Stammdaten'!$B$10) | B12: =IF($A12="","",'Beispiel Stammdaten'!$C$10&"") | C12: =IF($A12="","",SUMIFS('Beispiel Zeiten'!$E$6:$E$1000,'Beispiel Zeiten'!$C$6:$C$1000,$A12)) | D12: =IF($A12="","",SUMIFS('Beispiel Zeiten'!$E$6:$E$1000,'Beispiel Zeiten'!$C$6:$C$1000,$A12,'Beispiel Zeiten'!$F$6:$F$1000,"<>Nein")) | E12: =IF($A12="","",C12-D12) | F12: =IF(OR($A12="",N('Beispiel Stammdaten'!$D$10)=0),"",'Beispiel Stammdaten'!$D$10) | G12: =IF(F12="","",C12/F12) | H12: =IF(F12="","",F12-C12) | I12: =IF($A12="","",SUMIFS('Beispiel Zeiten'!$I$6:$I$1000,'Beispiel Zeiten'!$C$6:$C$1000,$A12)) | J12: =IF(AND(ISNUMBER($B$5),$A12<>""),SUMIFS('Beispiel Zeiten'!$E$6:$E$1000,'Beispiel Zeiten'!$C$6:$C$1000,$A12,'Beispiel Zeiten'!$A$6:$A$1000,">="&$B$5,'Beispiel Zeiten'!$A$6:$A$1000,"<="&EOMONTH($B$5,0)),"") | K12: =IF(AND(ISNUMBER($B$5),$A12<>""),SUMIFS('Beispiel Zeiten'!$I$6:$I$1000,'Beispiel Zeiten'!$C$6:$C$1000,$A12,'Beispiel Zeiten'!$A$6:$A$1000,">="&$B$5,'Beispiel Zeiten'!$A$6:$A$1000,"<="&EOMONTH($B$5,0)),"")
A13: =IF('Beispiel Stammdaten'!$B$11="","",'Beispiel Stammdaten'!$B$11) | B13: =IF($A13="","",'Beispiel Stammdaten'!$C$11&"") | C13: =IF($A13="","",SUMIFS('Beispiel Zeiten'!$E$6:$E$1000,'Beispiel Zeiten'!$C$6:$C$1000,$A13)) | D13: =IF($A13="","",SUMIFS('Beispiel Zeiten'!$E$6:$E$1000,'Beispiel Zeiten'!$C$6:$C$1000,$A13,'Beispiel Zeiten'!$F$6:$F$1000,"<>Nein")) | E13: =IF($A13="","",C13-D13) | F13: =IF(OR($A13="",N('Beispiel Stammdaten'!$D$11)=0),"",'Beispiel Stammdaten'!$D$11) | G13: =IF(F13="","",C13/F13) | H13: =IF(F13="","",F13-C13) | I13: =IF($A13="","",SUMIFS('Beispiel Zeiten'!$I$6:$I$1000,'Beispiel Zeiten'!$C$6:$C$1000,$A13)) | J13: =IF(AND(ISNUMBER($B$5),$A13<>""),SUMIFS('Beispiel Zeiten'!$E$6:$E$1000,'Beispiel Zeiten'!$C$6:$C$1000,$A13,'Beispiel Zeiten'!$A$6:$A$1000,">="&$B$5,'Beispiel Zeiten'!$A$6:$A$1000,"<="&EOMONTH($B$5,0)),"") | K13: =IF(AND(ISNUMBER($B$5),$A13<>""),SUMIFS('Beispiel Zeiten'!$I$6:$I$1000,'Beispiel Zeiten'!$C$6:$C$1000,$A13,'Beispiel Zeiten'!$A$6:$A$1000,">="&$B$5,'Beispiel Zeiten'!$A$6:$A$1000,"<="&EOMONTH($B$5,0)),"")
A14: =IF('Beispiel Stammdaten'!$B$12="","",'Beispiel Stammdaten'!$B$12) | B14: =IF($A14="","",'Beispiel Stammdaten'!$C$12&"") | C14: =IF($A14="","",SUMIFS('Beispiel Zeiten'!$E$6:$E$1000,'Beispiel Zeiten'!$C$6:$C$1000,$A14)) | D14: =IF($A14="","",SUMIFS('Beispiel Zeiten'!$E$6:$E$1000,'Beispiel Zeiten'!$C$6:$C$1000,$A14,'Beispiel Zeiten'!$F$6:$F$1000,"<>Nein")) | E14: =IF($A14="","",C14-D14) | F14: =IF(OR($A14="",N('Beispiel Stammdaten'!$D$12)=0),"",'Beispiel Stammdaten'!$D$12) | G14: =IF(F14="","",C14/F14) | H14: =IF(F14="","",F14-C14) | I14: =IF($A14="","",SUMIFS('Beispiel Zeiten'!$I$6:$I$1000,'Beispiel Zeiten'!$C$6:$C$1000,$A14)) | J14: =IF(AND(ISNUMBER($B$5),$A14<>""),SUMIFS('Beispiel Zeiten'!$E$6:$E$1000,'Beispiel Zeiten'!$C$6:$C$1000,$A14,'Beispiel Zeiten'!$A$6:$A$1000,">="&$B$5,'Beispiel Zeiten'!$A$6:$A$1000,"<="&EOMONTH($B$5,0)),"") | K14: =IF(AND(ISNUMBER($B$5),$A14<>""),SUMIFS('Beispiel Zeiten'!$I$6:$I$1000,'Beispiel Zeiten'!$C$6:$C$1000,$A14,'Beispiel Zeiten'!$A$6:$A$1000,">="&$B$5,'Beispiel Zeiten'!$A$6:$A$1000,"<="&EOMONTH($B$5,0)),"")
A15: =IF('Beispiel Stammdaten'!$B$13="","",'Beispiel Stammdaten'!$B$13) | B15: =IF($A15="","",'Beispiel Stammdaten'!$C$13&"") | C15: =IF($A15="","",SUMIFS('Beispiel Zeiten'!$E$6:$E$1000,'Beispiel Zeiten'!$C$6:$C$1000,$A15)) | D15: =IF($A15="","",SUMIFS('Beispiel Zeiten'!$E$6:$E$1000,'Beispiel Zeiten'!$C$6:$C$1000,$A15,'Beispiel Zeiten'!$F$6:$F$1000,"<>Nein")) | E15: =IF($A15="","",C15-D15) | F15: =IF(OR($A15="",N('Beispiel Stammdaten'!$D$13)=0),"",'Beispiel Stammdaten'!$D$13) | G15: =IF(F15="","",C15/F15) | H15: =IF(F15="","",F15-C15) | I15: =IF($A15="","",SUMIFS('Beispiel Zeiten'!$I$6:$I$1000,'Beispiel Zeiten'!$C$6:$C$1000,$A15)) | J15: =IF(AND(ISNUMBER($B$5),$A15<>""),SUMIFS('Beispiel Zeiten'!$E$6:$E$1000,'Beispiel Zeiten'!$C$6:$C$1000,$A15,'Beispiel Zeiten'!$A$6:$A$1000,">="&$B$5,'Beispiel Zeiten'!$A$6:$A$1000,"<="&EOMONTH($B$5,0)),"") | K15: =IF(AND(ISNUMBER($B$5),$A15<>""),SUMIFS('Beispiel Zeiten'!$I$6:$I$1000,'Beispiel Zeiten'!$C$6:$C$1000,$A15,'Beispiel Zeiten'!$A$6:$A$1000,">="&$B$5,'Beispiel Zeiten'!$A$6:$A$1000,"<="&EOMONTH($B$5,0)),"")
A16: =IF('Beispiel Stammdaten'!$B$14="","",'Beispiel Stammdaten'!$B$14) | B16: =IF($A16="","",'Beispiel Stammdaten'!$C$14&"") | C16: =IF($A16="","",SUMIFS('Beispiel Zeiten'!$E$6:$E$1000,'Beispiel Zeiten'!$C$6:$C$1000,$A16)) | D16: =IF($A16="","",SUMIFS('Beispiel Zeiten'!$E$6:$E$1000,'Beispiel Zeiten'!$C$6:$C$1000,$A16,'Beispiel Zeiten'!$F$6:$F$1000,"<>Nein")) | E16: =IF($A16="","",C16-D16) | F16: =IF(OR($A16="",N('Beispiel Stammdaten'!$D$14)=0),"",'Beispiel Stammdaten'!$D$14) | G16: =IF(F16="","",C16/F16) | H16: =IF(F16="","",F16-C16) | I16: =IF($A16="","",SUMIFS('Beispiel Zeiten'!$I$6:$I$1000,'Beispiel Zeiten'!$C$6:$C$1000,$A16)) | J16: =IF(AND(ISNUMBER($B$5),$A16<>""),SUMIFS('Beispiel Zeiten'!$E$6:$E$1000,'Beispiel Zeiten'!$C$6:$C$1000,$A16,'Beispiel Zeiten'!$A$6:$A$1000,">="&$B$5,'Beispiel Zeiten'!$A$6:$A$1000,"<="&EOMONTH($B$5,0)),"") | K16: =IF(AND(ISNUMBER($B$5),$A16<>""),SUMIFS('Beispiel Zeiten'!$I$6:$I$1000,'Beispiel Zeiten'!$C$6:$C$1000,$A16,'Beispiel Zeiten'!$A$6:$A$1000,">="&$B$5,'Beispiel Zeiten'!$A$6:$A$1000,"<="&EOMONTH($B$5,0)),"")
A17: =IF('Beispiel Stammdaten'!$B$15="","",'Beispiel Stammdaten'!$B$15) | B17: =IF($A17="","",'Beispiel Stammdaten'!$C$15&"") | C17: =IF($A17="","",SUMIFS('Beispiel Zeiten'!$E$6:$E$1000,'Beispiel Zeiten'!$C$6:$C$1000,$A17)) | D17: =IF($A17="","",SUMIFS('Beispiel Zeiten'!$E$6:$E$1000,'Beispiel Zeiten'!$C$6:$C$1000,$A17,'Beispiel Zeiten'!$F$6:$F$1000,"<>Nein")) | E17: =IF($A17="","",C17-D17) | F17: =IF(OR($A17="",N('Beispiel Stammdaten'!$D$15)=0),"",'Beispiel Stammdaten'!$D$15) | G17: =IF(F17="","",C17/F17) | H17: =IF(F17="","",F17-C17) | I17: =IF($A17="","",SUMIFS('Beispiel Zeiten'!$I$6:$I$1000,'Beispiel Zeiten'!$C$6:$C$1000,$A17)) | J17: =IF(AND(ISNUMBER($B$5),$A17<>""),SUMIFS('Beispiel Zeiten'!$E$6:$E$1000,'Beispiel Zeiten'!$C$6:$C$1000,$A17,'Beispiel Zeiten'!$A$6:$A$1000,">="&$B$5,'Beispiel Zeiten'!$A$6:$A$1000,"<="&EOMONTH($B$5,0)),"") | K17: =IF(AND(ISNUMBER($B$5),$A17<>""),SUMIFS('Beispiel Zeiten'!$I$6:$I$1000,'Beispiel Zeiten'!$C$6:$C$1000,$A17,'Beispiel Zeiten'!$A$6:$A$1000,">="&$B$5,'Beispiel Zeiten'!$A$6:$A$1000,"<="&EOMONTH($B$5,0)),"")
A18: =IF('Beispiel Stammdaten'!$B$16="","",'Beispiel Stammdaten'!$B$16) | B18: =IF($A18="","",'Beispiel Stammdaten'!$C$16&"") | C18: =IF($A18="","",SUMIFS('Beispiel Zeiten'!$E$6:$E$1000,'Beispiel Zeiten'!$C$6:$C$1000,$A18)) | D18: =IF($A18="","",SUMIFS('Beispiel Zeiten'!$E$6:$E$1000,'Beispiel Zeiten'!$C$6:$C$1000,$A18,'Beispiel Zeiten'!$F$6:$F$1000,"<>Nein")) | E18: =IF($A18="","",C18-D18) | F18: =IF(OR($A18="",N('Beispiel Stammdaten'!$D$16)=0),"",'Beispiel Stammdaten'!$D$16) | G18: =IF(F18="","",C18/F18) | H18: =IF(F18="","",F18-C18) | I18: =IF($A18="","",SUMIFS('Beispiel Zeiten'!$I$6:$I$1000,'Beispiel Zeiten'!$C$6:$C$1000,$A18)) | J18: =IF(AND(ISNUMBER($B$5),$A18<>""),SUMIFS('Beispiel Zeiten'!$E$6:$E$1000,'Beispiel Zeiten'!$C$6:$C$1000,$A18,'Beispiel Zeiten'!$A$6:$A$1000,">="&$B$5,'Beispiel Zeiten'!$A$6:$A$1000,"<="&EOMONTH($B$5,0)),"") | K18: =IF(AND(ISNUMBER($B$5),$A18<>""),SUMIFS('Beispiel Zeiten'!$I$6:$I$1000,'Beispiel Zeiten'!$C$6:$C$1000,$A18,'Beispiel Zeiten'!$A$6:$A$1000,">="&$B$5,'Beispiel Zeiten'!$A$6:$A$1000,"<="&EOMONTH($B$5,0)),"")
A19: =IF('Beispiel Stammdaten'!$B$17="","",'Beispiel Stammdaten'!$B$17) | B19: =IF($A19="","",'Beispiel Stammdaten'!$C$17&"") | C19: =IF($A19="","",SUMIFS('Beispiel Zeiten'!$E$6:$E$1000,'Beispiel Zeiten'!$C$6:$C$1000,$A19)) | D19: =IF($A19="","",SUMIFS('Beispiel Zeiten'!$E$6:$E$1000,'Beispiel Zeiten'!$C$6:$C$1000,$A19,'Beispiel Zeiten'!$F$6:$F$1000,"<>Nein")) | E19: =IF($A19="","",C19-D19) | F19: =IF(OR($A19="",N('Beispiel Stammdaten'!$D$17)=0),"",'Beispiel Stammdaten'!$D$17) | G19: =IF(F19="","",C19/F19) | H19: =IF(F19="","",F19-C19) | I19: =IF($A19="","",SUMIFS('Beispiel Zeiten'!$I$6:$I$1000,'Beispiel Zeiten'!$C$6:$C$1000,$A19)) | J19: =IF(AND(ISNUMBER($B$5),$A19<>""),SUMIFS('Beispiel Zeiten'!$E$6:$E$1000,'Beispiel Zeiten'!$C$6:$C$1000,$A19,'Beispiel Zeiten'!$A$6:$A$1000,">="&$B$5,'Beispiel Zeiten'!$A$6:$A$1000,"<="&EOMONTH($B$5,0)),"") | K19: =IF(AND(ISNUMBER($B$5),$A19<>""),SUMIFS('Beispiel Zeiten'!$I$6:$I$1000,'Beispiel Zeiten'!$C$6:$C$1000,$A19,'Beispiel Zeiten'!$A$6:$A$1000,">="&$B$5,'Beispiel Zeiten'!$A$6:$A$1000,"<="&EOMONTH($B$5,0)),"")
A20: =IF('Beispiel Stammdaten'!$B$18="","",'Beispiel Stammdaten'!$B$18) | B20: =IF($A20="","",'Beispiel Stammdaten'!$C$18&"") | C20: =IF($A20="","",SUMIFS('Beispiel Zeiten'!$E$6:$E$1000,'Beispiel Zeiten'!$C$6:$C$1000,$A20)) | D20: =IF($A20="","",SUMIFS('Beispiel Zeiten'!$E$6:$E$1000,'Beispiel Zeiten'!$C$6:$C$1000,$A20,'Beispiel Zeiten'!$F$6:$F$1000,"<>Nein")) | E20: =IF($A20="","",C20-D20) | F20: =IF(OR($A20="",N('Beispiel Stammdaten'!$D$18)=0),"",'Beispiel Stammdaten'!$D$18) | G20: =IF(F20="","",C20/F20) | H20: =IF(F20="","",F20-C20) | I20: =IF($A20="","",SUMIFS('Beispiel Zeiten'!$I$6:$I$1000,'Beispiel Zeiten'!$C$6:$C$1000,$A20)) | J20: =IF(AND(ISNUMBER($B$5),$A20<>""),SUMIFS('Beispiel Zeiten'!$E$6:$E$1000,'Beispiel Zeiten'!$C$6:$C$1000,$A20,'Beispiel Zeiten'!$A$6:$A$1000,">="&$B$5,'Beispiel Zeiten'!$A$6:$A$1000,"<="&EOMONTH($B$5,0)),"") | K20: =IF(AND(ISNUMBER($B$5),$A20<>""),SUMIFS('Beispiel Zeiten'!$I$6:$I$1000,'Beispiel Zeiten'!$C$6:$C$1000,$A20,'Beispiel Zeiten'!$A$6:$A$1000,">="&$B$5,'Beispiel Zeiten'!$A$6:$A$1000,"<="&EOMONTH($B$5,0)),"")
A21: =IF('Beispiel Stammdaten'!$B$19="","",'Beispiel Stammdaten'!$B$19) | B21: =IF($A21="","",'Beispiel Stammdaten'!$C$19&"") | C21: =IF($A21="","",SUMIFS('Beispiel Zeiten'!$E$6:$E$1000,'Beispiel Zeiten'!$C$6:$C$1000,$A21)) | D21: =IF($A21="","",SUMIFS('Beispiel Zeiten'!$E$6:$E$1000,'Beispiel Zeiten'!$C$6:$C$1000,$A21,'Beispiel Zeiten'!$F$6:$F$1000,"<>Nein")) | E21: =IF($A21="","",C21-D21) | F21: =IF(OR($A21="",N('Beispiel Stammdaten'!$D$19)=0),"",'Beispiel Stammdaten'!$D$19) | G21: =IF(F21="","",C21/F21) | H21: =IF(F21="","",F21-C21) | I21: =IF($A21="","",SUMIFS('Beispiel Zeiten'!$I$6:$I$1000,'Beispiel Zeiten'!$C$6:$C$1000,$A21)) | J21: =IF(AND(ISNUMBER($B$5),$A21<>""),SUMIFS('Beispiel Zeiten'!$E$6:$E$1000,'Beispiel Zeiten'!$C$6:$C$1000,$A21,'Beispiel Zeiten'!$A$6:$A$1000,">="&$B$5,'Beispiel Zeiten'!$A$6:$A$1000,"<="&EOMONTH($B$5,0)),"") | K21: =IF(AND(ISNUMBER($B$5),$A21<>""),SUMIFS('Beispiel Zeiten'!$I$6:$I$1000,'Beispiel Zeiten'!$C$6:$C$1000,$A21,'Beispiel Zeiten'!$A$6:$A$1000,">="&$B$5,'Beispiel Zeiten'!$A$6:$A$1000,"<="&EOMONTH($B$5,0)),"")
A22: =IF('Beispiel Stammdaten'!$B$20="","",'Beispiel Stammdaten'!$B$20) | B22: =IF($A22="","",'Beispiel Stammdaten'!$C$20&"") | C22: =IF($A22="","",SUMIFS('Beispiel Zeiten'!$E$6:$E$1000,'Beispiel Zeiten'!$C$6:$C$1000,$A22)) | D22: =IF($A22="","",SUMIFS('Beispiel Zeiten'!$E$6:$E$1000,'Beispiel Zeiten'!$C$6:$C$1000,$A22,'Beispiel Zeiten'!$F$6:$F$1000,"<>Nein")) | E22: =IF($A22="","",C22-D22) | F22: =IF(OR($A22="",N('Beispiel Stammdaten'!$D$20)=0),"",'Beispiel Stammdaten'!$D$20) | G22: =IF(F22="","",C22/F22) | H22: =IF(F22="","",F22-C22) | I22: =IF($A22="","",SUMIFS('Beispiel Zeiten'!$I$6:$I$1000,'Beispiel Zeiten'!$C$6:$C$1000,$A22)) | J22: =IF(AND(ISNUMBER($B$5),$A22<>""),SUMIFS('Beispiel Zeiten'!$E$6:$E$1000,'Beispiel Zeiten'!$C$6:$C$1000,$A22,'Beispiel Zeiten'!$A$6:$A$1000,">="&$B$5,'Beispiel Zeiten'!$A$6:$A$1000,"<="&EOMONTH($B$5,0)),"") | K22: =IF(AND(ISNUMBER($B$5),$A22<>""),SUMIFS('Beispiel Zeiten'!$I$6:$I$1000,'Beispiel Zeiten'!$C$6:$C$1000,$A22,'Beispiel Zeiten'!$A$6:$A$1000,">="&$B$5,'Beispiel Zeiten'!$A$6:$A$1000,"<="&EOMONTH($B$5,0)),"")
A23: =IF('Beispiel Stammdaten'!$B$21="","",'Beispiel Stammdaten'!$B$21) | B23: =IF($A23="","",'Beispiel Stammdaten'!$C$21&"") | C23: =IF($A23="","",SUMIFS('Beispiel Zeiten'!$E$6:$E$1000,'Beispiel Zeiten'!$C$6:$C$1000,$A23)) | D23: =IF($A23="","",SUMIFS('Beispiel Zeiten'!$E$6:$E$1000,'Beispiel Zeiten'!$C$6:$C$1000,$A23,'Beispiel Zeiten'!$F$6:$F$1000,"<>Nein")) | E23: =IF($A23="","",C23-D23) | F23: =IF(OR($A23="",N('Beispiel Stammdaten'!$D$21)=0),"",'Beispiel Stammdaten'!$D$21) | G23: =IF(F23="","",C23/F23) | H23: =IF(F23="","",F23-C23) | I23: =IF($A23="","",SUMIFS('Beispiel Zeiten'!$I$6:$I$1000,'Beispiel Zeiten'!$C$6:$C$1000,$A23)) | J23: =IF(AND(ISNUMBER($B$5),$A23<>""),SUMIFS('Beispiel Zeiten'!$E$6:$E$1000,'Beispiel Zeiten'!$C$6:$C$1000,$A23,'Beispiel Zeiten'!$A$6:$A$1000,">="&$B$5,'Beispiel Zeiten'!$A$6:$A$1000,"<="&EOMONTH($B$5,0)),"") | K23: =IF(AND(ISNUMBER($B$5),$A23<>""),SUMIFS('Beispiel Zeiten'!$I$6:$I$1000,'Beispiel Zeiten'!$C$6:$C$1000,$A23,'Beispiel Zeiten'!$A$6:$A$1000,">="&$B$5,'Beispiel Zeiten'!$A$6:$A$1000,"<="&EOMONTH($B$5,0)),"")
A24: =IF('Beispiel Stammdaten'!$B$22="","",'Beispiel Stammdaten'!$B$22) | B24: =IF($A24="","",'Beispiel Stammdaten'!$C$22&"") | C24: =IF($A24="","",SUMIFS('Beispiel Zeiten'!$E$6:$E$1000,'Beispiel Zeiten'!$C$6:$C$1000,$A24)) | D24: =IF($A24="","",SUMIFS('Beispiel Zeiten'!$E$6:$E$1000,'Beispiel Zeiten'!$C$6:$C$1000,$A24,'Beispiel Zeiten'!$F$6:$F$1000,"<>Nein")) | E24: =IF($A24="","",C24-D24) | F24: =IF(OR($A24="",N('Beispiel Stammdaten'!$D$22)=0),"",'Beispiel Stammdaten'!$D$22) | G24: =IF(F24="","",C24/F24) | H24: =IF(F24="","",F24-C24) | I24: =IF($A24="","",SUMIFS('Beispiel Zeiten'!$I$6:$I$1000,'Beispiel Zeiten'!$C$6:$C$1000,$A24)) | J24: =IF(AND(ISNUMBER($B$5),$A24<>""),SUMIFS('Beispiel Zeiten'!$E$6:$E$1000,'Beispiel Zeiten'!$C$6:$C$1000,$A24,'Beispiel Zeiten'!$A$6:$A$1000,">="&$B$5,'Beispiel Zeiten'!$A$6:$A$1000,"<="&EOMONTH($B$5,0)),"") | K24: =IF(AND(ISNUMBER($B$5),$A24<>""),SUMIFS('Beispiel Zeiten'!$I$6:$I$1000,'Beispiel Zeiten'!$C$6:$C$1000,$A24,'Beispiel Zeiten'!$A$6:$A$1000,">="&$B$5,'Beispiel Zeiten'!$A$6:$A$1000,"<="&EOMONTH($B$5,0)),"")
A25: =IF('Beispiel Stammdaten'!$B$23="","",'Beispiel Stammdaten'!$B$23) | B25: =IF($A25="","",'Beispiel Stammdaten'!$C$23&"") | C25: =IF($A25="","",SUMIFS('Beispiel Zeiten'!$E$6:$E$1000,'Beispiel Zeiten'!$C$6:$C$1000,$A25)) | D25: =IF($A25="","",SUMIFS('Beispiel Zeiten'!$E$6:$E$1000,'Beispiel Zeiten'!$C$6:$C$1000,$A25,'Beispiel Zeiten'!$F$6:$F$1000,"<>Nein")) | E25: =IF($A25="","",C25-D25) | F25: =IF(OR($A25="",N('Beispiel Stammdaten'!$D$23)=0),"",'Beispiel Stammdaten'!$D$23) | G25: =IF(F25="","",C25/F25) | H25: =IF(F25="","",F25-C25) | I25: =IF($A25="","",SUMIFS('Beispiel Zeiten'!$I$6:$I$1000,'Beispiel Zeiten'!$C$6:$C$1000,$A25)) | J25: =IF(AND(ISNUMBER($B$5),$A25<>""),SUMIFS('Beispiel Zeiten'!$E$6:$E$1000,'Beispiel Zeiten'!$C$6:$C$1000,$A25,'Beispiel Zeiten'!$A$6:$A$1000,">="&$B$5,'Beispiel Zeiten'!$A$6:$A$1000,"<="&EOMONTH($B$5,0)),"") | K25: =IF(AND(ISNUMBER($B$5),$A25<>""),SUMIFS('Beispiel Zeiten'!$I$6:$I$1000,'Beispiel Zeiten'!$C$6:$C$1000,$A25,'Beispiel Zeiten'!$A$6:$A$1000,">="&$B$5,'Beispiel Zeiten'!$A$6:$A$1000,"<="&EOMONTH($B$5,0)),"")
A26: =IF('Beispiel Stammdaten'!$B$24="","",'Beispiel Stammdaten'!$B$24) | B26: =IF($A26="","",'Beispiel Stammdaten'!$C$24&"") | C26: =IF($A26="","",SUMIFS('Beispiel Zeiten'!$E$6:$E$1000,'Beispiel Zeiten'!$C$6:$C$1000,$A26)) | D26: =IF($A26="","",SUMIFS('Beispiel Zeiten'!$E$6:$E$1000,'Beispiel Zeiten'!$C$6:$C$1000,$A26,'Beispiel Zeiten'!$F$6:$F$1000,"<>Nein")) | E26: =IF($A26="","",C26-D26) | F26: =IF(OR($A26="",N('Beispiel Stammdaten'!$D$24)=0),"",'Beispiel Stammdaten'!$D$24) | G26: =IF(F26="","",C26/F26) | H26: =IF(F26="","",F26-C26) | I26: =IF($A26="","",SUMIFS('Beispiel Zeiten'!$I$6:$I$1000,'Beispiel Zeiten'!$C$6:$C$1000,$A26)) | J26: =IF(AND(ISNUMBER($B$5),$A26<>""),SUMIFS('Beispiel Zeiten'!$E$6:$E$1000,'Beispiel Zeiten'!$C$6:$C$1000,$A26,'Beispiel Zeiten'!$A$6:$A$1000,">="&$B$5,'Beispiel Zeiten'!$A$6:$A$1000,"<="&EOMONTH($B$5,0)),"") | K26: =IF(AND(ISNUMBER($B$5),$A26<>""),SUMIFS('Beispiel Zeiten'!$I$6:$I$1000,'Beispiel Zeiten'!$C$6:$C$1000,$A26,'Beispiel Zeiten'!$A$6:$A$1000,">="&$B$5,'Beispiel Zeiten'!$A$6:$A$1000,"<="&EOMONTH($B$5,0)),"")
A27: =IF('Beispiel Stammdaten'!$B$25="","",'Beispiel Stammdaten'!$B$25) | B27: =IF($A27="","",'Beispiel Stammdaten'!$C$25&"") | C27: =IF($A27="","",SUMIFS('Beispiel Zeiten'!$E$6:$E$1000,'Beispiel Zeiten'!$C$6:$C$1000,$A27)) | D27: =IF($A27="","",SUMIFS('Beispiel Zeiten'!$E$6:$E$1000,'Beispiel Zeiten'!$C$6:$C$1000,$A27,'Beispiel Zeiten'!$F$6:$F$1000,"<>Nein")) | E27: =IF($A27="","",C27-D27) | F27: =IF(OR($A27="",N('Beispiel Stammdaten'!$D$25)=0),"",'Beispiel Stammdaten'!$D$25) | G27: =IF(F27="","",C27/F27) | H27: =IF(F27="","",F27-C27) | I27: =IF($A27="","",SUMIFS('Beispiel Zeiten'!$I$6:$I$1000,'Beispiel Zeiten'!$C$6:$C$1000,$A27)) | J27: =IF(AND(ISNUMBER($B$5),$A27<>""),SUMIFS('Beispiel Zeiten'!$E$6:$E$1000,'Beispiel Zeiten'!$C$6:$C$1000,$A27,'Beispiel Zeiten'!$A$6:$A$1000,">="&$B$5,'Beispiel Zeiten'!$A$6:$A$1000,"<="&EOMONTH($B$5,0)),"") | K27: =IF(AND(ISNUMBER($B$5),$A27<>""),SUMIFS('Beispiel Zeiten'!$I$6:$I$1000,'Beispiel Zeiten'!$C$6:$C$1000,$A27,'Beispiel Zeiten'!$A$6:$A$1000,">="&$B$5,'Beispiel Zeiten'!$A$6:$A$1000,"<="&EOMONTH($B$5,0)),"")
A28: Summe | C28: =SUM(C8:C27) | D28: =SUM(D8:D27) | E28: =SUM(E8:E27) | F28: =SUM(F8:F27) | I28: =SUM(I8:I27) | J28: =SUM(J8:J27) | K28: =SUM(K8:K27)
A29: Stunden ohne gültiges Projekt (sollte 0 sein) | C29: =SUM('Beispiel Zeiten'!$E$6:$E$1000)-C28
A31: Mitarbeiter/in | B31: Anteil abrechenbar | C31: Stunden gesamt | D31: davon abrechenbar | E31: nicht abrechenbar | F31: Wert gesamt (€) | G31: Stunden im Monat | H31: Wert im Monat (€)
A32: =IF('Beispiel Stammdaten'!$G$6="","",'Beispiel Stammdaten'!$G$6) | B32: =IF(OR($A32="",N(C32)=0),"",D32/C32) | C32: =IF($A32="","",SUMIFS('Beispiel Zeiten'!$E$6:$E$1000,'Beispiel Zeiten'!$B$6:$B$1000,$A32)) | D32: =IF($A32="","",SUMIFS('Beispiel Zeiten'!$E$6:$E$1000,'Beispiel Zeiten'!$B$6:$B$1000,$A32,'Beispiel Zeiten'!$F$6:$F$1000,"<>Nein")) | E32: =IF($A32="","",C32-D32) | F32: =IF($A32="","",SUMIFS('Beispiel Zeiten'!$I$6:$I$1000,'Beispiel Zeiten'!$B$6:$B$1000,$A32)) | G32: =IF(AND(ISNUMBER($B$5),$A32<>""),SUMIFS('Beispiel Zeiten'!$E$6:$E$1000,'Beispiel Zeiten'!$B$6:$B$1000,$A32,'Beispiel Zeiten'!$A$6:$A$1000,">="&$B$5,'Beispiel Zeiten'!$A$6:$A$1000,"<="&EOMONTH($B$5,0)),"") | H32: =IF(AND(ISNUMBER($B$5),$A32<>""),SUMIFS('Beispiel Zeiten'!$I$6:$I$1000,'Beispiel Zeiten'!$B$6:$B$1000,$A32,'Beispiel Zeiten'!$A$6:$A$1000,">="&$B$5,'Beispiel Zeiten'!$A$6:$A$1000,"<="&EOMONTH($B$5,0)),"")
A33: =IF('Beispiel Stammdaten'!$G$7="","",'Beispiel Stammdaten'!$G$7) | B33: =IF(OR($A33="",N(C33)=0),"",D33/C33) | C33: =IF($A33="","",SUMIFS('Beispiel Zeiten'!$E$6:$E$1000,'Beispiel Zeiten'!$B$6:$B$1000,$A33)) | D33: =IF($A33="","",SUMIFS('Beispiel Zeiten'!$E$6:$E$1000,'Beispiel Zeiten'!$B$6:$B$1000,$A33,'Beispiel Zeiten'!$F$6:$F$1000,"<>Nein")) | E33: =IF($A33="","",C33-D33) | F33: =IF($A33="","",SUMIFS('Beispiel Zeiten'!$I$6:$I$1000,'Beispiel Zeiten'!$B$6:$B$1000,$A33)) | G33: =IF(AND(ISNUMBER($B$5),$A33<>""),SUMIFS('Beispiel Zeiten'!$E$6:$E$1000,'Beispiel Zeiten'!$B$6:$B$1000,$A33,'Beispiel Zeiten'!$A$6:$A$1000,">="&$B$5,'Beispiel Zeiten'!$A$6:$A$1000,"<="&EOMONTH($B$5,0)),"") | H33: =IF(AND(ISNUMBER($B$5),$A33<>""),SUMIFS('Beispiel Zeiten'!$I$6:$I$1000,'Beispiel Zeiten'!$B$6:$B$1000,$A33,'Beispiel Zeiten'!$A$6:$A$1000,">="&$B$5,'Beispiel Zeiten'!$A$6:$A$1000,"<="&EOMONTH($B$5,0)),"")
A34: =IF('Beispiel Stammdaten'!$G$8="","",'Beispiel Stammdaten'!$G$8) | B34: =IF(OR($A34="",N(C34)=0),"",D34/C34) | C34: =IF($A34="","",SUMIFS('Beispiel Zeiten'!$E$6:$E$1000,'Beispiel Zeiten'!$B$6:$B$1000,$A34)) | D34: =IF($A34="","",SUMIFS('Beispiel Zeiten'!$E$6:$E$1000,'Beispiel Zeiten'!$B$6:$B$1000,$A34,'Beispiel Zeiten'!$F$6:$F$1000,"<>Nein")) | E34: =IF($A34="","",C34-D34) | F34: =IF($A34="","",SUMIFS('Beispiel Zeiten'!$I$6:$I$1000,'Beispiel Zeiten'!$B$6:$B$1000,$A34)) | G34: =IF(AND(ISNUMBER($B$5),$A34<>""),SUMIFS('Beispiel Zeiten'!$E$6:$E$1000,'Beispiel Zeiten'!$B$6:$B$1000,$A34,'Beispiel Zeiten'!$A$6:$A$1000,">="&$B$5,'Beispiel Zeiten'!$A$6:$A$1000,"<="&EOMONTH($B$5,0)),"") | H34: =IF(AND(ISNUMBER($B$5),$A34<>""),SUMIFS('Beispiel Zeiten'!$I$6:$I$1000,'Beispiel Zeiten'!$B$6:$B$1000,$A34,'Beispiel Zeiten'!$A$6:$A$1000,">="&$B$5,'Beispiel Zeiten'!$A$6:$A$1000,"<="&EOMONTH($B$5,0)),"")
A35: =IF('Beispiel Stammdaten'!$G$9="","",'Beispiel Stammdaten'!$G$9) | B35: =IF(OR($A35="",N(C35)=0),"",D35/C35) | C35: =IF($A35="","",SUMIFS('Beispiel Zeiten'!$E$6:$E$1000,'Beispiel Zeiten'!$B$6:$B$1000,$A35)) | D35: =IF($A35="","",SUMIFS('Beispiel Zeiten'!$E$6:$E$1000,'Beispiel Zeiten'!$B$6:$B$1000,$A35,'Beispiel Zeiten'!$F$6:$F$1000,"<>Nein")) | E35: =IF($A35="","",C35-D35) | F35: =IF($A35="","",SUMIFS('Beispiel Zeiten'!$I$6:$I$1000,'Beispiel Zeiten'!$B$6:$B$1000,$A35)) | G35: =IF(AND(ISNUMBER($B$5),$A35<>""),SUMIFS('Beispiel Zeiten'!$E$6:$E$1000,'Beispiel Zeiten'!$B$6:$B$1000,$A35,'Beispiel Zeiten'!$A$6:$A$1000,">="&$B$5,'Beispiel Zeiten'!$A$6:$A$1000,"<="&EOMONTH($B$5,0)),"") | H35: =IF(AND(ISNUMBER($B$5),$A35<>""),SUMIFS('Beispiel Zeiten'!$I$6:$I$1000,'Beispiel Zeiten'!$B$6:$B$1000,$A35,'Beispiel Zeiten'!$A$6:$A$1000,">="&$B$5,'Beispiel Zeiten'!$A$6:$A$1000,"<="&EOMONTH($B$5,0)),"")
A36: =IF('Beispiel Stammdaten'!$G$10="","",'Beispiel Stammdaten'!$G$10) | B36: =IF(OR($A36="",N(C36)=0),"",D36/C36) | C36: =IF($A36="","",SUMIFS('Beispiel Zeiten'!$E$6:$E$1000,'Beispiel Zeiten'!$B$6:$B$1000,$A36)) | D36: =IF($A36="","",SUMIFS('Beispiel Zeiten'!$E$6:$E$1000,'Beispiel Zeiten'!$B$6:$B$1000,$A36,'Beispiel Zeiten'!$F$6:$F$1000,"<>Nein")) | E36: =IF($A36="","",C36-D36) | F36: =IF($A36="","",SUMIFS('Beispiel Zeiten'!$I$6:$I$1000,'Beispiel Zeiten'!$B$6:$B$1000,$A36)) | G36: =IF(AND(ISNUMBER($B$5),$A36<>""),SUMIFS('Beispiel Zeiten'!$E$6:$E$1000,'Beispiel Zeiten'!$B$6:$B$1000,$A36,'Beispiel Zeiten'!$A$6:$A$1000,">="&$B$5,'Beispiel Zeiten'!$A$6:$A$1000,"<="&EOMONTH($B$5,0)),"") | H36: =IF(AND(ISNUMBER($B$5),$A36<>""),SUMIFS('Beispiel Zeiten'!$I$6:$I$1000,'Beispiel Zeiten'!$B$6:$B$1000,$A36,'Beispiel Zeiten'!$A$6:$A$1000,">="&$B$5,'Beispiel Zeiten'!$A$6:$A$1000,"<="&EOMONTH($B$5,0)),"")
A37: =IF('Beispiel Stammdaten'!$G$11="","",'Beispiel Stammdaten'!$G$11) | B37: =IF(OR($A37="",N(C37)=0),"",D37/C37) | C37: =IF($A37="","",SUMIFS('Beispiel Zeiten'!$E$6:$E$1000,'Beispiel Zeiten'!$B$6:$B$1000,$A37)) | D37: =IF($A37="","",SUMIFS('Beispiel Zeiten'!$E$6:$E$1000,'Beispiel Zeiten'!$B$6:$B$1000,$A37,'Beispiel Zeiten'!$F$6:$F$1000,"<>Nein")) | E37: =IF($A37="","",C37-D37) | F37: =IF($A37="","",SUMIFS('Beispiel Zeiten'!$I$6:$I$1000,'Beispiel Zeiten'!$B$6:$B$1000,$A37)) | G37: =IF(AND(ISNUMBER($B$5),$A37<>""),SUMIFS('Beispiel Zeiten'!$E$6:$E$1000,'Beispiel Zeiten'!$B$6:$B$1000,$A37,'Beispiel Zeiten'!$A$6:$A$1000,">="&$B$5,'Beispiel Zeiten'!$A$6:$A$1000,"<="&EOMONTH($B$5,0)),"") | H37: =IF(AND(ISNUMBER($B$5),$A37<>""),SUMIFS('Beispiel Zeiten'!$I$6:$I$1000,'Beispiel Zeiten'!$B$6:$B$1000,$A37,'Beispiel Zeiten'!$A$6:$A$1000,">="&$B$5,'Beispiel Zeiten'!$A$6:$A$1000,"<="&EOMONTH($B$5,0)),"")
A38: =IF('Beispiel Stammdaten'!$G$12="","",'Beispiel Stammdaten'!$G$12) | B38: =IF(OR($A38="",N(C38)=0),"",D38/C38) | C38: =IF($A38="","",SUMIFS('Beispiel Zeiten'!$E$6:$E$1000,'Beispiel Zeiten'!$B$6:$B$1000,$A38)) | D38: =IF($A38="","",SUMIFS('Beispiel Zeiten'!$E$6:$E$1000,'Beispiel Zeiten'!$B$6:$B$1000,$A38,'Beispiel Zeiten'!$F$6:$F$1000,"<>Nein")) | E38: =IF($A38="","",C38-D38) | F38: =IF($A38="","",SUMIFS('Beispiel Zeiten'!$I$6:$I$1000,'Beispiel Zeiten'!$B$6:$B$1000,$A38)) | G38: =IF(AND(ISNUMBER($B$5),$A38<>""),SUMIFS('Beispiel Zeiten'!$E$6:$E$1000,'Beispiel Zeiten'!$B$6:$B$1000,$A38,'Beispiel Zeiten'!$A$6:$A$1000,">="&$B$5,'Beispiel Zeiten'!$A$6:$A$1000,"<="&EOMONTH($B$5,0)),"") | H38: =IF(AND(ISNUMBER($B$5),$A38<>""),SUMIFS('Beispiel Zeiten'!$I$6:$I$1000,'Beispiel Zeiten'!$B$6:$B$1000,$A38,'Beispiel Zeiten'!$A$6:$A$1000,">="&$B$5,'Beispiel Zeiten'!$A$6:$A$1000,"<="&EOMONTH($B$5,0)),"")
A39: =IF('Beispiel Stammdaten'!$G$13="","",'Beispiel Stammdaten'!$G$13) | B39: =IF(OR($A39="",N(C39)=0),"",D39/C39) | C39: =IF($A39="","",SUMIFS('Beispiel Zeiten'!$E$6:$E$1000,'Beispiel Zeiten'!$B$6:$B$1000,$A39)) | D39: =IF($A39="","",SUMIFS('Beispiel Zeiten'!$E$6:$E$1000,'Beispiel Zeiten'!$B$6:$B$1000,$A39,'Beispiel Zeiten'!$F$6:$F$1000,"<>Nein")) | E39: =IF($A39="","",C39-D39) | F39: =IF($A39="","",SUMIFS('Beispiel Zeiten'!$I$6:$I$1000,'Beispiel Zeiten'!$B$6:$B$1000,$A39)) | G39: =IF(AND(ISNUMBER($B$5),$A39<>""),SUMIFS('Beispiel Zeiten'!$E$6:$E$1000,'Beispiel Zeiten'!$B$6:$B$1000,$A39,'Beispiel Zeiten'!$A$6:$A$1000,">="&$B$5,'Beispiel Zeiten'!$A$6:$A$1000,"<="&EOMONTH($B$5,0)),"") | H39: =IF(AND(ISNUMBER($B$5),$A39<>""),SUMIFS('Beispiel Zeiten'!$I$6:$I$1000,'Beispiel Zeiten'!$B$6:$B$1000,$A39,'Beispiel Zeiten'!$A$6:$A$1000,">="&$B$5,'Beispiel Zeiten'!$A$6:$A$1000,"<="&EOMONTH($B$5,0)),"")
A40: =IF('Beispiel Stammdaten'!$G$14="","",'Beispiel Stammdaten'!$G$14) | B40: =IF(OR($A40="",N(C40)=0),"",D40/C40) | C40: =IF($A40="","",SUMIFS('Beispiel Zeiten'!$E$6:$E$1000,'Beispiel Zeiten'!$B$6:$B$1000,$A40)) | D40: =IF($A40="","",SUMIFS('Beispiel Zeiten'!$E$6:$E$1000,'Beispiel Zeiten'!$B$6:$B$1000,$A40,'Beispiel Zeiten'!$F$6:$F$1000,"<>Nein")) | E40: =IF($A40="","",C40-D40) | F40: =IF($A40="","",SUMIFS('Beispiel Zeiten'!$I$6:$I$1000,'Beispiel Zeiten'!$B$6:$B$1000,$A40)) | G40: =IF(AND(ISNUMBER($B$5),$A40<>""),SUMIFS('Beispiel Zeiten'!$E$6:$E$1000,'Beispiel Zeiten'!$B$6:$B$1000,$A40,'Beispiel Zeiten'!$A$6:$A$1000,">="&$B$5,'Beispiel Zeiten'!$A$6:$A$1000,"<="&EOMONTH($B$5,0)),"") | H40: =IF(AND(ISNUMBER($B$5),$A40<>""),SUMIFS('Beispiel Zeiten'!$I$6:$I$1000,'Beispiel Zeiten'!$B$6:$B$1000,$A40,'Beispiel Zeiten'!$A$6:$A$1000,">="&$B$5,'Beispiel Zeiten'!$A$6:$A$1000,"<="&EOMONTH($B$5,0)),"")
A41: =IF('Beispiel Stammdaten'!$G$15="","",'Beispiel Stammdaten'!$G$15) | B41: =IF(OR($A41="",N(C41)=0),"",D41/C41) | C41: =IF($A41="","",SUMIFS('Beispiel Zeiten'!$E$6:$E$1000,'Beispiel Zeiten'!$B$6:$B$1000,$A41)) | D41: =IF($A41="","",SUMIFS('Beispiel Zeiten'!$E$6:$E$1000,'Beispiel Zeiten'!$B$6:$B$1000,$A41,'Beispiel Zeiten'!$F$6:$F$1000,"<>Nein")) | E41: =IF($A41="","",C41-D41) | F41: =IF($A41="","",SUMIFS('Beispiel Zeiten'!$I$6:$I$1000,'Beispiel Zeiten'!$B$6:$B$1000,$A41)) | G41: =IF(AND(ISNUMBER($B$5),$A41<>""),SUMIFS('Beispiel Zeiten'!$E$6:$E$1000,'Beispiel Zeiten'!$B$6:$B$1000,$A41,'Beispiel Zeiten'!$A$6:$A$1000,">="&$B$5,'Beispiel Zeiten'!$A$6:$A$1000,"<="&EOMONTH($B$5,0)),"") | H41: =IF(AND(ISNUMBER($B$5),$A41<>""),SUMIFS('Beispiel Zeiten'!$I$6:$I$1000,'Beispiel Zeiten'!$B$6:$B$1000,$A41,'Beispiel Zeiten'!$A$6:$A$1000,">="&$B$5,'Beispiel Zeiten'!$A$6:$A$1000,"<="&EOMONTH($B$5,0)),"")
A42: =IF('Beispiel Stammdaten'!$G$16="","",'Beispiel Stammdaten'!$G$16) | B42: =IF(OR($A42="",N(C42)=0),"",D42/C42) | C42: =IF($A42="","",SUMIFS('Beispiel Zeiten'!$E$6:$E$1000,'Beispiel Zeiten'!$B$6:$B$1000,$A42)) | D42: =IF($A42="","",SUMIFS('Beispiel Zeiten'!$E$6:$E$1000,'Beispiel Zeiten'!$B$6:$B$1000,$A42,'Beispiel Zeiten'!$F$6:$F$1000,"<>Nein")) | E42: =IF($A42="","",C42-D42) | F42: =IF($A42="","",SUMIFS('Beispiel Zeiten'!$I$6:$I$1000,'Beispiel Zeiten'!$B$6:$B$1000,$A42)) | G42: =IF(AND(ISNUMBER($B$5),$A42<>""),SUMIFS('Beispiel Zeiten'!$E$6:$E$1000,'Beispiel Zeiten'!$B$6:$B$1000,$A42,'Beispiel Zeiten'!$A$6:$A$1000,">="&$B$5,'Beispiel Zeiten'!$A$6:$A$1000,"<="&EOMONTH($B$5,0)),"") | H42: =IF(AND(ISNUMBER($B$5),$A42<>""),SUMIFS('Beispiel Zeiten'!$I$6:$I$1000,'Beispiel Zeiten'!$B$6:$B$1000,$A42,'Beispiel Zeiten'!$A$6:$A$1000,">="&$B$5,'Beispiel Zeiten'!$A$6:$A$1000,"<="&EOMONTH($B$5,0)),"")
A43: =IF('Beispiel Stammdaten'!$G$17="","",'Beispiel Stammdaten'!$G$17) | B43: =IF(OR($A43="",N(C43)=0),"",D43/C43) | C43: =IF($A43="","",SUMIFS('Beispiel Zeiten'!$E$6:$E$1000,'Beispiel Zeiten'!$B$6:$B$1000,$A43)) | D43: =IF($A43="","",SUMIFS('Beispiel Zeiten'!$E$6:$E$1000,'Beispiel Zeiten'!$B$6:$B$1000,$A43,'Beispiel Zeiten'!$F$6:$F$1000,"<>Nein")) | E43: =IF($A43="","",C43-D43) | F43: =IF($A43="","",SUMIFS('Beispiel Zeiten'!$I$6:$I$1000,'Beispiel Zeiten'!$B$6:$B$1000,$A43)) | G43: =IF(AND(ISNUMBER($B$5),$A43<>""),SUMIFS('Beispiel Zeiten'!$E$6:$E$1000,'Beispiel Zeiten'!$B$6:$B$1000,$A43,'Beispiel Zeiten'!$A$6:$A$1000,">="&$B$5,'Beispiel Zeiten'!$A$6:$A$1000,"<="&EOMONTH($B$5,0)),"") | H43: =IF(AND(ISNUMBER($B$5),$A43<>""),SUMIFS('Beispiel Zeiten'!$I$6:$I$1000,'Beispiel Zeiten'!$B$6:$B$1000,$A43,'Beispiel Zeiten'!$A$6:$A$1000,">="&$B$5,'Beispiel Zeiten'!$A$6:$A$1000,"<="&EOMONTH($B$5,0)),"")
A44: =IF('Beispiel Stammdaten'!$G$18="","",'Beispiel Stammdaten'!$G$18) | B44: =IF(OR($A44="",N(C44)=0),"",D44/C44) | C44: =IF($A44="","",SUMIFS('Beispiel Zeiten'!$E$6:$E$1000,'Beispiel Zeiten'!$B$6:$B$1000,$A44)) | D44: =IF($A44="","",SUMIFS('Beispiel Zeiten'!$E$6:$E$1000,'Beispiel Zeiten'!$B$6:$B$1000,$A44,'Beispiel Zeiten'!$F$6:$F$1000,"<>Nein")) | E44: =IF($A44="","",C44-D44) | F44: =IF($A44="","",SUMIFS('Beispiel Zeiten'!$I$6:$I$1000,'Beispiel Zeiten'!$B$6:$B$1000,$A44)) | G44: =IF(AND(ISNUMBER($B$5),$A44<>""),SUMIFS('Beispiel Zeiten'!$E$6:$E$1000,'Beispiel Zeiten'!$B$6:$B$1000,$A44,'Beispiel Zeiten'!$A$6:$A$1000,">="&$B$5,'Beispiel Zeiten'!$A$6:$A$1000,"<="&EOMONTH($B$5,0)),"") | H44: =IF(AND(ISNUMBER($B$5),$A44<>""),SUMIFS('Beispiel Zeiten'!$I$6:$I$1000,'Beispiel Zeiten'!$B$6:$B$1000,$A44,'Beispiel Zeiten'!$A$6:$A$1000,">="&$B$5,'Beispiel Zeiten'!$A$6:$A$1000,"<="&EOMONTH($B$5,0)),"")
A45: =IF('Beispiel Stammdaten'!$G$19="","",'Beispiel Stammdaten'!$G$19) | B45: =IF(OR($A45="",N(C45)=0),"",D45/C45) | C45: =IF($A45="","",SUMIFS('Beispiel Zeiten'!$E$6:$E$1000,'Beispiel Zeiten'!$B$6:$B$1000,$A45)) | D45: =IF($A45="","",SUMIFS('Beispiel Zeiten'!$E$6:$E$1000,'Beispiel Zeiten'!$B$6:$B$1000,$A45,'Beispiel Zeiten'!$F$6:$F$1000,"<>Nein")) | E45: =IF($A45="","",C45-D45) | F45: =IF($A45="","",SUMIFS('Beispiel Zeiten'!$I$6:$I$1000,'Beispiel Zeiten'!$B$6:$B$1000,$A45)) | G45: =IF(AND(ISNUMBER($B$5),$A45<>""),SUMIFS('Beispiel Zeiten'!$E$6:$E$1000,'Beispiel Zeiten'!$B$6:$B$1000,$A45,'Beispiel Zeiten'!$A$6:$A$1000,">="&$B$5,'Beispiel Zeiten'!$A$6:$A$1000,"<="&EOMONTH($B$5,0)),"") | H45: =IF(AND(ISNUMBER($B$5),$A45<>""),SUMIFS('Beispiel Zeiten'!$I$6:$I$1000,'Beispiel Zeiten'!$B$6:$B$1000,$A45,'Beispiel Zeiten'!$A$6:$A$1000,">="&$B$5,'Beispiel Zeiten'!$A$6:$A$1000,"<="&EOMONTH($B$5,0)),"")
A46: =IF('Beispiel Stammdaten'!$G$20="","",'Beispiel Stammdaten'!$G$20) | B46: =IF(OR($A46="",N(C46)=0),"",D46/C46) | C46: =IF($A46="","",SUMIFS('Beispiel Zeiten'!$E$6:$E$1000,'Beispiel Zeiten'!$B$6:$B$1000,$A46)) | D46: =IF($A46="","",SUMIFS('Beispiel Zeiten'!$E$6:$E$1000,'Beispiel Zeiten'!$B$6:$B$1000,$A46,'Beispiel Zeiten'!$F$6:$F$1000,"<>Nein")) | E46: =IF($A46="","",C46-D46) | F46: =IF($A46="","",SUMIFS('Beispiel Zeiten'!$I$6:$I$1000,'Beispiel Zeiten'!$B$6:$B$1000,$A46)) | G46: =IF(AND(ISNUMBER($B$5),$A46<>""),SUMIFS('Beispiel Zeiten'!$E$6:$E$1000,'Beispiel Zeiten'!$B$6:$B$1000,$A46,'Beispiel Zeiten'!$A$6:$A$1000,">="&$B$5,'Beispiel Zeiten'!$A$6:$A$1000,"<="&EOMONTH($B$5,0)),"") | H46: =IF(AND(ISNUMBER($B$5),$A46<>""),SUMIFS('Beispiel Zeiten'!$I$6:$I$1000,'Beispiel Zeiten'!$B$6:$B$1000,$A46,'Beispiel Zeiten'!$A$6:$A$1000,">="&$B$5,'Beispiel Zeiten'!$A$6:$A$1000,"<="&EOMONTH($B$5,0)),"")
A47: Summe | B47: =IF(N(C47)=0,"",D47/C47) | C47: =SUM(C32:C46) | D47: =SUM(D32:D46) | E47: =SUM(E32:E46) | F47: =SUM(F32:F46) | G47: =SUM(G32:G46) | H47: =SUM(H32:H46)
A49: Anteil abrechenbar = abrechenbare Stunden geteilt durch alle Stunden der Person. Wert = abrechenbare Stunden mal Stundensatz des Projekts.

Sheet Anleitung
B1: So nutzen Sie die Projektzeiterfassung
B2: Eine Mappe für ein Team und einen längeren Zeitraum, etwa ein Jahr. Die drei Blätter „Beispiel …“ zeigen dieselbe Mappe nach einem Monat mit drei Personen und fünf Projekten. Sie können sie löschen, wenn Sie sie nicht mehr brauchen.
B4: Einrichten
B5: 1. Im Blatt „Stammdaten“ je Projekt Nummer, einen eindeutigen Namen, den Kunden, das Budget in Stunden und den Stundensatz eintragen. Interne Projekte bekommen den Satz 0 und kein Budget.
B6: 2. Rechts die Namen der Mitarbeitenden eintragen.
B8: Buchen
B9: 1. Im Blatt „Zeiten“ je Buchung Datum, Person und Projekt aus der Liste wählen, die Tätigkeit beschreiben und die Stunden als Dezimalzahl eintragen (8,75 = 8 Stunden 45 Minuten).
B10: 2. Unter „Abrechenbar“ Nein wählen für interne Zeiten, Nacharbeit oder Kulanz. Leer oder Ja zählt als abrechenbar.
B11: 3. Kunde, Satz und Wert holt das Blatt selbst. Steht in der Spalte Kunde „Projekt fehlt in Stammdaten“, ist der Projektname anders geschrieben als in den Stammdaten.
B12: 4. Für mehr als 300 Buchungen die letzte Zeile nach unten kopieren. Die Auswertung zählt bis Zeile 1000 mit.
B14: Auswerten
B15: Je Projekt: Stunden gesamt, abrechenbar, nicht abrechenbar, Budget, Verbrauch in Prozent, Reststunden und Wert (abrechenbare Stunden × Satz). Ab 80 % Verbrauch orange, ab 100 % rot.
... B29: Stand Oktober 2026. Die Vorlage wurde sorgfältig erstellt, ersetzt aber keine Rechts- oder Steuerberatung. Angaben ohne Gewähr. Frei verwendbar und anpassbar, auch im Unternehmen. Herausgeber: 5 POINT AG, Rheinstraße 40-42, 64283 Darmstadt.
