Workbook

Sheet Projektplan
A1: Projektplan
A2: Je Zeile eine Phase, Aufgabe oder einen Meilenstein mit Start und Ende eintragen. Dauer in Arbeitstagen und die Balken im Zeitplan rechts entstehen von selbst.
A3: Weiß: hier eintragen | C3: Grau: wird berechnet
A5: Projekt | C5: Auftraggeber | E5: Projektstart | G5: Bundesland (für Feiertage)
L6: Phase | Q6: Aufgabe | W6: erledigter Teil (Fortschritt)
A7: Projektleitung | C7: Stand am (Stichtag) | E7: Ende laut Plan | G7: Fortschritt gesamt
E8: =IF(COUNT(E13:F44)=0,"",MAX(E13:F44)) | G8: =IFERROR(SUMPRODUCT(--(C13:C44="Phase"),G13:G44,H13:H44)/SUMIFS(G13:G44,C13:C44,"Phase"),IFERROR(SUMPRODUCT(--(C13:C44<>"Phase"),--(C13:C44<>"Meilenstein"),G13:G44,H13:H44)/SUMPRODUCT(--(C13:C44<>"Phase"),--(C13:C44<>"Meilenstein"),G13:G44),"")) | K8: ◆ | L8: Meilenstein | Q8: Woche des Stichtags | W8: Status rot: Ende überschritten, nicht fertig
A10: Nr. | B10: Phase / Aufgabe / Meilenstein | C10: Typ | D10: Verantwortlich | E10: Start | F10: Ende | G10: Dauer (Arbeits- tage) | H10: Fort- schritt | I10: Status | J10: Zeitplan: Kalenderwoche und Montag der Woche
J11: =IF(ISNUMBER(J12),_xlfn.ISOWEEKNUM(J12),"") | K11: =IF(ISNUMBER(K12),_xlfn.ISOWEEKNUM(K12),"") | L11: =IF(ISNUMBER(L12),_xlfn.ISOWEEKNUM(L12),"") | M11: =IF(ISNUMBER(M12),_xlfn.ISOWEEKNUM(M12),"") | N11: =IF(ISNUMBER(N12),_xlfn.ISOWEEKNUM(N12),"") | O11: =IF(ISNUMBER(O12),_xlfn.ISOWEEKNUM(O12),"") | P11: =IF(ISNUMBER(P12),_xlfn.ISOWEEKNUM(P12),"") | Q11: =IF(ISNUMBER(Q12),_xlfn.ISOWEEKNUM(Q12),"") | ... AI11: =IF(ISNUMBER(AI12),_xlfn.ISOWEEKNUM(AI12),"")
J12: =IF(ISNUMBER($E$6),$E$6-WEEKDAY($E$6,2)+1,IF(COUNT($E$13:$E$44)=0,"",MIN($E$13:$E$44)-WEEKDAY(MIN($E$13:$E$44),2)+1)) | K12: =IF(ISNUMBER(J12),J12+7,"") | L12: =IF(ISNUMBER(K12),K12+7,"") | M12: =IF(ISNUMBER(L12),L12+7,"") | N12: =IF(ISNUMBER(M12),M12+7,"") | O12: =IF(ISNUMBER(N12),N12+7,"") | P12: =IF(ISNUMBER(O12),O12+7,"") | Q12: =IF(ISNUMBER(P12),P12+7,"") | R12: =IF(ISNUMBER(Q12),Q12+7,"") | ... AI12: =IF(ISNUMBER(AH12),AH12+7,"")
G13: =IF(NOT(ISNUMBER(E13)),"",IF(C13="Meilenstein",0,NETWORKDAYS(E13,IF(ISNUMBER(F13),F13,E13),Feiertage!$H$2:$H$120))) | J13: =IF($C13="Meilenstein",IF(ISNUMBER($E13)*ISNUMBER(J$12),IF(AND($E13>=J$12,$E13<J$12+7),"◆",""),""),"") | K13: =IF($C13="Meilenstein",IF(ISNUMBER($E13)*ISNUMBER(K$12),IF(AND($E13>=K$12,$E13<K$12+7),"◆",""),""),"") | L13: =IF($C13="Meilenstein",IF(ISNUMBER($E13)*ISNUMBER(L$12),IF(AND($E13>=L$12,$E13<L$12+7),"◆",""),""),"") | M13: =IF($C13="Meilenstein",IF(ISNUMBER($E13)*ISNUMBER(M$12),IF(AND($E13>=M$12,$E13<M$12+7),"◆",""),""),"") | N13: =IF($C13="Meilenstein",IF(ISNUMBER($E13)*ISNUMBER(N$12),IF(AND($E13>=N$12,$E13<N$12+7),"◆",""),""),"") | O13: =IF($C13="Meilenstein",IF(ISNUMBER($E13)*ISNUMBER(O$12),IF(AND($E13>=O$12,$E13<O$12+7),"◆",""),""),"") | P13: =IF($C13="Meilenstein",IF(ISNUMBER($E13)*ISNUMBER(P$12),IF(AND($E13>=P$12,$E13<P$12+7),"◆",""),""),"") | Q13: =IF($C13="Meilenstein",IF(ISNUMBER($E13)*ISNUMBER(Q$12),IF(AND($E13>=Q$12,$E13<Q$12+7),"◆",""),""),"") | ... AI13: =IF($C13="Meilenstein",IF(ISNUMBER($E13)*ISNUMBER(AI$12),IF(AND($E13>=AI$12,$E13<AI$12+7),"◆",""),""),"")
G14: =IF(NOT(ISNUMBER(E14)),"",IF(C14="Meilenstein",0,NETWORKDAYS(E14,IF(ISNUMBER(F14),F14,E14),Feiertage!$H$2:$H$120))) | J14: =IF($C14="Meilenstein",IF(ISNUMBER($E14)*ISNUMBER(J$12),IF(AND($E14>=J$12,$E14<J$12+7),"◆",""),""),"") | K14: =IF($C14="Meilenstein",IF(ISNUMBER($E14)*ISNUMBER(K$12),IF(AND($E14>=K$12,$E14<K$12+7),"◆",""),""),"") | L14: =IF($C14="Meilenstein",IF(ISNUMBER($E14)*ISNUMBER(L$12),IF(AND($E14>=L$12,$E14<L$12+7),"◆",""),""),"") | M14: =IF($C14="Meilenstein",IF(ISNUMBER($E14)*ISNUMBER(M$12),IF(AND($E14>=M$12,$E14<M$12+7),"◆",""),""),"") | N14: =IF($C14="Meilenstein",IF(ISNUMBER($E14)*ISNUMBER(N$12),IF(AND($E14>=N$12,$E14<N$12+7),"◆",""),""),"") | O14: =IF($C14="Meilenstein",IF(ISNUMBER($E14)*ISNUMBER(O$12),IF(AND($E14>=O$12,$E14<O$12+7),"◆",""),""),"") | P14: =IF($C14="Meilenstein",IF(ISNUMBER($E14)*ISNUMBER(P$12),IF(AND($E14>=P$12,$E14<P$12+7),"◆",""),""),"") | Q14: =IF($C14="Meilenstein",IF(ISNUMBER($E14)*ISNUMBER(Q$12),IF(AND($E14>=Q$12,$E14<Q$12+7),"◆",""),""),"") | ... AI14: =IF($C14="Meilenstein",IF(ISNUMBER($E14)*ISNUMBER(AI$12),IF(AND($E14>=AI$12,$E14<AI$12+7),"◆",""),""),"")
G15: =IF(NOT(ISNUMBER(E15)),"",IF(C15="Meilenstein",0,NETWORKDAYS(E15,IF(ISNUMBER(F15),F15,E15),Feiertage!$H$2:$H$120))) | J15: =IF($C15="Meilenstein",IF(ISNUMBER($E15)*ISNUMBER(J$12),IF(AND($E15>=J$12,$E15<J$12+7),"◆",""),""),"") | K15: =IF($C15="Meilenstein",IF(ISNUMBER($E15)*ISNUMBER(K$12),IF(AND($E15>=K$12,$E15<K$12+7),"◆",""),""),"") | L15: =IF($C15="Meilenstein",IF(ISNUMBER($E15)*ISNUMBER(L$12),IF(AND($E15>=L$12,$E15<L$12+7),"◆",""),""),"") | M15: =IF($C15="Meilenstein",IF(ISNUMBER($E15)*ISNUMBER(M$12),IF(AND($E15>=M$12,$E15<M$12+7),"◆",""),""),"") | N15: =IF($C15="Meilenstein",IF(ISNUMBER($E15)*ISNUMBER(N$12),IF(AND($E15>=N$12,$E15<N$12+7),"◆",""),""),"") | O15: =IF($C15="Meilenstein",IF(ISNUMBER($E15)*ISNUMBER(O$12),IF(AND($E15>=O$12,$E15<O$12+7),"◆",""),""),"") | P15: =IF($C15="Meilenstein",IF(ISNUMBER($E15)*ISNUMBER(P$12),IF(AND($E15>=P$12,$E15<P$12+7),"◆",""),""),"") | Q15: =IF($C15="Meilenstein",IF(ISNUMBER($E15)*ISNUMBER(Q$12),IF(AND($E15>=Q$12,$E15<Q$12+7),"◆",""),""),"") | ... AI15: =IF($C15="Meilenstein",IF(ISNUMBER($E15)*ISNUMBER(AI$12),IF(AND($E15>=AI$12,$E15<AI$12+7),"◆",""),""),"")
G16: =IF(NOT(ISNUMBER(E16)),"",IF(C16="Meilenstein",0,NETWORKDAYS(E16,IF(ISNUMBER(F16),F16,E16),Feiertage!$H$2:$H$120))) | J16: =IF($C16="Meilenstein",IF(ISNUMBER($E16)*ISNUMBER(J$12),IF(AND($E16>=J$12,$E16<J$12+7),"◆",""),""),"") | K16: =IF($C16="Meilenstein",IF(ISNUMBER($E16)*ISNUMBER(K$12),IF(AND($E16>=K$12,$E16<K$12+7),"◆",""),""),"") | L16: =IF($C16="Meilenstein",IF(ISNUMBER($E16)*ISNUMBER(L$12),IF(AND($E16>=L$12,$E16<L$12+7),"◆",""),""),"") | M16: =IF($C16="Meilenstein",IF(ISNUMBER($E16)*ISNUMBER(M$12),IF(AND($E16>=M$12,$E16<M$12+7),"◆",""),""),"") | N16: =IF($C16="Meilenstein",IF(ISNUMBER($E16)*ISNUMBER(N$12),IF(AND($E16>=N$12,$E16<N$12+7),"◆",""),""),"") | O16: =IF($C16="Meilenstein",IF(ISNUMBER($E16)*ISNUMBER(O$12),IF(AND($E16>=O$12,$E16<O$12+7),"◆",""),""),"") | P16: =IF($C16="Meilenstein",IF(ISNUMBER($E16)*ISNUMBER(P$12),IF(AND($E16>=P$12,$E16<P$12+7),"◆",""),""),"") | Q16: =IF($C16="Meilenstein",IF(ISNUMBER($E16)*ISNUMBER(Q$12),IF(AND($E16>=Q$12,$E16<Q$12+7),"◆",""),""),"") | ... AI16: =IF($C16="Meilenstein",IF(ISNUMBER($E16)*ISNUMBER(AI$12),IF(AND($E16>=AI$12,$E16<AI$12+7),"◆",""),""),"")
G17: =IF(NOT(ISNUMBER(E17)),"",IF(C17="Meilenstein",0,NETWORKDAYS(E17,IF(ISNUMBER(F17),F17,E17),Feiertage!$H$2:$H$120))) | J17: =IF($C17="Meilenstein",IF(ISNUMBER($E17)*ISNUMBER(J$12),IF(AND($E17>=J$12,$E17<J$12+7),"◆",""),""),"") | K17: =IF($C17="Meilenstein",IF(ISNUMBER($E17)*ISNUMBER(K$12),IF(AND($E17>=K$12,$E17<K$12+7),"◆",""),""),"") | L17: =IF($C17="Meilenstein",IF(ISNUMBER($E17)*ISNUMBER(L$12),IF(AND($E17>=L$12,$E17<L$12+7),"◆",""),""),"") | M17: =IF($C17="Meilenstein",IF(ISNUMBER($E17)*ISNUMBER(M$12),IF(AND($E17>=M$12,$E17<M$12+7),"◆",""),""),"") | N17: =IF($C17="Meilenstein",IF(ISNUMBER($E17)*ISNUMBER(N$12),IF(AND($E17>=N$12,$E17<N$12+7),"◆",""),""),"") | O17: =IF($C17="Meilenstein",IF(ISNUMBER($E17)*ISNUMBER(O$12),IF(AND($E17>=O$12,$E17<O$12+7),"◆",""),""),"") | P17: =IF($C17="Meilenstein",IF(ISNUMBER($E17)*ISNUMBER(P$12),IF(AND($E17>=P$12,$E17<P$12+7),"◆",""),""),"") | Q17: =IF($C17="Meilenstein",IF(ISNUMBER($E17)*ISNUMBER(Q$12),IF(AND($E17>=Q$12,$E17<Q$12+7),"◆",""),""),"") | ... AI17: =IF($C17="Meilenstein",IF(ISNUMBER($E17)*ISNUMBER(AI$12),IF(AND($E17>=AI$12,$E17<AI$12+7),"◆",""),""),"")
G18: =IF(NOT(ISNUMBER(E18)),"",IF(C18="Meilenstein",0,NETWORKDAYS(E18,IF(ISNUMBER(F18),F18,E18),Feiertage!$H$2:$H$120))) | J18: =IF($C18="Meilenstein",IF(ISNUMBER($E18)*ISNUMBER(J$12),IF(AND($E18>=J$12,$E18<J$12+7),"◆",""),""),"") | K18: =IF($C18="Meilenstein",IF(ISNUMBER($E18)*ISNUMBER(K$12),IF(AND($E18>=K$12,$E18<K$12+7),"◆",""),""),"") | L18: =IF($C18="Meilenstein",IF(ISNUMBER($E18)*ISNUMBER(L$12),IF(AND($E18>=L$12,$E18<L$12+7),"◆",""),""),"") | M18: =IF($C18="Meilenstein",IF(ISNUMBER($E18)*ISNUMBER(M$12),IF(AND($E18>=M$12,$E18<M$12+7),"◆",""),""),"") | N18: =IF($C18="Meilenstein",IF(ISNUMBER($E18)*ISNUMBER(N$12),IF(AND($E18>=N$12,$E18<N$12+7),"◆",""),""),"") | O18: =IF($C18="Meilenstein",IF(ISNUMBER($E18)*ISNUMBER(O$12),IF(AND($E18>=O$12,$E18<O$12+7),"◆",""),""),"") | P18: =IF($C18="Meilenstein",IF(ISNUMBER($E18)*ISNUMBER(P$12),IF(AND($E18>=P$12,$E18<P$12+7),"◆",""),""),"") | Q18: =IF($C18="Meilenstein",IF(ISNUMBER($E18)*ISNUMBER(Q$12),IF(AND($E18>=Q$12,$E18<Q$12+7),"◆",""),""),"") | ... AI18: =IF($C18="Meilenstein",IF(ISNUMBER($E18)*ISNUMBER(AI$12),IF(AND($E18>=AI$12,$E18<AI$12+7),"◆",""),""),"")
G19: =IF(NOT(ISNUMBER(E19)),"",IF(C19="Meilenstein",0,NETWORKDAYS(E19,IF(ISNUMBER(F19),F19,E19),Feiertage!$H$2:$H$120))) | J19: =IF($C19="Meilenstein",IF(ISNUMBER($E19)*ISNUMBER(J$12),IF(AND($E19>=J$12,$E19<J$12+7),"◆",""),""),"") | K19: =IF($C19="Meilenstein",IF(ISNUMBER($E19)*ISNUMBER(K$12),IF(AND($E19>=K$12,$E19<K$12+7),"◆",""),""),"") | L19: =IF($C19="Meilenstein",IF(ISNUMBER($E19)*ISNUMBER(L$12),IF(AND($E19>=L$12,$E19<L$12+7),"◆",""),""),"") | M19: =IF($C19="Meilenstein",IF(ISNUMBER($E19)*ISNUMBER(M$12),IF(AND($E19>=M$12,$E19<M$12+7),"◆",""),""),"") | N19: =IF($C19="Meilenstein",IF(ISNUMBER($E19)*ISNUMBER(N$12),IF(AND($E19>=N$12,$E19<N$12+7),"◆",""),""),"") | O19: =IF($C19="Meilenstein",IF(ISNUMBER($E19)*ISNUMBER(O$12),IF(AND($E19>=O$12,$E19<O$12+7),"◆",""),""),"") | P19: =IF($C19="Meilenstein",IF(ISNUMBER($E19)*ISNUMBER(P$12),IF(AND($E19>=P$12,$E19<P$12+7),"◆",""),""),"") | Q19: =IF($C19="Meilenstein",IF(ISNUMBER($E19)*ISNUMBER(Q$12),IF(AND($E19>=Q$12,$E19<Q$12+7),"◆",""),""),"") | ... AI19: =IF($C19="Meilenstein",IF(ISNUMBER($E19)*ISNUMBER(AI$12),IF(AND($E19>=AI$12,$E19<AI$12+7),"◆",""),""),"")
G20: =IF(NOT(ISNUMBER(E20)),"",IF(C20="Meilenstein",0,NETWORKDAYS(E20,IF(ISNUMBER(F20),F20,E20),Feiertage!$H$2:$H$120))) | J20: =IF($C20="Meilenstein",IF(ISNUMBER($E20)*ISNUMBER(J$12),IF(AND($E20>=J$12,$E20<J$12+7),"◆",""),""),"") | K20: =IF($C20="Meilenstein",IF(ISNUMBER($E20)*ISNUMBER(K$12),IF(AND($E20>=K$12,$E20<K$12+7),"◆",""),""),"") | L20: =IF($C20="Meilenstein",IF(ISNUMBER($E20)*ISNUMBER(L$12),IF(AND($E20>=L$12,$E20<L$12+7),"◆",""),""),"") | M20: =IF($C20="Meilenstein",IF(ISNUMBER($E20)*ISNUMBER(M$12),IF(AND($E20>=M$12,$E20<M$12+7),"◆",""),""),"") | N20: =IF($C20="Meilenstein",IF(ISNUMBER($E20)*ISNUMBER(N$12),IF(AND($E20>=N$12,$E20<N$12+7),"◆",""),""),"") | O20: =IF($C20="Meilenstein",IF(ISNUMBER($E20)*ISNUMBER(O$12),IF(AND($E20>=O$12,$E20<O$12+7),"◆",""),""),"") | P20: =IF($C20="Meilenstein",IF(ISNUMBER($E20)*ISNUMBER(P$12),IF(AND($E20>=P$12,$E20<P$12+7),"◆",""),""),"") | Q20: =IF($C20="Meilenstein",IF(ISNUMBER($E20)*ISNUMBER(Q$12),IF(AND($E20>=Q$12,$E20<Q$12+7),"◆",""),""),"") | ... AI20: =IF($C20="Meilenstein",IF(ISNUMBER($E20)*ISNUMBER(AI$12),IF(AND($E20>=AI$12,$E20<AI$12+7),"◆",""),""),"")
G21: =IF(NOT(ISNUMBER(E21)),"",IF(C21="Meilenstein",0,NETWORKDAYS(E21,IF(ISNUMBER(F21),F21,E21),Feiertage!$H$2:$H$120))) | J21: =IF($C21="Meilenstein",IF(ISNUMBER($E21)*ISNUMBER(J$12),IF(AND($E21>=J$12,$E21<J$12+7),"◆",""),""),"") | K21: =IF($C21="Meilenstein",IF(ISNUMBER($E21)*ISNUMBER(K$12),IF(AND($E21>=K$12,$E21<K$12+7),"◆",""),""),"") | L21: =IF($C21="Meilenstein",IF(ISNUMBER($E21)*ISNUMBER(L$12),IF(AND($E21>=L$12,$E21<L$12+7),"◆",""),""),"") | M21: =IF($C21="Meilenstein",IF(ISNUMBER($E21)*ISNUMBER(M$12),IF(AND($E21>=M$12,$E21<M$12+7),"◆",""),""),"") | N21: =IF($C21="Meilenstein",IF(ISNUMBER($E21)*ISNUMBER(N$12),IF(AND($E21>=N$12,$E21<N$12+7),"◆",""),""),"") | O21: =IF($C21="Meilenstein",IF(ISNUMBER($E21)*ISNUMBER(O$12),IF(AND($E21>=O$12,$E21<O$12+7),"◆",""),""),"") | P21: =IF($C21="Meilenstein",IF(ISNUMBER($E21)*ISNUMBER(P$12),IF(AND($E21>=P$12,$E21<P$12+7),"◆",""),""),"") | Q21: =IF($C21="Meilenstein",IF(ISNUMBER($E21)*ISNUMBER(Q$12),IF(AND($E21>=Q$12,$E21<Q$12+7),"◆",""),""),"") | ... AI21: =IF($C21="Meilenstein",IF(ISNUMBER($E21)*ISNUMBER(AI$12),IF(AND($E21>=AI$12,$E21<AI$12+7),"◆",""),""),"")
G22: =IF(NOT(ISNUMBER(E22)),"",IF(C22="Meilenstein",0,NETWORKDAYS(E22,IF(ISNUMBER(F22),F22,E22),Feiertage!$H$2:$H$120))) | J22: =IF($C22="Meilenstein",IF(ISNUMBER($E22)*ISNUMBER(J$12),IF(AND($E22>=J$12,$E22<J$12+7),"◆",""),""),"") | K22: =IF($C22="Meilenstein",IF(ISNUMBER($E22)*ISNUMBER(K$12),IF(AND($E22>=K$12,$E22<K$12+7),"◆",""),""),"") | L22: =IF($C22="Meilenstein",IF(ISNUMBER($E22)*ISNUMBER(L$12),IF(AND($E22>=L$12,$E22<L$12+7),"◆",""),""),"") | M22: =IF($C22="Meilenstein",IF(ISNUMBER($E22)*ISNUMBER(M$12),IF(AND($E22>=M$12,$E22<M$12+7),"◆",""),""),"") | N22: =IF($C22="Meilenstein",IF(ISNUMBER($E22)*ISNUMBER(N$12),IF(AND($E22>=N$12,$E22<N$12+7),"◆",""),""),"") | O22: =IF($C22="Meilenstein",IF(ISNUMBER($E22)*ISNUMBER(O$12),IF(AND($E22>=O$12,$E22<O$12+7),"◆",""),""),"") | P22: =IF($C22="Meilenstein",IF(ISNUMBER($E22)*ISNUMBER(P$12),IF(AND($E22>=P$12,$E22<P$12+7),"◆",""),""),"") | Q22: =IF($C22="Meilenstein",IF(ISNUMBER($E22)*ISNUMBER(Q$12),IF(AND($E22>=Q$12,$E22<Q$12+7),"◆",""),""),"") | ... AI22: =IF($C22="Meilenstein",IF(ISNUMBER($E22)*ISNUMBER(AI$12),IF(AND($E22>=AI$12,$E22<AI$12+7),"◆",""),""),"")
G23: =IF(NOT(ISNUMBER(E23)),"",IF(C23="Meilenstein",0,NETWORKDAYS(E23,IF(ISNUMBER(F23),F23,E23),Feiertage!$H$2:$H$120))) | J23: =IF($C23="Meilenstein",IF(ISNUMBER($E23)*ISNUMBER(J$12),IF(AND($E23>=J$12,$E23<J$12+7),"◆",""),""),"") | K23: =IF($C23="Meilenstein",IF(ISNUMBER($E23)*ISNUMBER(K$12),IF(AND($E23>=K$12,$E23<K$12+7),"◆",""),""),"") | L23: =IF($C23="Meilenstein",IF(ISNUMBER($E23)*ISNUMBER(L$12),IF(AND($E23>=L$12,$E23<L$12+7),"◆",""),""),"") | M23: =IF($C23="Meilenstein",IF(ISNUMBER($E23)*ISNUMBER(M$12),IF(AND($E23>=M$12,$E23<M$12+7),"◆",""),""),"") | N23: =IF($C23="Meilenstein",IF(ISNUMBER($E23)*ISNUMBER(N$12),IF(AND($E23>=N$12,$E23<N$12+7),"◆",""),""),"") | O23: =IF($C23="Meilenstein",IF(ISNUMBER($E23)*ISNUMBER(O$12),IF(AND($E23>=O$12,$E23<O$12+7),"◆",""),""),"") | P23: =IF($C23="Meilenstein",IF(ISNUMBER($E23)*ISNUMBER(P$12),IF(AND($E23>=P$12,$E23<P$12+7),"◆",""),""),"") | Q23: =IF($C23="Meilenstein",IF(ISNUMBER($E23)*ISNUMBER(Q$12),IF(AND($E23>=Q$12,$E23<Q$12+7),"◆",""),""),"") | ... AI23: =IF($C23="Meilenstein",IF(ISNUMBER($E23)*ISNUMBER(AI$12),IF(AND($E23>=AI$12,$E23<AI$12+7),"◆",""),""),"")
G24: =IF(NOT(ISNUMBER(E24)),"",IF(C24="Meilenstein",0,NETWORKDAYS(E24,IF(ISNUMBER(F24),F24,E24),Feiertage!$H$2:$H$120))) | J24: =IF($C24="Meilenstein",IF(ISNUMBER($E24)*ISNUMBER(J$12),IF(AND($E24>=J$12,$E24<J$12+7),"◆",""),""),"") | K24: =IF($C24="Meilenstein",IF(ISNUMBER($E24)*ISNUMBER(K$12),IF(AND($E24>=K$12,$E24<K$12+7),"◆",""),""),"") | L24: =IF($C24="Meilenstein",IF(ISNUMBER($E24)*ISNUMBER(L$12),IF(AND($E24>=L$12,$E24<L$12+7),"◆",""),""),"") | M24: =IF($C24="Meilenstein",IF(ISNUMBER($E24)*ISNUMBER(M$12),IF(AND($E24>=M$12,$E24<M$12+7),"◆",""),""),"") | N24: =IF($C24="Meilenstein",IF(ISNUMBER($E24)*ISNUMBER(N$12),IF(AND($E24>=N$12,$E24<N$12+7),"◆",""),""),"") | O24: =IF($C24="Meilenstein",IF(ISNUMBER($E24)*ISNUMBER(O$12),IF(AND($E24>=O$12,$E24<O$12+7),"◆",""),""),"") | P24: =IF($C24="Meilenstein",IF(ISNUMBER($E24)*ISNUMBER(P$12),IF(AND($E24>=P$12,$E24<P$12+7),"◆",""),""),"") | Q24: =IF($C24="Meilenstein",IF(ISNUMBER($E24)*ISNUMBER(Q$12),IF(AND($E24>=Q$12,$E24<Q$12+7),"◆",""),""),"") | ... AI24: =IF($C24="Meilenstein",IF(ISNUMBER($E24)*ISNUMBER(AI$12),IF(AND($E24>=AI$12,$E24<AI$12+7),"◆",""),""),"")
... G44: =IF(NOT(ISNUMBER(E44)),"",IF(C44="Meilenstein",0,NETWORKDAYS(E44,IF(ISNUMBER(F44),F44,E44),Feiertage!$H$2:$H$120))) | J44: =IF($C44="Meilenstein",IF(ISNUMBER($E44)*ISNUMBER(J$12),IF(AND($E44>=J$12,$E44<J$12+7),"◆",""),""),"") | K44: =IF($C44="Meilenstein",IF(ISNUMBER($E44)*ISNUMBER(K$12),IF(AND($E44>=K$12,$E44<K$12+7),"◆",""),""),"") | L44: =IF($C44="Meilenstein",IF(ISNUMBER($E44)*ISNUMBER(L$12),IF(AND($E44>=L$12,$E44<L$12+7),"◆",""),""),"") | M44: =IF($C44="Meilenstein",IF(ISNUMBER($E44)*ISNUMBER(M$12),IF(AND($E44>=M$12,$E44<M$12+7),"◆",""),""),"") | N44: =IF($C44="Meilenstein",IF(ISNUMBER($E44)*ISNUMBER(N$12),IF(AND($E44>=N$12,$E44<N$12+7),"◆",""),""),"") | O44: =IF($C44="Meilenstein",IF(ISNUMBER($E44)*ISNUMBER(O$12),IF(AND($E44>=O$12,$E44<O$12+7),"◆",""),""),"") | P44: =IF($C44="Meilenstein",IF(ISNUMBER($E44)*ISNUMBER(P$12),IF(AND($E44>=P$12,$E44<P$12+7),"◆",""),""),"") | Q44: =IF($C44="Meilenstein",IF(ISNUMBER($E44)*ISNUMBER(Q$12),IF(AND($E44>=Q$12,$E44<Q$12+7),"◆",""),""),"") | ... AI44: =IF($C44="Meilenstein",IF(ISNUMBER($E44)*ISNUMBER(AI$12),IF(AND($E44>=AI$12,$E44<AI$12+7),"◆",""),""),"")

Sheet Beispiel
A1: Projektplan (ausgefülltes Beispiel)
A2: Je Zeile eine Phase, Aufgabe oder einen Meilenstein mit Start und Ende eintragen. Dauer in Arbeitstagen und die Balken im Zeitplan rechts entstehen von selbst.
A3: Weiß: hier eintragen | C3: Grau: wird berechnet
A5: Projekt | C5: Auftraggeber | E5: Projektstart | G5: Bundesland (für Feiertage)
A6: Website-Relaunch Weber GmbH | C6: Weber GmbH | E6: 46328 | G6: Hessen | L6: Phase | Q6: Aufgabe | W6: erledigter Teil (Fortschritt)
A7: Projektleitung | C7: Stand am (Stichtag) | E7: Ende laut Plan | G7: Fortschritt gesamt
A8: Sarah Klein | C8: 46360 | E8: =IF(COUNT(E13:F44)=0,"",MAX(E13:F44)) | G8: =IFERROR(SUMPRODUCT(--(C13:C44="Phase"),G13:G44,H13:H44)/SUMIFS(G13:G44,C13:C44,"Phase"),IFERROR(SUMPRODUCT(--(C13:C44<>"Phase"),--(C13:C44<>"Meilenstein"),G13:G44,H13:H44)/SUMPRODUCT(--(C13:C44<>"Phase"),--(C13:C44<>"Meilenstein"),G13:G44),"")) | K8: ◆ | L8: Meilenstein | Q8: Woche des Stichtags | W8: Status rot: Ende überschritten, nicht fertig
A10: Nr. | B10: Phase / Aufgabe / Meilenstein | C10: Typ | D10: Verantwortlich | E10: Start | F10: Ende | G10: Dauer (Arbeits- tage) | H10: Fort- schritt | I10: Status | J10: Zeitplan: Kalenderwoche und Montag der Woche
J11: =IF(ISNUMBER(J12),_xlfn.ISOWEEKNUM(J12),"") | K11: =IF(ISNUMBER(K12),_xlfn.ISOWEEKNUM(K12),"") | L11: =IF(ISNUMBER(L12),_xlfn.ISOWEEKNUM(L12),"") | M11: =IF(ISNUMBER(M12),_xlfn.ISOWEEKNUM(M12),"") | N11: =IF(ISNUMBER(N12),_xlfn.ISOWEEKNUM(N12),"") | O11: =IF(ISNUMBER(O12),_xlfn.ISOWEEKNUM(O12),"") | P11: =IF(ISNUMBER(P12),_xlfn.ISOWEEKNUM(P12),"") | Q11: =IF(ISNUMBER(Q12),_xlfn.ISOWEEKNUM(Q12),"") | ... AI11: =IF(ISNUMBER(AI12),_xlfn.ISOWEEKNUM(AI12),"")
J12: =IF(ISNUMBER($E$6),$E$6-WEEKDAY($E$6,2)+1,IF(COUNT($E$13:$E$44)=0,"",MIN($E$13:$E$44)-WEEKDAY(MIN($E$13:$E$44),2)+1)) | K12: =IF(ISNUMBER(J12),J12+7,"") | L12: =IF(ISNUMBER(K12),K12+7,"") | M12: =IF(ISNUMBER(L12),L12+7,"") | N12: =IF(ISNUMBER(M12),M12+7,"") | O12: =IF(ISNUMBER(N12),N12+7,"") | P12: =IF(ISNUMBER(O12),O12+7,"") | Q12: =IF(ISNUMBER(P12),P12+7,"") | R12: =IF(ISNUMBER(Q12),Q12+7,"") | ... AI12: =IF(ISNUMBER(AH12),AH12+7,"")
A13: 0 | B13: Projektsteuerung und Statusberichte | C13: Aufgabe | D13: S. Klein | E13: 46328 | F13: 46500 | G13: =IF(NOT(ISNUMBER(E13)),"",IF(C13="Meilenstein",0,NETWORKDAYS(E13,IF(ISNUMBER(F13),F13,E13),Feiertage!$I$2:$I$120))) | H13: 0.2 | I13: in Arbeit | J13: =IF($C13="Meilenstein",IF(ISNUMBER($E13)*ISNUMBER(J$12),IF(AND($E13>=J$12,$E13<J$12+7),"◆",""),""),"") | K13: =IF($C13="Meilenstein",IF(ISNUMBER($E13)*ISNUMBER(K$12),IF(AND($E13>=K$12,$E13<K$12+7),"◆",""),""),"") | L13: =IF($C13="Meilenstein",IF(ISNUMBER($E13)*ISNUMBER(L$12),IF(AND($E13>=L$12,$E13<L$12+7),"◆",""),""),"") | M13: =IF($C13="Meilenstein",IF(ISNUMBER($E13)*ISNUMBER(M$12),IF(AND($E13>=M$12,$E13<M$12+7),"◆",""),""),"") | N13: =IF($C13="Meilenstein",IF(ISNUMBER($E13)*ISNUMBER(N$12),IF(AND($E13>=N$12,$E13<N$12+7),"◆",""),""),"") | O13: =IF($C13="Meilenstein",IF(ISNUMBER($E13)*ISNUMBER(O$12),IF(AND($E13>=O$12,$E13<O$12+7),"◆",""),""),"") | P13: =IF($C13="Meilenstein",IF(ISNUMBER($E13)*ISNUMBER(P$12),IF(AND($E13>=P$12,$E13<P$12+7),"◆",""),""),"") | Q13: =IF($C13="Meilenstein",IF(ISNUMBER($E13)*ISNUMBER(Q$12),IF(AND($E13>=Q$12,$E13<Q$12+7),"◆",""),""),"") | ... AI13: =IF($C13="Meilenstein",IF(ISNUMBER($E13)*ISNUMBER(AI$12),IF(AND($E13>=AI$12,$E13<AI$12+7),"◆",""),""),"")
A14: 1 | B14: Analyse und Konzept | C14: Phase | D14: S. Klein | E14: 46328 | F14: 46353 | G14: =IF(NOT(ISNUMBER(E14)),"",IF(C14="Meilenstein",0,NETWORKDAYS(E14,IF(ISNUMBER(F14),F14,E14),Feiertage!$I$2:$I$120))) | H14: 1 | I14: erledigt | J14: =IF($C14="Meilenstein",IF(ISNUMBER($E14)*ISNUMBER(J$12),IF(AND($E14>=J$12,$E14<J$12+7),"◆",""),""),"") | K14: =IF($C14="Meilenstein",IF(ISNUMBER($E14)*ISNUMBER(K$12),IF(AND($E14>=K$12,$E14<K$12+7),"◆",""),""),"") | L14: =IF($C14="Meilenstein",IF(ISNUMBER($E14)*ISNUMBER(L$12),IF(AND($E14>=L$12,$E14<L$12+7),"◆",""),""),"") | M14: =IF($C14="Meilenstein",IF(ISNUMBER($E14)*ISNUMBER(M$12),IF(AND($E14>=M$12,$E14<M$12+7),"◆",""),""),"") | N14: =IF($C14="Meilenstein",IF(ISNUMBER($E14)*ISNUMBER(N$12),IF(AND($E14>=N$12,$E14<N$12+7),"◆",""),""),"") | O14: =IF($C14="Meilenstein",IF(ISNUMBER($E14)*ISNUMBER(O$12),IF(AND($E14>=O$12,$E14<O$12+7),"◆",""),""),"") | P14: =IF($C14="Meilenstein",IF(ISNUMBER($E14)*ISNUMBER(P$12),IF(AND($E14>=P$12,$E14<P$12+7),"◆",""),""),"") | Q14: =IF($C14="Meilenstein",IF(ISNUMBER($E14)*ISNUMBER(Q$12),IF(AND($E14>=Q$12,$E14<Q$12+7),"◆",""),""),"") | ... AI14: =IF($C14="Meilenstein",IF(ISNUMBER($E14)*ISNUMBER(AI$12),IF(AND($E14>=AI$12,$E14<AI$12+7),"◆",""),""),"")
A15: 1.1 | B15: Kick-off-Workshop bei Weber | C15: Aufgabe | D15: S. Klein | E15: 46329 | F15: 46329 | G15: =IF(NOT(ISNUMBER(E15)),"",IF(C15="Meilenstein",0,NETWORKDAYS(E15,IF(ISNUMBER(F15),F15,E15),Feiertage!$I$2:$I$120))) | H15: 1 | I15: erledigt | J15: =IF($C15="Meilenstein",IF(ISNUMBER($E15)*ISNUMBER(J$12),IF(AND($E15>=J$12,$E15<J$12+7),"◆",""),""),"") | K15: =IF($C15="Meilenstein",IF(ISNUMBER($E15)*ISNUMBER(K$12),IF(AND($E15>=K$12,$E15<K$12+7),"◆",""),""),"") | L15: =IF($C15="Meilenstein",IF(ISNUMBER($E15)*ISNUMBER(L$12),IF(AND($E15>=L$12,$E15<L$12+7),"◆",""),""),"") | M15: =IF($C15="Meilenstein",IF(ISNUMBER($E15)*ISNUMBER(M$12),IF(AND($E15>=M$12,$E15<M$12+7),"◆",""),""),"") | N15: =IF($C15="Meilenstein",IF(ISNUMBER($E15)*ISNUMBER(N$12),IF(AND($E15>=N$12,$E15<N$12+7),"◆",""),""),"") | O15: =IF($C15="Meilenstein",IF(ISNUMBER($E15)*ISNUMBER(O$12),IF(AND($E15>=O$12,$E15<O$12+7),"◆",""),""),"") | P15: =IF($C15="Meilenstein",IF(ISNUMBER($E15)*ISNUMBER(P$12),IF(AND($E15>=P$12,$E15<P$12+7),"◆",""),""),"") | Q15: =IF($C15="Meilenstein",IF(ISNUMBER($E15)*ISNUMBER(Q$12),IF(AND($E15>=Q$12,$E15<Q$12+7),"◆",""),""),"") | ... AI15: =IF($C15="Meilenstein",IF(ISNUMBER($E15)*ISNUMBER(AI$12),IF(AND($E15>=AI$12,$E15<AI$12+7),"◆",""),""),"")
A16: 1.2 | B16: Analyse Website und Zugriffszahlen | C16: Aufgabe | D16: J. Neumann | E16: 46330 | F16: 46339 | G16: =IF(NOT(ISNUMBER(E16)),"",IF(C16="Meilenstein",0,NETWORKDAYS(E16,IF(ISNUMBER(F16),F16,E16),Feiertage!$I$2:$I$120))) | H16: 1 | I16: erledigt | J16: =IF($C16="Meilenstein",IF(ISNUMBER($E16)*ISNUMBER(J$12),IF(AND($E16>=J$12,$E16<J$12+7),"◆",""),""),"") | K16: =IF($C16="Meilenstein",IF(ISNUMBER($E16)*ISNUMBER(K$12),IF(AND($E16>=K$12,$E16<K$12+7),"◆",""),""),"") | L16: =IF($C16="Meilenstein",IF(ISNUMBER($E16)*ISNUMBER(L$12),IF(AND($E16>=L$12,$E16<L$12+7),"◆",""),""),"") | M16: =IF($C16="Meilenstein",IF(ISNUMBER($E16)*ISNUMBER(M$12),IF(AND($E16>=M$12,$E16<M$12+7),"◆",""),""),"") | N16: =IF($C16="Meilenstein",IF(ISNUMBER($E16)*ISNUMBER(N$12),IF(AND($E16>=N$12,$E16<N$12+7),"◆",""),""),"") | O16: =IF($C16="Meilenstein",IF(ISNUMBER($E16)*ISNUMBER(O$12),IF(AND($E16>=O$12,$E16<O$12+7),"◆",""),""),"") | P16: =IF($C16="Meilenstein",IF(ISNUMBER($E16)*ISNUMBER(P$12),IF(AND($E16>=P$12,$E16<P$12+7),"◆",""),""),"") | Q16: =IF($C16="Meilenstein",IF(ISNUMBER($E16)*ISNUMBER(Q$12),IF(AND($E16>=Q$12,$E16<Q$12+7),"◆",""),""),"") | ... AI16: =IF($C16="Meilenstein",IF(ISNUMBER($E16)*ISNUMBER(AI$12),IF(AND($E16>=AI$12,$E16<AI$12+7),"◆",""),""),"")
A17: 1.3 | B17: Sitemap und Wireframes | C17: Aufgabe | D17: J. Neumann | E17: 46342 | F17: 46352 | G17: =IF(NOT(ISNUMBER(E17)),"",IF(C17="Meilenstein",0,NETWORKDAYS(E17,IF(ISNUMBER(F17),F17,E17),Feiertage!$I$2:$I$120))) | H17: 1 | I17: erledigt | J17: =IF($C17="Meilenstein",IF(ISNUMBER($E17)*ISNUMBER(J$12),IF(AND($E17>=J$12,$E17<J$12+7),"◆",""),""),"") | K17: =IF($C17="Meilenstein",IF(ISNUMBER($E17)*ISNUMBER(K$12),IF(AND($E17>=K$12,$E17<K$12+7),"◆",""),""),"") | L17: =IF($C17="Meilenstein",IF(ISNUMBER($E17)*ISNUMBER(L$12),IF(AND($E17>=L$12,$E17<L$12+7),"◆",""),""),"") | M17: =IF($C17="Meilenstein",IF(ISNUMBER($E17)*ISNUMBER(M$12),IF(AND($E17>=M$12,$E17<M$12+7),"◆",""),""),"") | N17: =IF($C17="Meilenstein",IF(ISNUMBER($E17)*ISNUMBER(N$12),IF(AND($E17>=N$12,$E17<N$12+7),"◆",""),""),"") | O17: =IF($C17="Meilenstein",IF(ISNUMBER($E17)*ISNUMBER(O$12),IF(AND($E17>=O$12,$E17<O$12+7),"◆",""),""),"") | P17: =IF($C17="Meilenstein",IF(ISNUMBER($E17)*ISNUMBER(P$12),IF(AND($E17>=P$12,$E17<P$12+7),"◆",""),""),"") | Q17: =IF($C17="Meilenstein",IF(ISNUMBER($E17)*ISNUMBER(Q$12),IF(AND($E17>=Q$12,$E17<Q$12+7),"◆",""),""),"") | ... AI17: =IF($C17="Meilenstein",IF(ISNUMBER($E17)*ISNUMBER(AI$12),IF(AND($E17>=AI$12,$E17<AI$12+7),"◆",""),""),"")
A18: 1.4 | B18: Konzept abgenommen | C18: Meilenstein | D18: A. Weber | E18: 46353 | G18: =IF(NOT(ISNUMBER(E18)),"",IF(C18="Meilenstein",0,NETWORKDAYS(E18,IF(ISNUMBER(F18),F18,E18),Feiertage!$I$2:$I$120))) | H18: 1 | I18: erledigt | J18: =IF($C18="Meilenstein",IF(ISNUMBER($E18)*ISNUMBER(J$12),IF(AND($E18>=J$12,$E18<J$12+7),"◆",""),""),"") | K18: =IF($C18="Meilenstein",IF(ISNUMBER($E18)*ISNUMBER(K$12),IF(AND($E18>=K$12,$E18<K$12+7),"◆",""),""),"") | L18: =IF($C18="Meilenstein",IF(ISNUMBER($E18)*ISNUMBER(L$12),IF(AND($E18>=L$12,$E18<L$12+7),"◆",""),""),"") | M18: =IF($C18="Meilenstein",IF(ISNUMBER($E18)*ISNUMBER(M$12),IF(AND($E18>=M$12,$E18<M$12+7),"◆",""),""),"") | N18: =IF($C18="Meilenstein",IF(ISNUMBER($E18)*ISNUMBER(N$12),IF(AND($E18>=N$12,$E18<N$12+7),"◆",""),""),"") | O18: =IF($C18="Meilenstein",IF(ISNUMBER($E18)*ISNUMBER(O$12),IF(AND($E18>=O$12,$E18<O$12+7),"◆",""),""),"") | P18: =IF($C18="Meilenstein",IF(ISNUMBER($E18)*ISNUMBER(P$12),IF(AND($E18>=P$12,$E18<P$12+7),"◆",""),""),"") | Q18: =IF($C18="Meilenstein",IF(ISNUMBER($E18)*ISNUMBER(Q$12),IF(AND($E18>=Q$12,$E18<Q$12+7),"◆",""),""),"") | ... AI18: =IF($C18="Meilenstein",IF(ISNUMBER($E18)*ISNUMBER(AI$12),IF(AND($E18>=AI$12,$E18<AI$12+7),"◆",""),""),"")
A19: 2 | B19: Design | C19: Phase | D19: M. Yilmaz | E19: 46356 | F19: 46402 | G19: =IF(NOT(ISNUMBER(E19)),"",IF(C19="Meilenstein",0,NETWORKDAYS(E19,IF(ISNUMBER(F19),F19,E19),Feiertage!$I$2:$I$120))) | H19: 0.3 | I19: in Arbeit | J19: =IF($C19="Meilenstein",IF(ISNUMBER($E19)*ISNUMBER(J$12),IF(AND($E19>=J$12,$E19<J$12+7),"◆",""),""),"") | K19: =IF($C19="Meilenstein",IF(ISNUMBER($E19)*ISNUMBER(K$12),IF(AND($E19>=K$12,$E19<K$12+7),"◆",""),""),"") | L19: =IF($C19="Meilenstein",IF(ISNUMBER($E19)*ISNUMBER(L$12),IF(AND($E19>=L$12,$E19<L$12+7),"◆",""),""),"") | M19: =IF($C19="Meilenstein",IF(ISNUMBER($E19)*ISNUMBER(M$12),IF(AND($E19>=M$12,$E19<M$12+7),"◆",""),""),"") | N19: =IF($C19="Meilenstein",IF(ISNUMBER($E19)*ISNUMBER(N$12),IF(AND($E19>=N$12,$E19<N$12+7),"◆",""),""),"") | O19: =IF($C19="Meilenstein",IF(ISNUMBER($E19)*ISNUMBER(O$12),IF(AND($E19>=O$12,$E19<O$12+7),"◆",""),""),"") | P19: =IF($C19="Meilenstein",IF(ISNUMBER($E19)*ISNUMBER(P$12),IF(AND($E19>=P$12,$E19<P$12+7),"◆",""),""),"") | Q19: =IF($C19="Meilenstein",IF(ISNUMBER($E19)*ISNUMBER(Q$12),IF(AND($E19>=Q$12,$E19<Q$12+7),"◆",""),""),"") | ... AI19: =IF($C19="Meilenstein",IF(ISNUMBER($E19)*ISNUMBER(AI$12),IF(AND($E19>=AI$12,$E19<AI$12+7),"◆",""),""),"")
A20: 2.1 | B20: Designentwurf Startseite | C20: Aufgabe | D20: M. Yilmaz | E20: 46356 | F20: 46367 | G20: =IF(NOT(ISNUMBER(E20)),"",IF(C20="Meilenstein",0,NETWORKDAYS(E20,IF(ISNUMBER(F20),F20,E20),Feiertage!$I$2:$I$120))) | H20: 0.7 | I20: in Arbeit | J20: =IF($C20="Meilenstein",IF(ISNUMBER($E20)*ISNUMBER(J$12),IF(AND($E20>=J$12,$E20<J$12+7),"◆",""),""),"") | K20: =IF($C20="Meilenstein",IF(ISNUMBER($E20)*ISNUMBER(K$12),IF(AND($E20>=K$12,$E20<K$12+7),"◆",""),""),"") | L20: =IF($C20="Meilenstein",IF(ISNUMBER($E20)*ISNUMBER(L$12),IF(AND($E20>=L$12,$E20<L$12+7),"◆",""),""),"") | M20: =IF($C20="Meilenstein",IF(ISNUMBER($E20)*ISNUMBER(M$12),IF(AND($E20>=M$12,$E20<M$12+7),"◆",""),""),"") | N20: =IF($C20="Meilenstein",IF(ISNUMBER($E20)*ISNUMBER(N$12),IF(AND($E20>=N$12,$E20<N$12+7),"◆",""),""),"") | O20: =IF($C20="Meilenstein",IF(ISNUMBER($E20)*ISNUMBER(O$12),IF(AND($E20>=O$12,$E20<O$12+7),"◆",""),""),"") | P20: =IF($C20="Meilenstein",IF(ISNUMBER($E20)*ISNUMBER(P$12),IF(AND($E20>=P$12,$E20<P$12+7),"◆",""),""),"") | Q20: =IF($C20="Meilenstein",IF(ISNUMBER($E20)*ISNUMBER(Q$12),IF(AND($E20>=Q$12,$E20<Q$12+7),"◆",""),""),"") | ... AI20: =IF($C20="Meilenstein",IF(ISNUMBER($E20)*ISNUMBER(AI$12),IF(AND($E20>=AI$12,$E20<AI$12+7),"◆",""),""),"")
A21: 2.2 | B21: Feedbackrunde mit Weber | C21: Aufgabe | D21: S. Klein | E21: 46370 | F21: 46372 | G21: =IF(NOT(ISNUMBER(E21)),"",IF(C21="Meilenstein",0,NETWORKDAYS(E21,IF(ISNUMBER(F21),F21,E21),Feiertage!$I$2:$I$120))) | H21: 0 | I21: offen | J21: =IF($C21="Meilenstein",IF(ISNUMBER($E21)*ISNUMBER(J$12),IF(AND($E21>=J$12,$E21<J$12+7),"◆",""),""),"") | K21: =IF($C21="Meilenstein",IF(ISNUMBER($E21)*ISNUMBER(K$12),IF(AND($E21>=K$12,$E21<K$12+7),"◆",""),""),"") | L21: =IF($C21="Meilenstein",IF(ISNUMBER($E21)*ISNUMBER(L$12),IF(AND($E21>=L$12,$E21<L$12+7),"◆",""),""),"") | M21: =IF($C21="Meilenstein",IF(ISNUMBER($E21)*ISNUMBER(M$12),IF(AND($E21>=M$12,$E21<M$12+7),"◆",""),""),"") | N21: =IF($C21="Meilenstein",IF(ISNUMBER($E21)*ISNUMBER(N$12),IF(AND($E21>=N$12,$E21<N$12+7),"◆",""),""),"") | O21: =IF($C21="Meilenstein",IF(ISNUMBER($E21)*ISNUMBER(O$12),IF(AND($E21>=O$12,$E21<O$12+7),"◆",""),""),"") | P21: =IF($C21="Meilenstein",IF(ISNUMBER($E21)*ISNUMBER(P$12),IF(AND($E21>=P$12,$E21<P$12+7),"◆",""),""),"") | Q21: =IF($C21="Meilenstein",IF(ISNUMBER($E21)*ISNUMBER(Q$12),IF(AND($E21>=Q$12,$E21<Q$12+7),"◆",""),""),"") | ... AI21: =IF($C21="Meilenstein",IF(ISNUMBER($E21)*ISNUMBER(AI$12),IF(AND($E21>=AI$12,$E21<AI$12+7),"◆",""),""),"")
A22: 2.3 | B22: Designs der Unterseiten | C22: Aufgabe | D22: M. Yilmaz | E22: 46373 | F22: 46401 | G22: =IF(NOT(ISNUMBER(E22)),"",IF(C22="Meilenstein",0,NETWORKDAYS(E22,IF(ISNUMBER(F22),F22,E22),Feiertage!$I$2:$I$120))) | H22: 0 | I22: offen | J22: =IF($C22="Meilenstein",IF(ISNUMBER($E22)*ISNUMBER(J$12),IF(AND($E22>=J$12,$E22<J$12+7),"◆",""),""),"") | K22: =IF($C22="Meilenstein",IF(ISNUMBER($E22)*ISNUMBER(K$12),IF(AND($E22>=K$12,$E22<K$12+7),"◆",""),""),"") | L22: =IF($C22="Meilenstein",IF(ISNUMBER($E22)*ISNUMBER(L$12),IF(AND($E22>=L$12,$E22<L$12+7),"◆",""),""),"") | M22: =IF($C22="Meilenstein",IF(ISNUMBER($E22)*ISNUMBER(M$12),IF(AND($E22>=M$12,$E22<M$12+7),"◆",""),""),"") | N22: =IF($C22="Meilenstein",IF(ISNUMBER($E22)*ISNUMBER(N$12),IF(AND($E22>=N$12,$E22<N$12+7),"◆",""),""),"") | O22: =IF($C22="Meilenstein",IF(ISNUMBER($E22)*ISNUMBER(O$12),IF(AND($E22>=O$12,$E22<O$12+7),"◆",""),""),"") | P22: =IF($C22="Meilenstein",IF(ISNUMBER($E22)*ISNUMBER(P$12),IF(AND($E22>=P$12,$E22<P$12+7),"◆",""),""),"") | Q22: =IF($C22="Meilenstein",IF(ISNUMBER($E22)*ISNUMBER(Q$12),IF(AND($E22>=Q$12,$E22<Q$12+7),"◆",""),""),"") | ... AI22: =IF($C22="Meilenstein",IF(ISNUMBER($E22)*ISNUMBER(AI$12),IF(AND($E22>=AI$12,$E22<AI$12+7),"◆",""),""),"")
A23: 2.4 | B23: Design freigegeben | C23: Meilenstein | D23: A. Weber | E23: 46402 | G23: =IF(NOT(ISNUMBER(E23)),"",IF(C23="Meilenstein",0,NETWORKDAYS(E23,IF(ISNUMBER(F23),F23,E23),Feiertage!$I$2:$I$120))) | H23: 0 | I23: offen | J23: =IF($C23="Meilenstein",IF(ISNUMBER($E23)*ISNUMBER(J$12),IF(AND($E23>=J$12,$E23<J$12+7),"◆",""),""),"") | K23: =IF($C23="Meilenstein",IF(ISNUMBER($E23)*ISNUMBER(K$12),IF(AND($E23>=K$12,$E23<K$12+7),"◆",""),""),"") | L23: =IF($C23="Meilenstein",IF(ISNUMBER($E23)*ISNUMBER(L$12),IF(AND($E23>=L$12,$E23<L$12+7),"◆",""),""),"") | M23: =IF($C23="Meilenstein",IF(ISNUMBER($E23)*ISNUMBER(M$12),IF(AND($E23>=M$12,$E23<M$12+7),"◆",""),""),"") | N23: =IF($C23="Meilenstein",IF(ISNUMBER($E23)*ISNUMBER(N$12),IF(AND($E23>=N$12,$E23<N$12+7),"◆",""),""),"") | O23: =IF($C23="Meilenstein",IF(ISNUMBER($E23)*ISNUMBER(O$12),IF(AND($E23>=O$12,$E23<O$12+7),"◆",""),""),"") | P23: =IF($C23="Meilenstein",IF(ISNUMBER($E23)*ISNUMBER(P$12),IF(AND($E23>=P$12,$E23<P$12+7),"◆",""),""),"") | Q23: =IF($C23="Meilenstein",IF(ISNUMBER($E23)*ISNUMBER(Q$12),IF(AND($E23>=Q$12,$E23<Q$12+7),"◆",""),""),"") | ... AI23: =IF($C23="Meilenstein",IF(ISNUMBER($E23)*ISNUMBER(AI$12),IF(AND($E23>=AI$12,$E23<AI$12+7),"◆",""),""),"")
A24: 3 | B24: Umsetzung | C24: Phase | D24: T. Becker | E24: 46398 | F24: 46458 | G24: =IF(NOT(ISNUMBER(E24)),"",IF(C24="Meilenstein",0,NETWORKDAYS(E24,IF(ISNUMBER(F24),F24,E24),Feiertage!$I$2:$I$120))) | H24: 0 | I24: offen | J24: =IF($C24="Meilenstein",IF(ISNUMBER($E24)*ISNUMBER(J$12),IF(AND($E24>=J$12,$E24<J$12+7),"◆",""),""),"") | K24: =IF($C24="Meilenstein",IF(ISNUMBER($E24)*ISNUMBER(K$12),IF(AND($E24>=K$12,$E24<K$12+7),"◆",""),""),"") | L24: =IF($C24="Meilenstein",IF(ISNUMBER($E24)*ISNUMBER(L$12),IF(AND($E24>=L$12,$E24<L$12+7),"◆",""),""),"") | M24: =IF($C24="Meilenstein",IF(ISNUMBER($E24)*ISNUMBER(M$12),IF(AND($E24>=M$12,$E24<M$12+7),"◆",""),""),"") | N24: =IF($C24="Meilenstein",IF(ISNUMBER($E24)*ISNUMBER(N$12),IF(AND($E24>=N$12,$E24<N$12+7),"◆",""),""),"") | O24: =IF($C24="Meilenstein",IF(ISNUMBER($E24)*ISNUMBER(O$12),IF(AND($E24>=O$12,$E24<O$12+7),"◆",""),""),"") | P24: =IF($C24="Meilenstein",IF(ISNUMBER($E24)*ISNUMBER(P$12),IF(AND($E24>=P$12,$E24<P$12+7),"◆",""),""),"") | Q24: =IF($C24="Meilenstein",IF(ISNUMBER($E24)*ISNUMBER(Q$12),IF(AND($E24>=Q$12,$E24<Q$12+7),"◆",""),""),"") | ... AI24: =IF($C24="Meilenstein",IF(ISNUMBER($E24)*ISNUMBER(AI$12),IF(AND($E24>=AI$12,$E24<AI$12+7),"◆",""),""),"")
A25: 3.1 | B25: Texte und Bilder liefern | C25: Aufgabe | D25: Weber GmbH | E25: 46398 | F25: 46430 | G25: =IF(NOT(ISNUMBER(E25)),"",IF(C25="Meilenstein",0,NETWORKDAYS(E25,IF(ISNUMBER(F25),F25,E25),Feiertage!$I$2:$I$120))) | H25: 0 | I25: offen | J25: =IF($C25="Meilenstein",IF(ISNUMBER($E25)*ISNUMBER(J$12),IF(AND($E25>=J$12,$E25<J$12+7),"◆",""),""),"") | K25: =IF($C25="Meilenstein",IF(ISNUMBER($E25)*ISNUMBER(K$12),IF(AND($E25>=K$12,$E25<K$12+7),"◆",""),""),"") | L25: =IF($C25="Meilenstein",IF(ISNUMBER($E25)*ISNUMBER(L$12),IF(AND($E25>=L$12,$E25<L$12+7),"◆",""),""),"") | M25: =IF($C25="Meilenstein",IF(ISNUMBER($E25)*ISNUMBER(M$12),IF(AND($E25>=M$12,$E25<M$12+7),"◆",""),""),"") | N25: =IF($C25="Meilenstein",IF(ISNUMBER($E25)*ISNUMBER(N$12),IF(AND($E25>=N$12,$E25<N$12+7),"◆",""),""),"") | O25: =IF($C25="Meilenstein",IF(ISNUMBER($E25)*ISNUMBER(O$12),IF(AND($E25>=O$12,$E25<O$12+7),"◆",""),""),"") | P25: =IF($C25="Meilenstein",IF(ISNUMBER($E25)*ISNUMBER(P$12),IF(AND($E25>=P$12,$E25<P$12+7),"◆",""),""),"") | Q25: =IF($C25="Meilenstein",IF(ISNUMBER($E25)*ISNUMBER(Q$12),IF(AND($E25>=Q$12,$E25<Q$12+7),"◆",""),""),"") | ... AI25: =IF($C25="Meilenstein",IF(ISNUMBER($E25)*ISNUMBER(AI$12),IF(AND($E25>=AI$12,$E25<AI$12+7),"◆",""),""),"")
A26: 3.2 | B26: CMS und Hosting einrichten | C26: Aufgabe | D26: T. Becker | E26: 46405 | F26: 46409 | G26: =IF(NOT(ISNUMBER(E26)),"",IF(C26="Meilenstein",0,NETWORKDAYS(E26,IF(ISNUMBER(F26),F26,E26),Feiertage!$I$2:$I$120))) | H26: 0 | I26: offen | J26: =IF($C26="Meilenstein",IF(ISNUMBER($E26)*ISNUMBER(J$12),IF(AND($E26>=J$12,$E26<J$12+7),"◆",""),""),"") | K26: =IF($C26="Meilenstein",IF(ISNUMBER($E26)*ISNUMBER(K$12),IF(AND($E26>=K$12,$E26<K$12+7),"◆",""),""),"") | L26: =IF($C26="Meilenstein",IF(ISNUMBER($E26)*ISNUMBER(L$12),IF(AND($E26>=L$12,$E26<L$12+7),"◆",""),""),"") | M26: =IF($C26="Meilenstein",IF(ISNUMBER($E26)*ISNUMBER(M$12),IF(AND($E26>=M$12,$E26<M$12+7),"◆",""),""),"") | N26: =IF($C26="Meilenstein",IF(ISNUMBER($E26)*ISNUMBER(N$12),IF(AND($E26>=N$12,$E26<N$12+7),"◆",""),""),"") | O26: =IF($C26="Meilenstein",IF(ISNUMBER($E26)*ISNUMBER(O$12),IF(AND($E26>=O$12,$E26<O$12+7),"◆",""),""),"") | P26: =IF($C26="Meilenstein",IF(ISNUMBER($E26)*ISNUMBER(P$12),IF(AND($E26>=P$12,$E26<P$12+7),"◆",""),""),"") | Q26: =IF($C26="Meilenstein",IF(ISNUMBER($E26)*ISNUMBER(Q$12),IF(AND($E26>=Q$12,$E26<Q$12+7),"◆",""),""),"") | ... AI26: =IF($C26="Meilenstein",IF(ISNUMBER($E26)*ISNUMBER(AI$12),IF(AND($E26>=AI$12,$E26<AI$12+7),"◆",""),""),"")
A27: 3.3 | B27: Seitenvorlagen programmieren | C27: Aufgabe | D27: T. Becker | E27: 46412 | F27: 46437 | G27: =IF(NOT(ISNUMBER(E27)),"",IF(C27="Meilenstein",0,NETWORKDAYS(E27,IF(ISNUMBER(F27),F27,E27),Feiertage!$I$2:$I$120))) | H27: 0 | I27: offen | J27: =IF($C27="Meilenstein",IF(ISNUMBER($E27)*ISNUMBER(J$12),IF(AND($E27>=J$12,$E27<J$12+7),"◆",""),""),"") | K27: =IF($C27="Meilenstein",IF(ISNUMBER($E27)*ISNUMBER(K$12),IF(AND($E27>=K$12,$E27<K$12+7),"◆",""),""),"") | L27: =IF($C27="Meilenstein",IF(ISNUMBER($E27)*ISNUMBER(L$12),IF(AND($E27>=L$12,$E27<L$12+7),"◆",""),""),"") | M27: =IF($C27="Meilenstein",IF(ISNUMBER($E27)*ISNUMBER(M$12),IF(AND($E27>=M$12,$E27<M$12+7),"◆",""),""),"") | N27: =IF($C27="Meilenstein",IF(ISNUMBER($E27)*ISNUMBER(N$12),IF(AND($E27>=N$12,$E27<N$12+7),"◆",""),""),"") | O27: =IF($C27="Meilenstein",IF(ISNUMBER($E27)*ISNUMBER(O$12),IF(AND($E27>=O$12,$E27<O$12+7),"◆",""),""),"") | P27: =IF($C27="Meilenstein",IF(ISNUMBER($E27)*ISNUMBER(P$12),IF(AND($E27>=P$12,$E27<P$12+7),"◆",""),""),"") | Q27: =IF($C27="Meilenstein",IF(ISNUMBER($E27)*ISNUMBER(Q$12),IF(AND($E27>=Q$12,$E27<Q$12+7),"◆",""),""),"") | ... AI27: =IF($C27="Meilenstein",IF(ISNUMBER($E27)*ISNUMBER(AI$12),IF(AND($E27>=AI$12,$E27<AI$12+7),"◆",""),""),"")
A28: 3.4 | B28: Inhalte einpflegen | C28: Aufgabe | D28: J. Neumann | E28: 46440 | F28: 46451 | G28: =IF(NOT(ISNUMBER(E28)),"",IF(C28="Meilenstein",0,NETWORKDAYS(E28,IF(ISNUMBER(F28),F28,E28),Feiertage!$I$2:$I$120))) | H28: 0 | I28: offen | J28: =IF($C28="Meilenstein",IF(ISNUMBER($E28)*ISNUMBER(J$12),IF(AND($E28>=J$12,$E28<J$12+7),"◆",""),""),"") | K28: =IF($C28="Meilenstein",IF(ISNUMBER($E28)*ISNUMBER(K$12),IF(AND($E28>=K$12,$E28<K$12+7),"◆",""),""),"") | L28: =IF($C28="Meilenstein",IF(ISNUMBER($E28)*ISNUMBER(L$12),IF(AND($E28>=L$12,$E28<L$12+7),"◆",""),""),"") | M28: =IF($C28="Meilenstein",IF(ISNUMBER($E28)*ISNUMBER(M$12),IF(AND($E28>=M$12,$E28<M$12+7),"◆",""),""),"") | N28: =IF($C28="Meilenstein",IF(ISNUMBER($E28)*ISNUMBER(N$12),IF(AND($E28>=N$12,$E28<N$12+7),"◆",""),""),"") | O28: =IF($C28="Meilenstein",IF(ISNUMBER($E28)*ISNUMBER(O$12),IF(AND($E28>=O$12,$E28<O$12+7),"◆",""),""),"") | P28: =IF($C28="Meilenstein",IF(ISNUMBER($E28)*ISNUMBER(P$12),IF(AND($E28>=P$12,$E28<P$12+7),"◆",""),""),"") | Q28: =IF($C28="Meilenstein",IF(ISNUMBER($E28)*ISNUMBER(Q$12),IF(AND($E28>=Q$12,$E28<Q$12+7),"◆",""),""),"") | ... AI28: =IF($C28="Meilenstein",IF(ISNUMBER($E28)*ISNUMBER(AI$12),IF(AND($E28>=AI$12,$E28<AI$12+7),"◆",""),""),"")
A29: 3.5 | B29: Weiterleitungen alter Adressen | C29: Aufgabe | D29: T. Becker | E29: 46454 | F29: 46458 | G29: =IF(NOT(ISNUMBER(E29)),"",IF(C29="Meilenstein",0,NETWORKDAYS(E29,IF(ISNUMBER(F29),F29,E29),Feiertage!$I$2:$I$120))) | H29: 0 | I29: offen | J29: =IF($C29="Meilenstein",IF(ISNUMBER($E29)*ISNUMBER(J$12),IF(AND($E29>=J$12,$E29<J$12+7),"◆",""),""),"") | K29: =IF($C29="Meilenstein",IF(ISNUMBER($E29)*ISNUMBER(K$12),IF(AND($E29>=K$12,$E29<K$12+7),"◆",""),""),"") | L29: =IF($C29="Meilenstein",IF(ISNUMBER($E29)*ISNUMBER(L$12),IF(AND($E29>=L$12,$E29<L$12+7),"◆",""),""),"") | M29: =IF($C29="Meilenstein",IF(ISNUMBER($E29)*ISNUMBER(M$12),IF(AND($E29>=M$12,$E29<M$12+7),"◆",""),""),"") | N29: =IF($C29="Meilenstein",IF(ISNUMBER($E29)*ISNUMBER(N$12),IF(AND($E29>=N$12,$E29<N$12+7),"◆",""),""),"") | O29: =IF($C29="Meilenstein",IF(ISNUMBER($E29)*ISNUMBER(O$12),IF(AND($E29>=O$12,$E29<O$12+7),"◆",""),""),"") | P29: =IF($C29="Meilenstein",IF(ISNUMBER($E29)*ISNUMBER(P$12),IF(AND($E29>=P$12,$E29<P$12+7),"◆",""),""),"") | Q29: =IF($C29="Meilenstein",IF(ISNUMBER($E29)*ISNUMBER(Q$12),IF(AND($E29>=Q$12,$E29<Q$12+7),"◆",""),""),"") | ... AI29: =IF($C29="Meilenstein",IF(ISNUMBER($E29)*ISNUMBER(AI$12),IF(AND($E29>=AI$12,$E29<AI$12+7),"◆",""),""),"")
A30: 4 | B30: Test und Livegang | C30: Phase | D30: S. Klein | E30: 46461 | F30: 46500 | G30: =IF(NOT(ISNUMBER(E30)),"",IF(C30="Meilenstein",0,NETWORKDAYS(E30,IF(ISNUMBER(F30),F30,E30),Feiertage!$I$2:$I$120))) | H30: 0 | I30: offen | J30: =IF($C30="Meilenstein",IF(ISNUMBER($E30)*ISNUMBER(J$12),IF(AND($E30>=J$12,$E30<J$12+7),"◆",""),""),"") | K30: =IF($C30="Meilenstein",IF(ISNUMBER($E30)*ISNUMBER(K$12),IF(AND($E30>=K$12,$E30<K$12+7),"◆",""),""),"") | L30: =IF($C30="Meilenstein",IF(ISNUMBER($E30)*ISNUMBER(L$12),IF(AND($E30>=L$12,$E30<L$12+7),"◆",""),""),"") | M30: =IF($C30="Meilenstein",IF(ISNUMBER($E30)*ISNUMBER(M$12),IF(AND($E30>=M$12,$E30<M$12+7),"◆",""),""),"") | N30: =IF($C30="Meilenstein",IF(ISNUMBER($E30)*ISNUMBER(N$12),IF(AND($E30>=N$12,$E30<N$12+7),"◆",""),""),"") | O30: =IF($C30="Meilenstein",IF(ISNUMBER($E30)*ISNUMBER(O$12),IF(AND($E30>=O$12,$E30<O$12+7),"◆",""),""),"") | P30: =IF($C30="Meilenstein",IF(ISNUMBER($E30)*ISNUMBER(P$12),IF(AND($E30>=P$12,$E30<P$12+7),"◆",""),""),"") | Q30: =IF($C30="Meilenstein",IF(ISNUMBER($E30)*ISNUMBER(Q$12),IF(AND($E30>=Q$12,$E30<Q$12+7),"◆",""),""),"") | ... AI30: =IF($C30="Meilenstein",IF(ISNUMBER($E30)*ISNUMBER(AI$12),IF(AND($E30>=AI$12,$E30<AI$12+7),"◆",""),""),"")
A31: 4.1 | B31: Test auf Geräten und Browsern | C31: Aufgabe | D31: T. Becker | E31: 46461 | F31: 46470 | G31: =IF(NOT(ISNUMBER(E31)),"",IF(C31="Meilenstein",0,NETWORKDAYS(E31,IF(ISNUMBER(F31),F31,E31),Feiertage!$I$2:$I$120))) | H31: 0 | I31: offen | J31: =IF($C31="Meilenstein",IF(ISNUMBER($E31)*ISNUMBER(J$12),IF(AND($E31>=J$12,$E31<J$12+7),"◆",""),""),"") | K31: =IF($C31="Meilenstein",IF(ISNUMBER($E31)*ISNUMBER(K$12),IF(AND($E31>=K$12,$E31<K$12+7),"◆",""),""),"") | L31: =IF($C31="Meilenstein",IF(ISNUMBER($E31)*ISNUMBER(L$12),IF(AND($E31>=L$12,$E31<L$12+7),"◆",""),""),"") | M31: =IF($C31="Meilenstein",IF(ISNUMBER($E31)*ISNUMBER(M$12),IF(AND($E31>=M$12,$E31<M$12+7),"◆",""),""),"") | N31: =IF($C31="Meilenstein",IF(ISNUMBER($E31)*ISNUMBER(N$12),IF(AND($E31>=N$12,$E31<N$12+7),"◆",""),""),"") | O31: =IF($C31="Meilenstein",IF(ISNUMBER($E31)*ISNUMBER(O$12),IF(AND($E31>=O$12,$E31<O$12+7),"◆",""),""),"") | P31: =IF($C31="Meilenstein",IF(ISNUMBER($E31)*ISNUMBER(P$12),IF(AND($E31>=P$12,$E31<P$12+7),"◆",""),""),"") | Q31: =IF($C31="Meilenstein",IF(ISNUMBER($E31)*ISNUMBER(Q$12),IF(AND($E31>=Q$12,$E31<Q$12+7),"◆",""),""),"") | ... AI31: =IF($C31="Meilenstein",IF(ISNUMBER($E31)*ISNUMBER(AI$12),IF(AND($E31>=AI$12,$E31<AI$12+7),"◆",""),""),"")
A32: 4.2 | B32: Korrekturen nach dem Test | C32: Aufgabe | D32: T. Becker | E32: 46471 | F32: 46484 | G32: =IF(NOT(ISNUMBER(E32)),"",IF(C32="Meilenstein",0,NETWORKDAYS(E32,IF(ISNUMBER(F32),F32,E32),Feiertage!$I$2:$I$120))) | H32: 0 | I32: offen | J32: =IF($C32="Meilenstein",IF(ISNUMBER($E32)*ISNUMBER(J$12),IF(AND($E32>=J$12,$E32<J$12+7),"◆",""),""),"") | K32: =IF($C32="Meilenstein",IF(ISNUMBER($E32)*ISNUMBER(K$12),IF(AND($E32>=K$12,$E32<K$12+7),"◆",""),""),"") | L32: =IF($C32="Meilenstein",IF(ISNUMBER($E32)*ISNUMBER(L$12),IF(AND($E32>=L$12,$E32<L$12+7),"◆",""),""),"") | M32: =IF($C32="Meilenstein",IF(ISNUMBER($E32)*ISNUMBER(M$12),IF(AND($E32>=M$12,$E32<M$12+7),"◆",""),""),"") | N32: =IF($C32="Meilenstein",IF(ISNUMBER($E32)*ISNUMBER(N$12),IF(AND($E32>=N$12,$E32<N$12+7),"◆",""),""),"") | O32: =IF($C32="Meilenstein",IF(ISNUMBER($E32)*ISNUMBER(O$12),IF(AND($E32>=O$12,$E32<O$12+7),"◆",""),""),"") | P32: =IF($C32="Meilenstein",IF(ISNUMBER($E32)*ISNUMBER(P$12),IF(AND($E32>=P$12,$E32<P$12+7),"◆",""),""),"") | Q32: =IF($C32="Meilenstein",IF(ISNUMBER($E32)*ISNUMBER(Q$12),IF(AND($E32>=Q$12,$E32<Q$12+7),"◆",""),""),"") | ... AI32: =IF($C32="Meilenstein",IF(ISNUMBER($E32)*ISNUMBER(AI$12),IF(AND($E32>=AI$12,$E32<AI$12+7),"◆",""),""),"")
A33: 4.3 | B33: Schulung der Redaktion | C33: Aufgabe | D33: S. Klein | E33: 46485 | F33: 46485 | G33: =IF(NOT(ISNUMBER(E33)),"",IF(C33="Meilenstein",0,NETWORKDAYS(E33,IF(ISNUMBER(F33),F33,E33),Feiertage!$I$2:$I$120))) | H33: 0 | I33: offen | J33: =IF($C33="Meilenstein",IF(ISNUMBER($E33)*ISNUMBER(J$12),IF(AND($E33>=J$12,$E33<J$12+7),"◆",""),""),"") | K33: =IF($C33="Meilenstein",IF(ISNUMBER($E33)*ISNUMBER(K$12),IF(AND($E33>=K$12,$E33<K$12+7),"◆",""),""),"") | L33: =IF($C33="Meilenstein",IF(ISNUMBER($E33)*ISNUMBER(L$12),IF(AND($E33>=L$12,$E33<L$12+7),"◆",""),""),"") | M33: =IF($C33="Meilenstein",IF(ISNUMBER($E33)*ISNUMBER(M$12),IF(AND($E33>=M$12,$E33<M$12+7),"◆",""),""),"") | N33: =IF($C33="Meilenstein",IF(ISNUMBER($E33)*ISNUMBER(N$12),IF(AND($E33>=N$12,$E33<N$12+7),"◆",""),""),"") | O33: =IF($C33="Meilenstein",IF(ISNUMBER($E33)*ISNUMBER(O$12),IF(AND($E33>=O$12,$E33<O$12+7),"◆",""),""),"") | P33: =IF($C33="Meilenstein",IF(ISNUMBER($E33)*ISNUMBER(P$12),IF(AND($E33>=P$12,$E33<P$12+7),"◆",""),""),"") | Q33: =IF($C33="Meilenstein",IF(ISNUMBER($E33)*ISNUMBER(Q$12),IF(AND($E33>=Q$12,$E33<Q$12+7),"◆",""),""),"") | ... AI33: =IF($C33="Meilenstein",IF(ISNUMBER($E33)*ISNUMBER(AI$12),IF(AND($E33>=AI$12,$E33<AI$12+7),"◆",""),""),"")
A34: 4.4 | B34: Abnahme durch Weber | C34: Meilenstein | D34: A. Weber | E34: 46489 | G34: =IF(NOT(ISNUMBER(E34)),"",IF(C34="Meilenstein",0,NETWORKDAYS(E34,IF(ISNUMBER(F34),F34,E34),Feiertage!$I$2:$I$120))) | H34: 0 | I34: offen | J34: =IF($C34="Meilenstein",IF(ISNUMBER($E34)*ISNUMBER(J$12),IF(AND($E34>=J$12,$E34<J$12+7),"◆",""),""),"") | K34: =IF($C34="Meilenstein",IF(ISNUMBER($E34)*ISNUMBER(K$12),IF(AND($E34>=K$12,$E34<K$12+7),"◆",""),""),"") | L34: =IF($C34="Meilenstein",IF(ISNUMBER($E34)*ISNUMBER(L$12),IF(AND($E34>=L$12,$E34<L$12+7),"◆",""),""),"") | M34: =IF($C34="Meilenstein",IF(ISNUMBER($E34)*ISNUMBER(M$12),IF(AND($E34>=M$12,$E34<M$12+7),"◆",""),""),"") | N34: =IF($C34="Meilenstein",IF(ISNUMBER($E34)*ISNUMBER(N$12),IF(AND($E34>=N$12,$E34<N$12+7),"◆",""),""),"") | O34: =IF($C34="Meilenstein",IF(ISNUMBER($E34)*ISNUMBER(O$12),IF(AND($E34>=O$12,$E34<O$12+7),"◆",""),""),"") | P34: =IF($C34="Meilenstein",IF(ISNUMBER($E34)*ISNUMBER(P$12),IF(AND($E34>=P$12,$E34<P$12+7),"◆",""),""),"") | Q34: =IF($C34="Meilenstein",IF(ISNUMBER($E34)*ISNUMBER(Q$12),IF(AND($E34>=Q$12,$E34<Q$12+7),"◆",""),""),"") | ... AI34: =IF($C34="Meilenstein",IF(ISNUMBER($E34)*ISNUMBER(AI$12),IF(AND($E34>=AI$12,$E34<AI$12+7),"◆",""),""),"")
A35: 4.5 | B35: Livegang | C35: Meilenstein | D35: T. Becker | E35: 46491 | G35: =IF(NOT(ISNUMBER(E35)),"",IF(C35="Meilenstein",0,NETWORKDAYS(E35,IF(ISNUMBER(F35),F35,E35),Feiertage!$I$2:$I$120))) | H35: 0 | I35: offen | J35: =IF($C35="Meilenstein",IF(ISNUMBER($E35)*ISNUMBER(J$12),IF(AND($E35>=J$12,$E35<J$12+7),"◆",""),""),"") | K35: =IF($C35="Meilenstein",IF(ISNUMBER($E35)*ISNUMBER(K$12),IF(AND($E35>=K$12,$E35<K$12+7),"◆",""),""),"") | L35: =IF($C35="Meilenstein",IF(ISNUMBER($E35)*ISNUMBER(L$12),IF(AND($E35>=L$12,$E35<L$12+7),"◆",""),""),"") | M35: =IF($C35="Meilenstein",IF(ISNUMBER($E35)*ISNUMBER(M$12),IF(AND($E35>=M$12,$E35<M$12+7),"◆",""),""),"") | N35: =IF($C35="Meilenstein",IF(ISNUMBER($E35)*ISNUMBER(N$12),IF(AND($E35>=N$12,$E35<N$12+7),"◆",""),""),"") | O35: =IF($C35="Meilenstein",IF(ISNUMBER($E35)*ISNUMBER(O$12),IF(AND($E35>=O$12,$E35<O$12+7),"◆",""),""),"") | P35: =IF($C35="Meilenstein",IF(ISNUMBER($E35)*ISNUMBER(P$12),IF(AND($E35>=P$12,$E35<P$12+7),"◆",""),""),"") | Q35: =IF($C35="Meilenstein",IF(ISNUMBER($E35)*ISNUMBER(Q$12),IF(AND($E35>=Q$12,$E35<Q$12+7),"◆",""),""),"") | ... AI35: =IF($C35="Meilenstein",IF(ISNUMBER($E35)*ISNUMBER(AI$12),IF(AND($E35>=AI$12,$E35<AI$12+7),"◆",""),""),"")
A36: 4.6 | B36: Nachbetreuung und Abschluss | C36: Aufgabe | D36: S. Klein | E36: 46491 | F36: 46500 | G36: =IF(NOT(ISNUMBER(E36)),"",IF(C36="Meilenstein",0,NETWORKDAYS(E36,IF(ISNUMBER(F36),F36,E36),Feiertage!$I$2:$I$120))) | H36: 0 | I36: offen | J36: =IF($C36="Meilenstein",IF(ISNUMBER($E36)*ISNUMBER(J$12),IF(AND($E36>=J$12,$E36<J$12+7),"◆",""),""),"") | K36: =IF($C36="Meilenstein",IF(ISNUMBER($E36)*ISNUMBER(K$12),IF(AND($E36>=K$12,$E36<K$12+7),"◆",""),""),"") | L36: =IF($C36="Meilenstein",IF(ISNUMBER($E36)*ISNUMBER(L$12),IF(AND($E36>=L$12,$E36<L$12+7),"◆",""),""),"") | M36: =IF($C36="Meilenstein",IF(ISNUMBER($E36)*ISNUMBER(M$12),IF(AND($E36>=M$12,$E36<M$12+7),"◆",""),""),"") | N36: =IF($C36="Meilenstein",IF(ISNUMBER($E36)*ISNUMBER(N$12),IF(AND($E36>=N$12,$E36<N$12+7),"◆",""),""),"") | O36: =IF($C36="Meilenstein",IF(ISNUMBER($E36)*ISNUMBER(O$12),IF(AND($E36>=O$12,$E36<O$12+7),"◆",""),""),"") | P36: =IF($C36="Meilenstein",IF(ISNUMBER($E36)*ISNUMBER(P$12),IF(AND($E36>=P$12,$E36<P$12+7),"◆",""),""),"") | Q36: =IF($C36="Meilenstein",IF(ISNUMBER($E36)*ISNUMBER(Q$12),IF(AND($E36>=Q$12,$E36<Q$12+7),"◆",""),""),"") | ... AI36: =IF($C36="Meilenstein",IF(ISNUMBER($E36)*ISNUMBER(AI$12),IF(AND($E36>=AI$12,$E36<AI$12+7),"◆",""),""),"")
G37: =IF(NOT(ISNUMBER(E37)),"",IF(C37="Meilenstein",0,NETWORKDAYS(E37,IF(ISNUMBER(F37),F37,E37),Feiertage!$I$2:$I$120))) | J37: =IF($C37="Meilenstein",IF(ISNUMBER($E37)*ISNUMBER(J$12),IF(AND($E37>=J$12,$E37<J$12+7),"◆",""),""),"") | K37: =IF($C37="Meilenstein",IF(ISNUMBER($E37)*ISNUMBER(K$12),IF(AND($E37>=K$12,$E37<K$12+7),"◆",""),""),"") | L37: =IF($C37="Meilenstein",IF(ISNUMBER($E37)*ISNUMBER(L$12),IF(AND($E37>=L$12,$E37<L$12+7),"◆",""),""),"") | M37: =IF($C37="Meilenstein",IF(ISNUMBER($E37)*ISNUMBER(M$12),IF(AND($E37>=M$12,$E37<M$12+7),"◆",""),""),"") | N37: =IF($C37="Meilenstein",IF(ISNUMBER($E37)*ISNUMBER(N$12),IF(AND($E37>=N$12,$E37<N$12+7),"◆",""),""),"") | O37: =IF($C37="Meilenstein",IF(ISNUMBER($E37)*ISNUMBER(O$12),IF(AND($E37>=O$12,$E37<O$12+7),"◆",""),""),"") | P37: =IF($C37="Meilenstein",IF(ISNUMBER($E37)*ISNUMBER(P$12),IF(AND($E37>=P$12,$E37<P$12+7),"◆",""),""),"") | Q37: =IF($C37="Meilenstein",IF(ISNUMBER($E37)*ISNUMBER(Q$12),IF(AND($E37>=Q$12,$E37<Q$12+7),"◆",""),""),"") | ... AI37: =IF($C37="Meilenstein",IF(ISNUMBER($E37)*ISNUMBER(AI$12),IF(AND($E37>=AI$12,$E37<AI$12+7),"◆",""),""),"")
G38: =IF(NOT(ISNUMBER(E38)),"",IF(C38="Meilenstein",0,NETWORKDAYS(E38,IF(ISNUMBER(F38),F38,E38),Feiertage!$I$2:$I$120))) | J38: =IF($C38="Meilenstein",IF(ISNUMBER($E38)*ISNUMBER(J$12),IF(AND($E38>=J$12,$E38<J$12+7),"◆",""),""),"") | K38: =IF($C38="Meilenstein",IF(ISNUMBER($E38)*ISNUMBER(K$12),IF(AND($E38>=K$12,$E38<K$12+7),"◆",""),""),"") | L38: =IF($C38="Meilenstein",IF(ISNUMBER($E38)*ISNUMBER(L$12),IF(AND($E38>=L$12,$E38<L$12+7),"◆",""),""),"") | M38: =IF($C38="Meilenstein",IF(ISNUMBER($E38)*ISNUMBER(M$12),IF(AND($E38>=M$12,$E38<M$12+7),"◆",""),""),"") | N38: =IF($C38="Meilenstein",IF(ISNUMBER($E38)*ISNUMBER(N$12),IF(AND($E38>=N$12,$E38<N$12+7),"◆",""),""),"") | O38: =IF($C38="Meilenstein",IF(ISNUMBER($E38)*ISNUMBER(O$12),IF(AND($E38>=O$12,$E38<O$12+7),"◆",""),""),"") | P38: =IF($C38="Meilenstein",IF(ISNUMBER($E38)*ISNUMBER(P$12),IF(AND($E38>=P$12,$E38<P$12+7),"◆",""),""),"") | Q38: =IF($C38="Meilenstein",IF(ISNUMBER($E38)*ISNUMBER(Q$12),IF(AND($E38>=Q$12,$E38<Q$12+7),"◆",""),""),"") | ... AI38: =IF($C38="Meilenstein",IF(ISNUMBER($E38)*ISNUMBER(AI$12),IF(AND($E38>=AI$12,$E38<AI$12+7),"◆",""),""),"")
G39: =IF(NOT(ISNUMBER(E39)),"",IF(C39="Meilenstein",0,NETWORKDAYS(E39,IF(ISNUMBER(F39),F39,E39),Feiertage!$I$2:$I$120))) | J39: =IF($C39="Meilenstein",IF(ISNUMBER($E39)*ISNUMBER(J$12),IF(AND($E39>=J$12,$E39<J$12+7),"◆",""),""),"") | K39: =IF($C39="Meilenstein",IF(ISNUMBER($E39)*ISNUMBER(K$12),IF(AND($E39>=K$12,$E39<K$12+7),"◆",""),""),"") | L39: =IF($C39="Meilenstein",IF(ISNUMBER($E39)*ISNUMBER(L$12),IF(AND($E39>=L$12,$E39<L$12+7),"◆",""),""),"") | M39: =IF($C39="Meilenstein",IF(ISNUMBER($E39)*ISNUMBER(M$12),IF(AND($E39>=M$12,$E39<M$12+7),"◆",""),""),"") | N39: =IF($C39="Meilenstein",IF(ISNUMBER($E39)*ISNUMBER(N$12),IF(AND($E39>=N$12,$E39<N$12+7),"◆",""),""),"") | O39: =IF($C39="Meilenstein",IF(ISNUMBER($E39)*ISNUMBER(O$12),IF(AND($E39>=O$12,$E39<O$12+7),"◆",""),""),"") | P39: =IF($C39="Meilenstein",IF(ISNUMBER($E39)*ISNUMBER(P$12),IF(AND($E39>=P$12,$E39<P$12+7),"◆",""),""),"") | Q39: =IF($C39="Meilenstein",IF(ISNUMBER($E39)*ISNUMBER(Q$12),IF(AND($E39>=Q$12,$E39<Q$12+7),"◆",""),""),"") | ... AI39: =IF($C39="Meilenstein",IF(ISNUMBER($E39)*ISNUMBER(AI$12),IF(AND($E39>=AI$12,$E39<AI$12+7),"◆",""),""),"")
G40: =IF(NOT(ISNUMBER(E40)),"",IF(C40="Meilenstein",0,NETWORKDAYS(E40,IF(ISNUMBER(F40),F40,E40),Feiertage!$I$2:$I$120))) | J40: =IF($C40="Meilenstein",IF(ISNUMBER($E40)*ISNUMBER(J$12),IF(AND($E40>=J$12,$E40<J$12+7),"◆",""),""),"") | K40: =IF($C40="Meilenstein",IF(ISNUMBER($E40)*ISNUMBER(K$12),IF(AND($E40>=K$12,$E40<K$12+7),"◆",""),""),"") | L40: =IF($C40="Meilenstein",IF(ISNUMBER($E40)*ISNUMBER(L$12),IF(AND($E40>=L$12,$E40<L$12+7),"◆",""),""),"") | M40: =IF($C40="Meilenstein",IF(ISNUMBER($E40)*ISNUMBER(M$12),IF(AND($E40>=M$12,$E40<M$12+7),"◆",""),""),"") | N40: =IF($C40="Meilenstein",IF(ISNUMBER($E40)*ISNUMBER(N$12),IF(AND($E40>=N$12,$E40<N$12+7),"◆",""),""),"") | O40: =IF($C40="Meilenstein",IF(ISNUMBER($E40)*ISNUMBER(O$12),IF(AND($E40>=O$12,$E40<O$12+7),"◆",""),""),"") | P40: =IF($C40="Meilenstein",IF(ISNUMBER($E40)*ISNUMBER(P$12),IF(AND($E40>=P$12,$E40<P$12+7),"◆",""),""),"") | Q40: =IF($C40="Meilenstein",IF(ISNUMBER($E40)*ISNUMBER(Q$12),IF(AND($E40>=Q$12,$E40<Q$12+7),"◆",""),""),"") | ... AI40: =IF($C40="Meilenstein",IF(ISNUMBER($E40)*ISNUMBER(AI$12),IF(AND($E40>=AI$12,$E40<AI$12+7),"◆",""),""),"")
G41: =IF(NOT(ISNUMBER(E41)),"",IF(C41="Meilenstein",0,NETWORKDAYS(E41,IF(ISNUMBER(F41),F41,E41),Feiertage!$I$2:$I$120))) | J41: =IF($C41="Meilenstein",IF(ISNUMBER($E41)*ISNUMBER(J$12),IF(AND($E41>=J$12,$E41<J$12+7),"◆",""),""),"") | K41: =IF($C41="Meilenstein",IF(ISNUMBER($E41)*ISNUMBER(K$12),IF(AND($E41>=K$12,$E41<K$12+7),"◆",""),""),"") | L41: =IF($C41="Meilenstein",IF(ISNUMBER($E41)*ISNUMBER(L$12),IF(AND($E41>=L$12,$E41<L$12+7),"◆",""),""),"") | M41: =IF($C41="Meilenstein",IF(ISNUMBER($E41)*ISNUMBER(M$12),IF(AND($E41>=M$12,$E41<M$12+7),"◆",""),""),"") | N41: =IF($C41="Meilenstein",IF(ISNUMBER($E41)*ISNUMBER(N$12),IF(AND($E41>=N$12,$E41<N$12+7),"◆",""),""),"") | O41: =IF($C41="Meilenstein",IF(ISNUMBER($E41)*ISNUMBER(O$12),IF(AND($E41>=O$12,$E41<O$12+7),"◆",""),""),"") | P41: =IF($C41="Meilenstein",IF(ISNUMBER($E41)*ISNUMBER(P$12),IF(AND($E41>=P$12,$E41<P$12+7),"◆",""),""),"") | Q41: =IF($C41="Meilenstein",IF(ISNUMBER($E41)*ISNUMBER(Q$12),IF(AND($E41>=Q$12,$E41<Q$12+7),"◆",""),""),"") | ... AI41: =IF($C41="Meilenstein",IF(ISNUMBER($E41)*ISNUMBER(AI$12),IF(AND($E41>=AI$12,$E41<AI$12+7),"◆",""),""),"")
G42: =IF(NOT(ISNUMBER(E42)),"",IF(C42="Meilenstein",0,NETWORKDAYS(E42,IF(ISNUMBER(F42),F42,E42),Feiertage!$I$2:$I$120))) | J42: =IF($C42="Meilenstein",IF(ISNUMBER($E42)*ISNUMBER(J$12),IF(AND($E42>=J$12,$E42<J$12+7),"◆",""),""),"") | K42: =IF($C42="Meilenstein",IF(ISNUMBER($E42)*ISNUMBER(K$12),IF(AND($E42>=K$12,$E42<K$12+7),"◆",""),""),"") | L42: =IF($C42="Meilenstein",IF(ISNUMBER($E42)*ISNUMBER(L$12),IF(AND($E42>=L$12,$E42<L$12+7),"◆",""),""),"") | M42: =IF($C42="Meilenstein",IF(ISNUMBER($E42)*ISNUMBER(M$12),IF(AND($E42>=M$12,$E42<M$12+7),"◆",""),""),"") | N42: =IF($C42="Meilenstein",IF(ISNUMBER($E42)*ISNUMBER(N$12),IF(AND($E42>=N$12,$E42<N$12+7),"◆",""),""),"") | O42: =IF($C42="Meilenstein",IF(ISNUMBER($E42)*ISNUMBER(O$12),IF(AND($E42>=O$12,$E42<O$12+7),"◆",""),""),"") | P42: =IF($C42="Meilenstein",IF(ISNUMBER($E42)*ISNUMBER(P$12),IF(AND($E42>=P$12,$E42<P$12+7),"◆",""),""),"") | Q42: =IF($C42="Meilenstein",IF(ISNUMBER($E42)*ISNUMBER(Q$12),IF(AND($E42>=Q$12,$E42<Q$12+7),"◆",""),""),"") | ... AI42: =IF($C42="Meilenstein",IF(ISNUMBER($E42)*ISNUMBER(AI$12),IF(AND($E42>=AI$12,$E42<AI$12+7),"◆",""),""),"")
...

Sheet Feiertage
A1: Datum | B1: Feiertag | C1: Gilt in (Kürzel oder „alle“) | E1: Bundesland | F1: Kürzel | H1: Feiertage (Projektplan) | I1: Feiertage (Beispiel)
A2: 46023 | B2: Neujahr | C2: alle | E2: Baden-Württemberg | F2: BW | H2: =IF(AND(ISNUMBER(A2),'Projektplan'!$G$6<>""),IF(OR(C2="alle",ISNUMBER(SEARCH(" "&IFERROR(VLOOKUP('Projektplan'!$G$6,$E$2:$F$17,2,FALSE),"--")&" "," "&C2&" "))),A2,0),0) | I2: =IF(AND(ISNUMBER(A2),'Beispiel'!$G$6<>""),IF(OR(C2="alle",ISNUMBER(SEARCH(" "&IFERROR(VLOOKUP('Beispiel'!$G$6,$E$2:$F$17,2,FALSE),"--")&" "," "&C2&" "))),A2,0),0)
A3: 46028 | B3: Heilige Drei Könige | C3: BW BY ST | E3: Bayern | F3: BY | H3: =IF(AND(ISNUMBER(A3),'Projektplan'!$G$6<>""),IF(OR(C3="alle",ISNUMBER(SEARCH(" "&IFERROR(VLOOKUP('Projektplan'!$G$6,$E$2:$F$17,2,FALSE),"--")&" "," "&C3&" "))),A3,0),0) | I3: =IF(AND(ISNUMBER(A3),'Beispiel'!$G$6<>""),IF(OR(C3="alle",ISNUMBER(SEARCH(" "&IFERROR(VLOOKUP('Beispiel'!$G$6,$E$2:$F$17,2,FALSE),"--")&" "," "&C3&" "))),A3,0),0)
A4: 46089 | B4: Internationaler Frauentag | C4: BE MV | E4: Berlin | F4: BE | H4: =IF(AND(ISNUMBER(A4),'Projektplan'!$G$6<>""),IF(OR(C4="alle",ISNUMBER(SEARCH(" "&IFERROR(VLOOKUP('Projektplan'!$G$6,$E$2:$F$17,2,FALSE),"--")&" "," "&C4&" "))),A4,0),0) | I4: =IF(AND(ISNUMBER(A4),'Beispiel'!$G$6<>""),IF(OR(C4="alle",ISNUMBER(SEARCH(" "&IFERROR(VLOOKUP('Beispiel'!$G$6,$E$2:$F$17,2,FALSE),"--")&" "," "&C4&" "))),A4,0),0)
A5: 46115 | B5: Karfreitag | C5: alle | E5: Brandenburg | F5: BB | H5: =IF(AND(ISNUMBER(A5),'Projektplan'!$G$6<>""),IF(OR(C5="alle",ISNUMBER(SEARCH(" "&IFERROR(VLOOKUP('Projektplan'!$G$6,$E$2:$F$17,2,FALSE),"--")&" "," "&C5&" "))),A5,0),0) | I5: =IF(AND(ISNUMBER(A5),'Beispiel'!$G$6<>""),IF(OR(C5="alle",ISNUMBER(SEARCH(" "&IFERROR(VLOOKUP('Beispiel'!$G$6,$E$2:$F$17,2,FALSE),"--")&" "," "&C5&" "))),A5,0),0)
A6: 46118 | B6: Ostermontag | C6: alle | E6: Bremen | F6: HB | H6: =IF(AND(ISNUMBER(A6),'Projektplan'!$G$6<>""),IF(OR(C6="alle",ISNUMBER(SEARCH(" "&IFERROR(VLOOKUP('Projektplan'!$G$6,$E$2:$F$17,2,FALSE),"--")&" "," "&C6&" "))),A6,0),0) | I6: =IF(AND(ISNUMBER(A6),'Beispiel'!$G$6<>""),IF(OR(C6="alle",ISNUMBER(SEARCH(" "&IFERROR(VLOOKUP('Beispiel'!$G$6,$E$2:$F$17,2,FALSE),"--")&" "," "&C6&" "))),A6,0),0)
A7: 46143 | B7: Tag der Arbeit | C7: alle | E7: Hamburg | F7: HH | H7: =IF(AND(ISNUMBER(A7),'Projektplan'!$G$6<>""),IF(OR(C7="alle",ISNUMBER(SEARCH(" "&IFERROR(VLOOKUP('Projektplan'!$G$6,$E$2:$F$17,2,FALSE),"--")&" "," "&C7&" "))),A7,0),0) | I7: =IF(AND(ISNUMBER(A7),'Beispiel'!$G$6<>""),IF(OR(C7="alle",ISNUMBER(SEARCH(" "&IFERROR(VLOOKUP('Beispiel'!$G$6,$E$2:$F$17,2,FALSE),"--")&" "," "&C7&" "))),A7,0),0)
A8: 46156 | B8: Christi Himmelfahrt | C8: alle | E8: Hessen | F8: HE | H8: =IF(AND(ISNUMBER(A8),'Projektplan'!$G$6<>""),IF(OR(C8="alle",ISNUMBER(SEARCH(" "&IFERROR(VLOOKUP('Projektplan'!$G$6,$E$2:$F$17,2,FALSE),"--")&" "," "&C8&" "))),A8,0),0) | I8: =IF(AND(ISNUMBER(A8),'Beispiel'!$G$6<>""),IF(OR(C8="alle",ISNUMBER(SEARCH(" "&IFERROR(VLOOKUP('Beispiel'!$G$6,$E$2:$F$17,2,FALSE),"--")&" "," "&C8&" "))),A8,0),0)
A9: 46167 | B9: Pfingstmontag | C9: alle | E9: Mecklenburg-Vorpommern | F9: MV | H9: =IF(AND(ISNUMBER(A9),'Projektplan'!$G$6<>""),IF(OR(C9="alle",ISNUMBER(SEARCH(" "&IFERROR(VLOOKUP('Projektplan'!$G$6,$E$2:$F$17,2,FALSE),"--")&" "," "&C9&" "))),A9,0),0) | I9: =IF(AND(ISNUMBER(A9),'Beispiel'!$G$6<>""),IF(OR(C9="alle",ISNUMBER(SEARCH(" "&IFERROR(VLOOKUP('Beispiel'!$G$6,$E$2:$F$17,2,FALSE),"--")&" "," "&C9&" "))),A9,0),0)
A10: 46177 | B10: Fronleichnam | C10: BW BY HE NW RP SL | E10: Niedersachsen | F10: NI | H10: =IF(AND(ISNUMBER(A10),'Projektplan'!$G$6<>""),IF(OR(C10="alle",ISNUMBER(SEARCH(" "&IFERROR(VLOOKUP('Projektplan'!$G$6,$E$2:$F$17,2,FALSE),"--")&" "," "&C10&" "))),A10,0),0) | I10: =IF(AND(ISNUMBER(A10),'Beispiel'!$G$6<>""),IF(OR(C10="alle",ISNUMBER(SEARCH(" "&IFERROR(VLOOKUP('Beispiel'!$G$6,$E$2:$F$17,2,FALSE),"--")&" "," "&C10&" "))),A10,0),0)
A11: 46249 | B11: Mariä Himmelfahrt | C11: SL | E11: Nordrhein-Westfalen | F11: NW | H11: =IF(AND(ISNUMBER(A11),'Projektplan'!$G$6<>""),IF(OR(C11="alle",ISNUMBER(SEARCH(" "&IFERROR(VLOOKUP('Projektplan'!$G$6,$E$2:$F$17,2,FALSE),"--")&" "," "&C11&" "))),A11,0),0) | I11: =IF(AND(ISNUMBER(A11),'Beispiel'!$G$6<>""),IF(OR(C11="alle",ISNUMBER(SEARCH(" "&IFERROR(VLOOKUP('Beispiel'!$G$6,$E$2:$F$17,2,FALSE),"--")&" "," "&C11&" "))),A11,0),0)
A12: 46285 | B12: Weltkindertag | C12: TH | E12: Rheinland-Pfalz | F12: RP | H12: =IF(AND(ISNUMBER(A12),'Projektplan'!$G$6<>""),IF(OR(C12="alle",ISNUMBER(SEARCH(" "&IFERROR(VLOOKUP('Projektplan'!$G$6,$E$2:$F$17,2,FALSE),"--")&" "," "&C12&" "))),A12,0),0) | I12: =IF(AND(ISNUMBER(A12),'Beispiel'!$G$6<>""),IF(OR(C12="alle",ISNUMBER(SEARCH(" "&IFERROR(VLOOKUP('Beispiel'!$G$6,$E$2:$F$17,2,FALSE),"--")&" "," "&C12&" "))),A12,0),0)
