Workbook

Sheet Mahnungsrechner
A1: Mahnungsrechner
A2: Forderung und Verzugszeitraum eintragen. Das Blatt rechnet Zinstage, Verzugszinsen je Zeitabschnitt, Pauschale und Gesamtforderung auf den Cent.
A3: Weiß: hier eintragen | C3: Grau: wird berechnet
A5: Forderung
A6: Kunde
A7: Rechnungs-Nr. | D7: Rechnungsdatum
A8: Fällig am | D8: Offener Betrag (brutto)
A9: Kunde ist | B9: Unternehmen | D9: Pauschale 40 € verlangen | E9: Ja
A11: Verzug und Zinsen
A12: Verzug ab (erster Zinstag) | D12: Zinsen bis (Stichtag)
A13: Tage seit Fälligkeit | B13: =IF(OR(B8="",E12=""),"",E12-B8) | D13: Zinstage | E13: =IF(OR(B12="",E12=""),"",MAX(0,E12-B12+1))
A14: Aufschlag (Prozentpunkte) | B14: =IF(B9="Verbraucher",5,9) | D14: Verzugszins am Stichtag | E14: =IF(E12="","",IFERROR(IF(INDEX(Basiszinssatz!$B$6:$B$17,MATCH(E12,Basiszinssatz!$A$6:$A$17,1))="","fehlt",INDEX(Basiszinssatz!$B$6:$B$17,MATCH(E12,Basiszinssatz!$A$6:$A$17,1))+B14),"fehlt"))
A15: =IF(OR(B12="",E12=""),"Verzug ab und Zinsen bis eintragen.",IF(E12<B12,"„Zinsen bis“ liegt vor „Verzug ab“.",IF(COUNTIF(E19:E30,"fehlt")>0,"Für einen Teil des Zeitraums fehlt der Basiszinssatz: bitte im Blatt „Basiszinssatz“ nachtragen.",IF(B12<Basiszinssatz!A6,"Verzug beginnt vor dem ersten Eintrag im Blatt „Basiszinssatz“: dort ältere Werte ergänzen.",""))))
A17: Zinsen je Zeitabschnitt (der Basiszinssatz ändert sich halbjährlich)
A18: Basiszinssatz gültig ab | B18: von | C18: bis | D18: Tage | E18: Zinssatz | F18: Zinsen
A19: =IF(Basiszinssatz!$A$6="","",Basiszinssatz!$A$6) | B19: =IF(OR($A19="",$B$12="",$E$12=""),"",IF(MAX($B$12,$A19)<=MIN($E$12,IF(Basiszinssatz!$A$7="",DATE(2099,12,31),Basiszinssatz!$A$7-1)),MAX($B$12,$A19),"")) | C19: =IF($B19="","",MIN($E$12,IF(Basiszinssatz!$A$7="",DATE(2099,12,31),Basiszinssatz!$A$7-1))) | D19: =IF($B19="","",$C19-$B19+1) | E19: =IF($B19="","",IF(Basiszinssatz!$B$6="","fehlt",Basiszinssatz!$B$6+$B$14)) | F19: =IF(OR($B19="",$E19="fehlt"),"",ROUND($E$8*$E19/100*$D19/365,2))
A20: =IF(Basiszinssatz!$A$7="","",Basiszinssatz!$A$7) | B20: =IF(OR($A20="",$B$12="",$E$12=""),"",IF(MAX($B$12,$A20)<=MIN($E$12,IF(Basiszinssatz!$A$8="",DATE(2099,12,31),Basiszinssatz!$A$8-1)),MAX($B$12,$A20),"")) | C20: =IF($B20="","",MIN($E$12,IF(Basiszinssatz!$A$8="",DATE(2099,12,31),Basiszinssatz!$A$8-1))) | D20: =IF($B20="","",$C20-$B20+1) | E20: =IF($B20="","",IF(Basiszinssatz!$B$7="","fehlt",Basiszinssatz!$B$7+$B$14)) | F20: =IF(OR($B20="",$E20="fehlt"),"",ROUND($E$8*$E20/100*$D20/365,2))
A21: =IF(Basiszinssatz!$A$8="","",Basiszinssatz!$A$8) | B21: =IF(OR($A21="",$B$12="",$E$12=""),"",IF(MAX($B$12,$A21)<=MIN($E$12,IF(Basiszinssatz!$A$9="",DATE(2099,12,31),Basiszinssatz!$A$9-1)),MAX($B$12,$A21),"")) | C21: =IF($B21="","",MIN($E$12,IF(Basiszinssatz!$A$9="",DATE(2099,12,31),Basiszinssatz!$A$9-1))) | D21: =IF($B21="","",$C21-$B21+1) | E21: =IF($B21="","",IF(Basiszinssatz!$B$8="","fehlt",Basiszinssatz!$B$8+$B$14)) | F21: =IF(OR($B21="",$E21="fehlt"),"",ROUND($E$8*$E21/100*$D21/365,2))
A22: =IF(Basiszinssatz!$A$9="","",Basiszinssatz!$A$9) | B22: =IF(OR($A22="",$B$12="",$E$12=""),"",IF(MAX($B$12,$A22)<=MIN($E$12,IF(Basiszinssatz!$A$10="",DATE(2099,12,31),Basiszinssatz!$A$10-1)),MAX($B$12,$A22),"")) | C22: =IF($B22="","",MIN($E$12,IF(Basiszinssatz!$A$10="",DATE(2099,12,31),Basiszinssatz!$A$10-1))) | D22: =IF($B22="","",$C22-$B22+1) | E22: =IF($B22="","",IF(Basiszinssatz!$B$9="","fehlt",Basiszinssatz!$B$9+$B$14)) | F22: =IF(OR($B22="",$E22="fehlt"),"",ROUND($E$8*$E22/100*$D22/365,2))
A23: =IF(Basiszinssatz!$A$10="","",Basiszinssatz!$A$10) | B23: =IF(OR($A23="",$B$12="",$E$12=""),"",IF(MAX($B$12,$A23)<=MIN($E$12,IF(Basiszinssatz!$A$11="",DATE(2099,12,31),Basiszinssatz!$A$11-1)),MAX($B$12,$A23),"")) | C23: =IF($B23="","",MIN($E$12,IF(Basiszinssatz!$A$11="",DATE(2099,12,31),Basiszinssatz!$A$11-1))) | D23: =IF($B23="","",$C23-$B23+1) | E23: =IF($B23="","",IF(Basiszinssatz!$B$10="","fehlt",Basiszinssatz!$B$10+$B$14)) | F23: =IF(OR($B23="",$E23="fehlt"),"",ROUND($E$8*$E23/100*$D23/365,2))
A24: =IF(Basiszinssatz!$A$11="","",Basiszinssatz!$A$11) | B24: =IF(OR($A24="",$B$12="",$E$12=""),"",IF(MAX($B$12,$A24)<=MIN($E$12,IF(Basiszinssatz!$A$12="",DATE(2099,12,31),Basiszinssatz!$A$12-1)),MAX($B$12,$A24),"")) | C24: =IF($B24="","",MIN($E$12,IF(Basiszinssatz!$A$12="",DATE(2099,12,31),Basiszinssatz!$A$12-1))) | D24: =IF($B24="","",$C24-$B24+1) | E24: =IF($B24="","",IF(Basiszinssatz!$B$11="","fehlt",Basiszinssatz!$B$11+$B$14)) | F24: =IF(OR($B24="",$E24="fehlt"),"",ROUND($E$8*$E24/100*$D24/365,2))
A25: =IF(Basiszinssatz!$A$12="","",Basiszinssatz!$A$12) | B25: =IF(OR($A25="",$B$12="",$E$12=""),"",IF(MAX($B$12,$A25)<=MIN($E$12,IF(Basiszinssatz!$A$13="",DATE(2099,12,31),Basiszinssatz!$A$13-1)),MAX($B$12,$A25),"")) | C25: =IF($B25="","",MIN($E$12,IF(Basiszinssatz!$A$13="",DATE(2099,12,31),Basiszinssatz!$A$13-1))) | D25: =IF($B25="","",$C25-$B25+1) | E25: =IF($B25="","",IF(Basiszinssatz!$B$12="","fehlt",Basiszinssatz!$B$12+$B$14)) | F25: =IF(OR($B25="",$E25="fehlt"),"",ROUND($E$8*$E25/100*$D25/365,2))
A26: =IF(Basiszinssatz!$A$13="","",Basiszinssatz!$A$13) | B26: =IF(OR($A26="",$B$12="",$E$12=""),"",IF(MAX($B$12,$A26)<=MIN($E$12,IF(Basiszinssatz!$A$14="",DATE(2099,12,31),Basiszinssatz!$A$14-1)),MAX($B$12,$A26),"")) | C26: =IF($B26="","",MIN($E$12,IF(Basiszinssatz!$A$14="",DATE(2099,12,31),Basiszinssatz!$A$14-1))) | D26: =IF($B26="","",$C26-$B26+1) | E26: =IF($B26="","",IF(Basiszinssatz!$B$13="","fehlt",Basiszinssatz!$B$13+$B$14)) | F26: =IF(OR($B26="",$E26="fehlt"),"",ROUND($E$8*$E26/100*$D26/365,2))
A27: =IF(Basiszinssatz!$A$14="","",Basiszinssatz!$A$14) | B27: =IF(OR($A27="",$B$12="",$E$12=""),"",IF(MAX($B$12,$A27)<=MIN($E$12,IF(Basiszinssatz!$A$15="",DATE(2099,12,31),Basiszinssatz!$A$15-1)),MAX($B$12,$A27),"")) | C27: =IF($B27="","",MIN($E$12,IF(Basiszinssatz!$A$15="",DATE(2099,12,31),Basiszinssatz!$A$15-1))) | D27: =IF($B27="","",$C27-$B27+1) | E27: =IF($B27="","",IF(Basiszinssatz!$B$14="","fehlt",Basiszinssatz!$B$14+$B$14)) | F27: =IF(OR($B27="",$E27="fehlt"),"",ROUND($E$8*$E27/100*$D27/365,2))
A28: =IF(Basiszinssatz!$A$15="","",Basiszinssatz!$A$15) | B28: =IF(OR($A28="",$B$12="",$E$12=""),"",IF(MAX($B$12,$A28)<=MIN($E$12,IF(Basiszinssatz!$A$16="",DATE(2099,12,31),Basiszinssatz!$A$16-1)),MAX($B$12,$A28),"")) | C28: =IF($B28="","",MIN($E$12,IF(Basiszinssatz!$A$16="",DATE(2099,12,31),Basiszinssatz!$A$16-1))) | D28: =IF($B28="","",$C28-$B28+1) | E28: =IF($B28="","",IF(Basiszinssatz!$B$15="","fehlt",Basiszinssatz!$B$15+$B$14)) | F28: =IF(OR($B28="",$E28="fehlt"),"",ROUND($E$8*$E28/100*$D28/365,2))
A29: =IF(Basiszinssatz!$A$16="","",Basiszinssatz!$A$16) | B29: =IF(OR($A29="",$B$12="",$E$12=""),"",IF(MAX($B$12,$A29)<=MIN($E$12,IF(Basiszinssatz!$A$17="",DATE(2099,12,31),Basiszinssatz!$A$17-1)),MAX($B$12,$A29),"")) | C29: =IF($B29="","",MIN($E$12,IF(Basiszinssatz!$A$17="",DATE(2099,12,31),Basiszinssatz!$A$17-1))) | D29: =IF($B29="","",$C29-$B29+1) | E29: =IF($B29="","",IF(Basiszinssatz!$B$16="","fehlt",Basiszinssatz!$B$16+$B$14)) | F29: =IF(OR($B29="",$E29="fehlt"),"",ROUND($E$8*$E29/100*$D29/365,2))
A30: =IF(Basiszinssatz!$A$17="","",Basiszinssatz!$A$17) | B30: =IF(OR($A30="",$B$12="",$E$12=""),"",IF(MAX($B$12,$A30)<=MIN($E$12,IF(Basiszinssatz!$A$18="",DATE(2099,12,31),Basiszinssatz!$A$18-1)),MAX($B$12,$A30),"")) | C30: =IF($B30="","",MIN($E$12,IF(Basiszinssatz!$A$18="",DATE(2099,12,31),Basiszinssatz!$A$18-1))) | D30: =IF($B30="","",$C30-$B30+1) | E30: =IF($B30="","",IF(Basiszinssatz!$B$17="","fehlt",Basiszinssatz!$B$17+$B$14)) | F30: =IF(OR($B30="",$E30="fehlt"),"",ROUND($E$8*$E30/100*$D30/365,2))
A31: Verzugszinsen gesamt | F31: =IF(COUNTIF(E19:E30,"fehlt")>0,"Basiszinssatz fehlt",SUM(F19:F30))
A33: Forderung zum Stichtag
A34: Hauptforderung | F34: =N(E8)
A35: Verzugszinsen | F35: =F31
A36: Pauschale nach § 288 Abs. 5 BGB (nur gegenüber Unternehmen) | F36: =IF(AND(B9="Unternehmen",E9="Ja",N(E13)>0),40,0)
A37: Gesamtforderung | F37: =IF(ISNUMBER(F35),F34+F35+F36,"Basiszinssatz fehlt")
A38: Weitere Zinsen je Tag nach dem Stichtag | F38: =IF(ISNUMBER(E14),ROUND(E8*E14/100/365,2),"")
A40: Gerechnet wird nach § 288 BGB: Hauptforderung × (Basiszinssatz + Aufschlag) × Tage ÷ 365, je Zeitabschnitt auf den Cent gerundet. Zinsen laufen nur auf die Hauptforderung: nicht auf Zinsen (§ 289 BGB) und nicht auf die Pauschale. Unverbindliche Berechnung, keine Rechtsberatung.

Sheet Beispiel
A1: Mahnungsrechner (ausgefülltes Beispiel)
A2: Forderung und Verzugszeitraum eintragen. Das Blatt rechnet Zinstage, Verzugszinsen je Zeitabschnitt, Pauschale und Gesamtforderung auf den Cent.
A3: Weiß: hier eintragen | C3: Grau: wird berechnet
A5: Forderung
A6: Kunde | B6: Bauer KG
A7: Rechnungs-Nr. | B7: RE-2026-0142 | D7: Rechnungsdatum | E7: 46238
A8: Fällig am | B8: 46252 | D8: Offener Betrag (brutto) | E8: 4998
A9: Kunde ist | B9: Unternehmen | D9: Pauschale 40 € verlangen | E9: Ja
A11: Verzug und Zinsen
A12: Verzug ab (erster Zinstag) | B12: 46277 | D12: Zinsen bis (Stichtag) | E12: 46314
A13: Tage seit Fälligkeit | B13: =IF(OR(B8="",E12=""),"",E12-B8) | D13: Zinstage | E13: =IF(OR(B12="",E12=""),"",MAX(0,E12-B12+1))
A14: Aufschlag (Prozentpunkte) | B14: =IF(B9="Verbraucher",5,9) | D14: Verzugszins am Stichtag | E14: =IF(E12="","",IFERROR(IF(INDEX(Basiszinssatz!$B$6:$B$17,MATCH(E12,Basiszinssatz!$A$6:$A$17,1))="","fehlt",INDEX(Basiszinssatz!$B$6:$B$17,MATCH(E12,Basiszinssatz!$A$6:$A$17,1))+B14),"fehlt"))
A15: =IF(OR(B12="",E12=""),"Verzug ab und Zinsen bis eintragen.",IF(E12<B12,"„Zinsen bis“ liegt vor „Verzug ab“.",IF(COUNTIF(E19:E30,"fehlt")>0,"Für einen Teil des Zeitraums fehlt der Basiszinssatz: bitte im Blatt „Basiszinssatz“ nachtragen.",IF(B12<Basiszinssatz!A6,"Verzug beginnt vor dem ersten Eintrag im Blatt „Basiszinssatz“: dort ältere Werte ergänzen.",""))))
A17: Zinsen je Zeitabschnitt (der Basiszinssatz ändert sich halbjährlich)
A18: Basiszinssatz gültig ab | B18: von | C18: bis | D18: Tage | E18: Zinssatz | F18: Zinsen
A19: =IF(Basiszinssatz!$A$6="","",Basiszinssatz!$A$6) | B19: =IF(OR($A19="",$B$12="",$E$12=""),"",IF(MAX($B$12,$A19)<=MIN($E$12,IF(Basiszinssatz!$A$7="",DATE(2099,12,31),Basiszinssatz!$A$7-1)),MAX($B$12,$A19),"")) | C19: =IF($B19="","",MIN($E$12,IF(Basiszinssatz!$A$7="",DATE(2099,12,31),Basiszinssatz!$A$7-1))) | D19: =IF($B19="","",$C19-$B19+1) | E19: =IF($B19="","",IF(Basiszinssatz!$B$6="","fehlt",Basiszinssatz!$B$6+$B$14)) | F19: =IF(OR($B19="",$E19="fehlt"),"",ROUND($E$8*$E19/100*$D19/365,2))
A20: =IF(Basiszinssatz!$A$7="","",Basiszinssatz!$A$7) | B20: =IF(OR($A20="",$B$12="",$E$12=""),"",IF(MAX($B$12,$A20)<=MIN($E$12,IF(Basiszinssatz!$A$8="",DATE(2099,12,31),Basiszinssatz!$A$8-1)),MAX($B$12,$A20),"")) | C20: =IF($B20="","",MIN($E$12,IF(Basiszinssatz!$A$8="",DATE(2099,12,31),Basiszinssatz!$A$8-1))) | D20: =IF($B20="","",$C20-$B20+1) | E20: =IF($B20="","",IF(Basiszinssatz!$B$7="","fehlt",Basiszinssatz!$B$7+$B$14)) | F20: =IF(OR($B20="",$E20="fehlt"),"",ROUND($E$8*$E20/100*$D20/365,2))
A21: =IF(Basiszinssatz!$A$8="","",Basiszinssatz!$A$8) | B21: =IF(OR($A21="",$B$12="",$E$12=""),"",IF(MAX($B$12,$A21)<=MIN($E$12,IF(Basiszinssatz!$A$9="",DATE(2099,12,31),Basiszinssatz!$A$9-1)),MAX($B$12,$A21),"")) | C21: =IF($B21="","",MIN($E$12,IF(Basiszinssatz!$A$9="",DATE(2099,12,31),Basiszinssatz!$A$9-1))) | D21: =IF($B21="","",$C21-$B21+1) | E21: =IF($B21="","",IF(Basiszinssatz!$B$8="","fehlt",Basiszinssatz!$B$8+$B$14)) | F21: =IF(OR($B21="",$E21="fehlt"),"",ROUND($E$8*$E21/100*$D21/365,2))
A22: =IF(Basiszinssatz!$A$9="","",Basiszinssatz!$A$9) | B22: =IF(OR($A22="",$B$12="",$E$12=""),"",IF(MAX($B$12,$A22)<=MIN($E$12,IF(Basiszinssatz!$A$10="",DATE(2099,12,31),Basiszinssatz!$A$10-1)),MAX($B$12,$A22),"")) | C22: =IF($B22="","",MIN($E$12,IF(Basiszinssatz!$A$10="",DATE(2099,12,31),Basiszinssatz!$A$10-1))) | D22: =IF($B22="","",$C22-$B22+1) | E22: =IF($B22="","",IF(Basiszinssatz!$B$9="","fehlt",Basiszinssatz!$B$9+$B$14)) | F22: =IF(OR($B22="",$E22="fehlt"),"",ROUND($E$8*$E22/100*$D22/365,2))
A23: =IF(Basiszinssatz!$A$10="","",Basiszinssatz!$A$10) | B23: =IF(OR($A23="",$B$12="",$E$12=""),"",IF(MAX($B$12,$A23)<=MIN($E$12,IF(Basiszinssatz!$A$11="",DATE(2099,12,31),Basiszinssatz!$A$11-1)),MAX($B$12,$A23),"")) | C23: =IF($B23="","",MIN($E$12,IF(Basiszinssatz!$A$11="",DATE(2099,12,31),Basiszinssatz!$A$11-1))) | D23: =IF($B23="","",$C23-$B23+1) | E23: =IF($B23="","",IF(Basiszinssatz!$B$10="","fehlt",Basiszinssatz!$B$10+$B$14)) | F23: =IF(OR($B23="",$E23="fehlt"),"",ROUND($E$8*$E23/100*$D23/365,2))
A24: =IF(Basiszinssatz!$A$11="","",Basiszinssatz!$A$11) | B24: =IF(OR($A24="",$B$12="",$E$12=""),"",IF(MAX($B$12,$A24)<=MIN($E$12,IF(Basiszinssatz!$A$12="",DATE(2099,12,31),Basiszinssatz!$A$12-1)),MAX($B$12,$A24),"")) | C24: =IF($B24="","",MIN($E$12,IF(Basiszinssatz!$A$12="",DATE(2099,12,31),Basiszinssatz!$A$12-1))) | D24: =IF($B24="","",$C24-$B24+1) | E24: =IF($B24="","",IF(Basiszinssatz!$B$11="","fehlt",Basiszinssatz!$B$11+$B$14)) | F24: =IF(OR($B24="",$E24="fehlt"),"",ROUND($E$8*$E24/100*$D24/365,2))
A25: =IF(Basiszinssatz!$A$12="","",Basiszinssatz!$A$12) | B25: =IF(OR($A25="",$B$12="",$E$12=""),"",IF(MAX($B$12,$A25)<=MIN($E$12,IF(Basiszinssatz!$A$13="",DATE(2099,12,31),Basiszinssatz!$A$13-1)),MAX($B$12,$A25),"")) | C25: =IF($B25="","",MIN($E$12,IF(Basiszinssatz!$A$13="",DATE(2099,12,31),Basiszinssatz!$A$13-1))) | D25: =IF($B25="","",$C25-$B25+1) | E25: =IF($B25="","",IF(Basiszinssatz!$B$12="","fehlt",Basiszinssatz!$B$12+$B$14)) | F25: =IF(OR($B25="",$E25="fehlt"),"",ROUND($E$8*$E25/100*$D25/365,2))
A26: =IF(Basiszinssatz!$A$13="","",Basiszinssatz!$A$13) | B26: =IF(OR($A26="",$B$12="",$E$12=""),"",IF(MAX($B$12,$A26)<=MIN($E$12,IF(Basiszinssatz!$A$14="",DATE(2099,12,31),Basiszinssatz!$A$14-1)),MAX($B$12,$A26),"")) | C26: =IF($B26="","",MIN($E$12,IF(Basiszinssatz!$A$14="",DATE(2099,12,31),Basiszinssatz!$A$14-1))) | D26: =IF($B26="","",$C26-$B26+1) | E26: =IF($B26="","",IF(Basiszinssatz!$B$13="","fehlt",Basiszinssatz!$B$13+$B$14)) | F26: =IF(OR($B26="",$E26="fehlt"),"",ROUND($E$8*$E26/100*$D26/365,2))
A27: =IF(Basiszinssatz!$A$14="","",Basiszinssatz!$A$14) | B27: =IF(OR($A27="",$B$12="",$E$12=""),"",IF(MAX($B$12,$A27)<=MIN($E$12,IF(Basiszinssatz!$A$15="",DATE(2099,12,31),Basiszinssatz!$A$15-1)),MAX($B$12,$A27),"")) | C27: =IF($B27="","",MIN($E$12,IF(Basiszinssatz!$A$15="",DATE(2099,12,31),Basiszinssatz!$A$15-1))) | D27: =IF($B27="","",$C27-$B27+1) | E27: =IF($B27="","",IF(Basiszinssatz!$B$14="","fehlt",Basiszinssatz!$B$14+$B$14)) | F27: =IF(OR($B27="",$E27="fehlt"),"",ROUND($E$8*$E27/100*$D27/365,2))
A28: =IF(Basiszinssatz!$A$15="","",Basiszinssatz!$A$15) | B28: =IF(OR($A28="",$B$12="",$E$12=""),"",IF(MAX($B$12,$A28)<=MIN($E$12,IF(Basiszinssatz!$A$16="",DATE(2099,12,31),Basiszinssatz!$A$16-1)),MAX($B$12,$A28),"")) | C28: =IF($B28="","",MIN($E$12,IF(Basiszinssatz!$A$16="",DATE(2099,12,31),Basiszinssatz!$A$16-1))) | D28: =IF($B28="","",$C28-$B28+1) | E28: =IF($B28="","",IF(Basiszinssatz!$B$15="","fehlt",Basiszinssatz!$B$15+$B$14)) | F28: =IF(OR($B28="",$E28="fehlt"),"",ROUND($E$8*$E28/100*$D28/365,2))
A29: =IF(Basiszinssatz!$A$16="","",Basiszinssatz!$A$16) | B29: =IF(OR($A29="",$B$12="",$E$12=""),"",IF(MAX($B$12,$A29)<=MIN($E$12,IF(Basiszinssatz!$A$17="",DATE(2099,12,31),Basiszinssatz!$A$17-1)),MAX($B$12,$A29),"")) | C29: =IF($B29="","",MIN($E$12,IF(Basiszinssatz!$A$17="",DATE(2099,12,31),Basiszinssatz!$A$17-1))) | D29: =IF($B29="","",$C29-$B29+1) | E29: =IF($B29="","",IF(Basiszinssatz!$B$16="","fehlt",Basiszinssatz!$B$16+$B$14)) | F29: =IF(OR($B29="",$E29="fehlt"),"",ROUND($E$8*$E29/100*$D29/365,2))
A30: =IF(Basiszinssatz!$A$17="","",Basiszinssatz!$A$17) | B30: =IF(OR($A30="",$B$12="",$E$12=""),"",IF(MAX($B$12,$A30)<=MIN($E$12,IF(Basiszinssatz!$A$18="",DATE(2099,12,31),Basiszinssatz!$A$18-1)),MAX($B$12,$A30),"")) | C30: =IF($B30="","",MIN($E$12,IF(Basiszinssatz!$A$18="",DATE(2099,12,31),Basiszinssatz!$A$18-1))) | D30: =IF($B30="","",$C30-$B30+1) | E30: =IF($B30="","",IF(Basiszinssatz!$B$17="","fehlt",Basiszinssatz!$B$17+$B$14)) | F30: =IF(OR($B30="",$E30="fehlt"),"",ROUND($E$8*$E30/100*$D30/365,2))
A31: Verzugszinsen gesamt | F31: =IF(COUNTIF(E19:E30,"fehlt")>0,"Basiszinssatz fehlt",SUM(F19:F30))
A33: Forderung zum Stichtag
A34: Hauptforderung | F34: =N(E8)
A35: Verzugszinsen | F35: =F31
A36: Pauschale nach § 288 Abs. 5 BGB (nur gegenüber Unternehmen) | F36: =IF(AND(B9="Unternehmen",E9="Ja",N(E13)>0),40,0)
A37: Gesamtforderung | F37: =IF(ISNUMBER(F35),F34+F35+F36,"Basiszinssatz fehlt")
A38: Weitere Zinsen je Tag nach dem Stichtag | F38: =IF(ISNUMBER(E14),ROUND(E8*E14/100/365,2),"")
A40: Gerechnet wird nach § 288 BGB: Hauptforderung × (Basiszinssatz + Aufschlag) × Tage ÷ 365, je Zeitabschnitt auf den Cent gerundet. Zinsen laufen nur auf die Hauptforderung: nicht auf Zinsen (§ 289 BGB) und nicht auf die Pauschale. Unverbindliche Berechnung, keine Rechtsberatung.

Sheet Basiszinssatz
A1: Basiszinssatz
A2: Quelle: Deutsche Bundesbank (§ 247 BGB), Stand 19.10.2026. Der Satz wird zum 1. Januar und 1. Juli angepasst. Neue Werte tragen Sie in Spalte B ein, sobald die Bundesbank sie veröffentlicht.
A3: Weiß: hier eintragen | C3: Grau: wird berechnet
A5: Gültig ab | B5: Basiszinssatz | C5: Verzugszins Unternehmen (+ 9 Punkte) | D5: Verzugszins Verbraucher (+ 5 Punkte) | E5: Hinweis
A6: 44927 | B6: 1.62 | C6: =IF(B6="","",B6+9) | D6: =IF(B6="","",B6+5) | E6: Deutsche Bundesbank
A7: 45108 | B7: 3.12 | C7: =IF(B7="","",B7+9) | D7: =IF(B7="","",B7+5) | E7: Deutsche Bundesbank
A8: 45292 | B8: 3.62 | C8: =IF(B8="","",B8+9) | D8: =IF(B8="","",B8+5) | E8: Deutsche Bundesbank
A9: 45474 | B9: 3.37 | C9: =IF(B9="","",B9+9) | D9: =IF(B9="","",B9+5) | E9: Deutsche Bundesbank
A10: 45658 | B10: 2.27 | C10: =IF(B10="","",B10+9) | D10: =IF(B10="","",B10+5) | E10: Deutsche Bundesbank
A11: 45839 | B11: 1.27 | C11: =IF(B11="","",B11+9) | D11: =IF(B11="","",B11+5) | E11: Deutsche Bundesbank
A12: 46023 | B12: 1.27 | C12: =IF(B12="","",B12+9) | D12: =IF(B12="","",B12+5) | E12: Deutsche Bundesbank
A13: 46204 | B13: 1.52 | C13: =IF(B13="","",B13+9) | D13: =IF(B13="","",B13+5) | E13: Deutsche Bundesbank
A14: 46388 | C14: =IF(B14="","",B14+9) | D14: =IF(B14="","",B14+5) | E14: noch nicht veröffentlicht: bei der Bundesbank nachsehen und eintragen
A15: 46569 | C15: =IF(B15="","",B15+9) | D15: =IF(B15="","",B15+5) | E15: noch nicht veröffentlicht: bei der Bundesbank nachsehen und eintragen
A16: 46753 | C16: =IF(B16="","",B16+9) | D16: =IF(B16="","",B16+5) | E16: noch nicht veröffentlicht: bei der Bundesbank nachsehen und eintragen
A17: 46935 | C17: =IF(B17="","",B17+9) | D17: =IF(B17="","",B17+5) | E17: noch nicht veröffentlicht: bei der Bundesbank nachsehen und eintragen
A19: Die Liste beginnt 2023, weil ältere Forderungen meist verjährt sind (regelmäßige Verjährung drei Jahre ab Jahresende, §§ 195, 199 BGB). Für ältere Zeiträume die Werte der Bundesbank selbst ergänzen.

Sheet Anleitung
B1: So nutzen Sie den Mahnungsrechner
B2: Ein Blatt je Forderung. Für eine weitere Forderung das Blatt kopieren (Rechtsklick auf den Reiter, „Verschieben/Kopieren“, Haken bei „Kopie erstellen“).
B4: Ausfüllen
B5: 1. Kunde, Rechnungsnummer, Rechnungsdatum, Fälligkeit und den offenen Betrag eintragen.
B6: 2. Auswählen, ob der Kunde ein Unternehmen oder ein Verbraucher ist. Davon hängen Zinssatz und Pauschale ab.
B7: 3. „Verzug ab“ und „Zinsen bis“ eintragen. Das Ergebnis steht unten unter „Forderung zum Stichtag“ und lässt sich direkt in die Mahnung übernehmen.
B8: 4. Erscheint oben ein orangefarbener Hinweis, fehlt eine Angabe oder ein Basiszinssatz.
B10: So rechnet das Blatt
B11: Zinssatz = Basiszinssatz + 9 Prozentpunkte gegenüber Unternehmen, + 5 Prozentpunkte gegenüber Verbrauchern (§ 288 Abs. 1 und 2 BGB).
B12: Ändert sich der Basiszinssatz im Verzugszeitraum, teilt das Blatt den Zeitraum in Abschnitte und rechnet jeden mit seinem Satz. Zinsen je Abschnitt = Betrag × Zinssatz × Tage ÷ 365, auf den Cent gerundet.
B13: Zinstage zählen vom ersten Verzugstag bis einschließlich Stichtag.
B14: Die Pauschale von 40 Euro (§ 288 Abs. 5 BGB) zählt nur gegenüber Unternehmen und nur, wenn Verzug besteht. Sie wird auf spätere Kosten der Rechtsverfolgung angerechnet.
... B30: Stand Oktober 2026. Die Vorlage wurde sorgfältig erstellt, ersetzt aber keine Rechts- oder Steuerberatung. Angaben ohne Gewähr. Frei verwendbar und anpassbar, auch im Unternehmen. Herausgeber: 5 POINT AG, Rheinstraße 40-42, 64283 Darmstadt.
