Workbook

Sheet Einstellungen
A1: Arbeitszeiterfassung: Einstellungen
A2: Hier einmal im Jahr eintragen. Alle Monatsblätter und die Jahresübersicht holen Name, Jahr, Bundesland, Sollzeit und Überträge von hier.
A3: Weiß: hier eintragen | C3: Grau: wird berechnet
A5: Name
A6: Personalnummer
A7: Firma
A8: Abteilung / Team
A9: Jahr | B9: 2027 | C9: =IF(COUNTIF(Feiertage!$A$2:$A$120,DATE(B9,1,1))=0,"Für dieses Jahr fehlen die Feiertage im Blatt Feiertage. Bitte dort ergänzen.","Feiertage "&B9&" sind hinterlegt.")
A10: Bundesland | B10: Hessen
A11: Wochenstunden laut Vertrag | B11: 40
A12: Arbeitstage pro Woche | B12: 5
A13: Soll pro Arbeitstag (Stunden) | B13: =IF(N(B12)=0,0,B11/B12)
A14: Urlaubsanspruch im Jahr (Tage) | B14: 30
A15: Resturlaub aus dem Vorjahr (Tage) | B15: 0
A16: Zeitkonto aus dem Vorjahr (Stunden, + oder −) | B16: 0
A17: Hinweis ab Zeitkonto von (Stunden, optional) | B17: 40
A19: Abweichende Arbeitszeit einzelner Monate
A20: Nur ausfüllen, wenn sich die Arbeitszeit im Lauf des Jahres ändert, etwa beim Wechsel in Teilzeit. Leere Felder bedeuten: Werte von oben. Die grauen Spalten zeigen, was im Monat gilt.
A21: Monat | B21: Wochenstunden abweichend | C21: Tage/Woche abweichend | D21: Wochenstunden gilt | E21: Tage/Woche gilt | F21: Soll pro Tag gilt
A22: Januar | D22: =IF(B22="",$B$11,B22) | E22: =IF(C22="",$B$12,C22) | F22: =IF(N(E22)=0,0,D22/E22)
A23: Februar | D23: =IF(B23="",$B$11,B23) | E23: =IF(C23="",$B$12,C23) | F23: =IF(N(E23)=0,0,D23/E23)
A24: März | D24: =IF(B24="",$B$11,B24) | E24: =IF(C24="",$B$12,C24) | F24: =IF(N(E24)=0,0,D24/E24)
A25: April | D25: =IF(B25="",$B$11,B25) | E25: =IF(C25="",$B$12,C25) | F25: =IF(N(E25)=0,0,D25/E25)
A26: Mai | D26: =IF(B26="",$B$11,B26) | E26: =IF(C26="",$B$12,C26) | F26: =IF(N(E26)=0,0,D26/E26)
A27: Juni | D27: =IF(B27="",$B$11,B27) | E27: =IF(C27="",$B$12,C27) | F27: =IF(N(E27)=0,0,D27/E27)
A28: Juli | D28: =IF(B28="",$B$11,B28) | E28: =IF(C28="",$B$12,C28) | F28: =IF(N(E28)=0,0,D28/E28)
A29: August | D29: =IF(B29="",$B$11,B29) | E29: =IF(C29="",$B$12,C29) | F29: =IF(N(E29)=0,0,D29/E29)
A30: September | D30: =IF(B30="",$B$11,B30) | E30: =IF(C30="",$B$12,C30) | F30: =IF(N(E30)=0,0,D30/E30)
A31: Oktober | D31: =IF(B31="",$B$11,B31) | E31: =IF(C31="",$B$12,C31) | F31: =IF(N(E31)=0,0,D31/E31)
A32: November | D32: =IF(B32="",$B$11,B32) | E32: =IF(C32="",$B$12,C32) | F32: =IF(N(E32)=0,0,D32/E32)
A33: Dezember | D33: =IF(B33="",$B$11,B33) | E33: =IF(C33="",$B$12,C33) | F33: =IF(N(E33)=0,0,D33/E33)

Sheet Jahresübersicht
A1: Jahresübersicht
A2: Rechnet sich aus den zwölf Monatsblättern, hier wird nichts eingetragen. Ein Klick auf den Monat öffnet das Blatt.
A3: Weiß: hier eintragen | C3: Grau: wird berechnet
A5: Name | B5: =IF(Einstellungen!$B$5="","",Einstellungen!$B$5) | G5: Jahr | I5: =IF(Einstellungen!$B$9="","",Einstellungen!$B$9)
A6: Firma | B6: =IF(Einstellungen!$B$7="","",Einstellungen!$B$7) | G6: Bundesland | I6: =Einstellungen!$B$10&""
A7: Wochenstd. | B7: =IF(Einstellungen!$B$11="","",Einstellungen!$B$11) | C7: Urlaub/Jahr | E7: =IF(Einstellungen!$B$14="","",Einstellungen!$B$14) | G7: Hinweis ab | I7: =IF(Einstellungen!$B$17="","",Einstellungen!$B$17)
A10: Monat | B10: Soll (Std.) | C10: Ist (Std.) | D10: Urlaub, krank angerechnet | E10: Saldo (Std.) | F10: Zeitkonto (Std.) | G10: Urlaub (Tage) | H10: Resturlaub (Tage) | I10: Krank (Tage) | J10: Tage ohne Eintrag
A11: Übertrag Vorjahr | F11: =N(Einstellungen!$B$16) | H11: =N(Einstellungen!$B$14)+N(Einstellungen!$B$15)
A12: Januar | B12: ='Jan'!F43 | C12: ='Jan'!F42 | D12: ='Jan'!F44 | E12: ='Jan'!F45 | F12: =F11+E12 | G12: ='Jan'!F46 | H12: =H11-G12 | I12: ='Jan'!F47 | J12: ='Jan'!F48
A13: Februar | B13: ='Feb'!F43 | C13: ='Feb'!F42 | D13: ='Feb'!F44 | E13: ='Feb'!F45 | F13: =F12+E13 | G13: ='Feb'!F46 | H13: =H12-G13 | I13: ='Feb'!F47 | J13: ='Feb'!F48
A14: März | B14: ='Mär'!F43 | C14: ='Mär'!F42 | D14: ='Mär'!F44 | E14: ='Mär'!F45 | F14: =F13+E14 | G14: ='Mär'!F46 | H14: =H13-G14 | I14: ='Mär'!F47 | J14: ='Mär'!F48
A15: April | B15: ='Apr'!F43 | C15: ='Apr'!F42 | D15: ='Apr'!F44 | E15: ='Apr'!F45 | F15: =F14+E15 | G15: ='Apr'!F46 | H15: =H14-G15 | I15: ='Apr'!F47 | J15: ='Apr'!F48
A16: Mai | B16: ='Mai'!F43 | C16: ='Mai'!F42 | D16: ='Mai'!F44 | E16: ='Mai'!F45 | F16: =F15+E16 | G16: ='Mai'!F46 | H16: =H15-G16 | I16: ='Mai'!F47 | J16: ='Mai'!F48
A17: Juni | B17: ='Jun'!F43 | C17: ='Jun'!F42 | D17: ='Jun'!F44 | E17: ='Jun'!F45 | F17: =F16+E17 | G17: ='Jun'!F46 | H17: =H16-G17 | I17: ='Jun'!F47 | J17: ='Jun'!F48
A18: Juli | B18: ='Jul'!F43 | C18: ='Jul'!F42 | D18: ='Jul'!F44 | E18: ='Jul'!F45 | F18: =F17+E18 | G18: ='Jul'!F46 | H18: =H17-G18 | I18: ='Jul'!F47 | J18: ='Jul'!F48
A19: August | B19: ='Aug'!F43 | C19: ='Aug'!F42 | D19: ='Aug'!F44 | E19: ='Aug'!F45 | F19: =F18+E19 | G19: ='Aug'!F46 | H19: =H18-G19 | I19: ='Aug'!F47 | J19: ='Aug'!F48
A20: September | B20: ='Sep'!F43 | C20: ='Sep'!F42 | D20: ='Sep'!F44 | E20: ='Sep'!F45 | F20: =F19+E20 | G20: ='Sep'!F46 | H20: =H19-G20 | I20: ='Sep'!F47 | J20: ='Sep'!F48
A21: Oktober | B21: ='Okt'!F43 | C21: ='Okt'!F42 | D21: ='Okt'!F44 | E21: ='Okt'!F45 | F21: =F20+E21 | G21: ='Okt'!F46 | H21: =H20-G21 | I21: ='Okt'!F47 | J21: ='Okt'!F48
A22: November | B22: ='Nov'!F43 | C22: ='Nov'!F42 | D22: ='Nov'!F44 | E22: ='Nov'!F45 | F22: =F21+E22 | G22: ='Nov'!F46 | H22: =H21-G22 | I22: ='Nov'!F47 | J22: ='Nov'!F48
A23: Dezember | B23: ='Dez'!F43 | C23: ='Dez'!F42 | D23: ='Dez'!F44 | E23: ='Dez'!F45 | F23: =F22+E23 | G23: ='Dez'!F46 | H23: =H22-G23 | I23: ='Dez'!F47 | J23: ='Dez'!F48
A24: Jahr gesamt | B24: =SUM(B12:B23) | C24: =SUM(C12:C23) | D24: =SUM(D12:D23) | E24: =SUM(E12:E23) | F24: =F23 | G24: =SUM(G12:G23) | H24: =H23 | I24: =SUM(I12:I23) | J24: =SUM(J12:J23)
A26: Saldo = Ist + angerechnete Stunden für Urlaub, Krankheit und Dienstreise − Soll. Gezählt werden nur Tage mit Eintrag, damit das Konto auch mitten im Jahr stimmt. Zeitkonto = Vormonat + Saldo, beginnend mit dem Übertrag aus dem Vorjahr. Resturlaub = Vormonat − genommene Urlaubstage. In der Zeile „Jahr gesamt“ stehen bei Zeitkonto und Resturlaub die Stände zum Jahresende. Orange: Zeitkonto erreicht die Hinweisgrenze (plus oder minus).
A32: Datum, Unterschrift Mitarbeiter/in | F32: Datum, Unterschrift Arbeitgeber

Sheet Jan
A1: Arbeitszeit Januar
A2: Je Tag Beginn, Ende und Pause eintragen, Abwesenheiten unter Vermerk. Name, Jahr, Bundesland und Sollzeit kommen aus dem Blatt „Einstellungen“.
A3: Weiß: hier eintragen | C3: Grau: wird berechnet
A5: Name | B5: =IF(Einstellungen!$B$5="","",Einstellungen!$B$5) | G5: Personal-Nr. | I5: =IF(Einstellungen!$B$6="","",Einstellungen!$B$6)
A6: Monat | B6: =IF(N(Einstellungen!$B$9)=0,"",DATE(Einstellungen!$B$9,1,1)) | G6: Bundesland | I6: =Einstellungen!$B$10&""
A7: Wochenstd. | B7: =Einstellungen!$D$22 | C7: Tage/Woche | E7: =Einstellungen!$E$22 | G7: Soll pro Tag | I7: =Einstellungen!$F$22
A9: Datum | B9: Tag | C9: Beginn | D9: Ende | E9: Pause (Min.) | F9: Stunden | G9: Soll | H9: Saldo | I9: Tätigkeit / Bemerkung | J9: Vermerk
A10: =IF($B$6="","",IF(1<=DAY(EOMONTH($B$6,0)),DATE(YEAR($B$6),MONTH($B$6),1),"")) | B10: =IF(A10="","",A10) | F10: =IF(AND(ISNUMBER(C10),ISNUMBER(D10)),ROUND(MOD(D10-C10,1)*24-N(E10)/60,2),"") | G10: =IF(A10="","",IF(OR(WEEKDAY(A10,2)>$E$7,SUMPRODUCT((Feiertage!$A$2:$A$120=A10)*(((Feiertage!$C$2:$C$120="alle")+ISNUMBER(SEARCH(" "&IFERROR(VLOOKUP(Einstellungen!$B$10,Feiertage!$E$2:$F$17,2,FALSE),"--")&" "," "&Feiertage!$C$2:$C$120&" ")))>0))>0,J10="F"),0,$I$7)) | H10: =IF(OR(A10="",AND(F10="",J10="")),"",IF(OR(J10="U",J10="K",AND(J10="S",F10="")),0,IF(J10="H",N(F10)-N(G10)/2,N(F10)-N(G10))))
A11: =IF($B$6="","",IF(2<=DAY(EOMONTH($B$6,0)),DATE(YEAR($B$6),MONTH($B$6),2),"")) | B11: =IF(A11="","",A11) | F11: =IF(AND(ISNUMBER(C11),ISNUMBER(D11)),ROUND(MOD(D11-C11,1)*24-N(E11)/60,2),"") | G11: =IF(A11="","",IF(OR(WEEKDAY(A11,2)>$E$7,SUMPRODUCT((Feiertage!$A$2:$A$120=A11)*(((Feiertage!$C$2:$C$120="alle")+ISNUMBER(SEARCH(" "&IFERROR(VLOOKUP(Einstellungen!$B$10,Feiertage!$E$2:$F$17,2,FALSE),"--")&" "," "&Feiertage!$C$2:$C$120&" ")))>0))>0,J11="F"),0,$I$7)) | H11: =IF(OR(A11="",AND(F11="",J11="")),"",IF(OR(J11="U",J11="K",AND(J11="S",F11="")),0,IF(J11="H",N(F11)-N(G11)/2,N(F11)-N(G11))))
A12: =IF($B$6="","",IF(3<=DAY(EOMONTH($B$6,0)),DATE(YEAR($B$6),MONTH($B$6),3),"")) | B12: =IF(A12="","",A12) | F12: =IF(AND(ISNUMBER(C12),ISNUMBER(D12)),ROUND(MOD(D12-C12,1)*24-N(E12)/60,2),"") | G12: =IF(A12="","",IF(OR(WEEKDAY(A12,2)>$E$7,SUMPRODUCT((Feiertage!$A$2:$A$120=A12)*(((Feiertage!$C$2:$C$120="alle")+ISNUMBER(SEARCH(" "&IFERROR(VLOOKUP(Einstellungen!$B$10,Feiertage!$E$2:$F$17,2,FALSE),"--")&" "," "&Feiertage!$C$2:$C$120&" ")))>0))>0,J12="F"),0,$I$7)) | H12: =IF(OR(A12="",AND(F12="",J12="")),"",IF(OR(J12="U",J12="K",AND(J12="S",F12="")),0,IF(J12="H",N(F12)-N(G12)/2,N(F12)-N(G12))))
A13: =IF($B$6="","",IF(4<=DAY(EOMONTH($B$6,0)),DATE(YEAR($B$6),MONTH($B$6),4),"")) | B13: =IF(A13="","",A13) | F13: =IF(AND(ISNUMBER(C13),ISNUMBER(D13)),ROUND(MOD(D13-C13,1)*24-N(E13)/60,2),"") | G13: =IF(A13="","",IF(OR(WEEKDAY(A13,2)>$E$7,SUMPRODUCT((Feiertage!$A$2:$A$120=A13)*(((Feiertage!$C$2:$C$120="alle")+ISNUMBER(SEARCH(" "&IFERROR(VLOOKUP(Einstellungen!$B$10,Feiertage!$E$2:$F$17,2,FALSE),"--")&" "," "&Feiertage!$C$2:$C$120&" ")))>0))>0,J13="F"),0,$I$7)) | H13: =IF(OR(A13="",AND(F13="",J13="")),"",IF(OR(J13="U",J13="K",AND(J13="S",F13="")),0,IF(J13="H",N(F13)-N(G13)/2,N(F13)-N(G13))))
A14: =IF($B$6="","",IF(5<=DAY(EOMONTH($B$6,0)),DATE(YEAR($B$6),MONTH($B$6),5),"")) | B14: =IF(A14="","",A14) | F14: =IF(AND(ISNUMBER(C14),ISNUMBER(D14)),ROUND(MOD(D14-C14,1)*24-N(E14)/60,2),"") | G14: =IF(A14="","",IF(OR(WEEKDAY(A14,2)>$E$7,SUMPRODUCT((Feiertage!$A$2:$A$120=A14)*(((Feiertage!$C$2:$C$120="alle")+ISNUMBER(SEARCH(" "&IFERROR(VLOOKUP(Einstellungen!$B$10,Feiertage!$E$2:$F$17,2,FALSE),"--")&" "," "&Feiertage!$C$2:$C$120&" ")))>0))>0,J14="F"),0,$I$7)) | H14: =IF(OR(A14="",AND(F14="",J14="")),"",IF(OR(J14="U",J14="K",AND(J14="S",F14="")),0,IF(J14="H",N(F14)-N(G14)/2,N(F14)-N(G14))))
A15: =IF($B$6="","",IF(6<=DAY(EOMONTH($B$6,0)),DATE(YEAR($B$6),MONTH($B$6),6),"")) | B15: =IF(A15="","",A15) | F15: =IF(AND(ISNUMBER(C15),ISNUMBER(D15)),ROUND(MOD(D15-C15,1)*24-N(E15)/60,2),"") | G15: =IF(A15="","",IF(OR(WEEKDAY(A15,2)>$E$7,SUMPRODUCT((Feiertage!$A$2:$A$120=A15)*(((Feiertage!$C$2:$C$120="alle")+ISNUMBER(SEARCH(" "&IFERROR(VLOOKUP(Einstellungen!$B$10,Feiertage!$E$2:$F$17,2,FALSE),"--")&" "," "&Feiertage!$C$2:$C$120&" ")))>0))>0,J15="F"),0,$I$7)) | H15: =IF(OR(A15="",AND(F15="",J15="")),"",IF(OR(J15="U",J15="K",AND(J15="S",F15="")),0,IF(J15="H",N(F15)-N(G15)/2,N(F15)-N(G15))))
A16: =IF($B$6="","",IF(7<=DAY(EOMONTH($B$6,0)),DATE(YEAR($B$6),MONTH($B$6),7),"")) | B16: =IF(A16="","",A16) | F16: =IF(AND(ISNUMBER(C16),ISNUMBER(D16)),ROUND(MOD(D16-C16,1)*24-N(E16)/60,2),"") | G16: =IF(A16="","",IF(OR(WEEKDAY(A16,2)>$E$7,SUMPRODUCT((Feiertage!$A$2:$A$120=A16)*(((Feiertage!$C$2:$C$120="alle")+ISNUMBER(SEARCH(" "&IFERROR(VLOOKUP(Einstellungen!$B$10,Feiertage!$E$2:$F$17,2,FALSE),"--")&" "," "&Feiertage!$C$2:$C$120&" ")))>0))>0,J16="F"),0,$I$7)) | H16: =IF(OR(A16="",AND(F16="",J16="")),"",IF(OR(J16="U",J16="K",AND(J16="S",F16="")),0,IF(J16="H",N(F16)-N(G16)/2,N(F16)-N(G16))))
A17: =IF($B$6="","",IF(8<=DAY(EOMONTH($B$6,0)),DATE(YEAR($B$6),MONTH($B$6),8),"")) | B17: =IF(A17="","",A17) | F17: =IF(AND(ISNUMBER(C17),ISNUMBER(D17)),ROUND(MOD(D17-C17,1)*24-N(E17)/60,2),"") | G17: =IF(A17="","",IF(OR(WEEKDAY(A17,2)>$E$7,SUMPRODUCT((Feiertage!$A$2:$A$120=A17)*(((Feiertage!$C$2:$C$120="alle")+ISNUMBER(SEARCH(" "&IFERROR(VLOOKUP(Einstellungen!$B$10,Feiertage!$E$2:$F$17,2,FALSE),"--")&" "," "&Feiertage!$C$2:$C$120&" ")))>0))>0,J17="F"),0,$I$7)) | H17: =IF(OR(A17="",AND(F17="",J17="")),"",IF(OR(J17="U",J17="K",AND(J17="S",F17="")),0,IF(J17="H",N(F17)-N(G17)/2,N(F17)-N(G17))))
A18: =IF($B$6="","",IF(9<=DAY(EOMONTH($B$6,0)),DATE(YEAR($B$6),MONTH($B$6),9),"")) | B18: =IF(A18="","",A18) | F18: =IF(AND(ISNUMBER(C18),ISNUMBER(D18)),ROUND(MOD(D18-C18,1)*24-N(E18)/60,2),"") | G18: =IF(A18="","",IF(OR(WEEKDAY(A18,2)>$E$7,SUMPRODUCT((Feiertage!$A$2:$A$120=A18)*(((Feiertage!$C$2:$C$120="alle")+ISNUMBER(SEARCH(" "&IFERROR(VLOOKUP(Einstellungen!$B$10,Feiertage!$E$2:$F$17,2,FALSE),"--")&" "," "&Feiertage!$C$2:$C$120&" ")))>0))>0,J18="F"),0,$I$7)) | H18: =IF(OR(A18="",AND(F18="",J18="")),"",IF(OR(J18="U",J18="K",AND(J18="S",F18="")),0,IF(J18="H",N(F18)-N(G18)/2,N(F18)-N(G18))))
A19: =IF($B$6="","",IF(10<=DAY(EOMONTH($B$6,0)),DATE(YEAR($B$6),MONTH($B$6),10),"")) | B19: =IF(A19="","",A19) | F19: =IF(AND(ISNUMBER(C19),ISNUMBER(D19)),ROUND(MOD(D19-C19,1)*24-N(E19)/60,2),"") | G19: =IF(A19="","",IF(OR(WEEKDAY(A19,2)>$E$7,SUMPRODUCT((Feiertage!$A$2:$A$120=A19)*(((Feiertage!$C$2:$C$120="alle")+ISNUMBER(SEARCH(" "&IFERROR(VLOOKUP(Einstellungen!$B$10,Feiertage!$E$2:$F$17,2,FALSE),"--")&" "," "&Feiertage!$C$2:$C$120&" ")))>0))>0,J19="F"),0,$I$7)) | H19: =IF(OR(A19="",AND(F19="",J19="")),"",IF(OR(J19="U",J19="K",AND(J19="S",F19="")),0,IF(J19="H",N(F19)-N(G19)/2,N(F19)-N(G19))))
A20: =IF($B$6="","",IF(11<=DAY(EOMONTH($B$6,0)),DATE(YEAR($B$6),MONTH($B$6),11),"")) | B20: =IF(A20="","",A20) | F20: =IF(AND(ISNUMBER(C20),ISNUMBER(D20)),ROUND(MOD(D20-C20,1)*24-N(E20)/60,2),"") | G20: =IF(A20="","",IF(OR(WEEKDAY(A20,2)>$E$7,SUMPRODUCT((Feiertage!$A$2:$A$120=A20)*(((Feiertage!$C$2:$C$120="alle")+ISNUMBER(SEARCH(" "&IFERROR(VLOOKUP(Einstellungen!$B$10,Feiertage!$E$2:$F$17,2,FALSE),"--")&" "," "&Feiertage!$C$2:$C$120&" ")))>0))>0,J20="F"),0,$I$7)) | H20: =IF(OR(A20="",AND(F20="",J20="")),"",IF(OR(J20="U",J20="K",AND(J20="S",F20="")),0,IF(J20="H",N(F20)-N(G20)/2,N(F20)-N(G20))))
A21: =IF($B$6="","",IF(12<=DAY(EOMONTH($B$6,0)),DATE(YEAR($B$6),MONTH($B$6),12),"")) | B21: =IF(A21="","",A21) | F21: =IF(AND(ISNUMBER(C21),ISNUMBER(D21)),ROUND(MOD(D21-C21,1)*24-N(E21)/60,2),"") | G21: =IF(A21="","",IF(OR(WEEKDAY(A21,2)>$E$7,SUMPRODUCT((Feiertage!$A$2:$A$120=A21)*(((Feiertage!$C$2:$C$120="alle")+ISNUMBER(SEARCH(" "&IFERROR(VLOOKUP(Einstellungen!$B$10,Feiertage!$E$2:$F$17,2,FALSE),"--")&" "," "&Feiertage!$C$2:$C$120&" ")))>0))>0,J21="F"),0,$I$7)) | H21: =IF(OR(A21="",AND(F21="",J21="")),"",IF(OR(J21="U",J21="K",AND(J21="S",F21="")),0,IF(J21="H",N(F21)-N(G21)/2,N(F21)-N(G21))))
A22: =IF($B$6="","",IF(13<=DAY(EOMONTH($B$6,0)),DATE(YEAR($B$6),MONTH($B$6),13),"")) | B22: =IF(A22="","",A22) | F22: =IF(AND(ISNUMBER(C22),ISNUMBER(D22)),ROUND(MOD(D22-C22,1)*24-N(E22)/60,2),"") | G22: =IF(A22="","",IF(OR(WEEKDAY(A22,2)>$E$7,SUMPRODUCT((Feiertage!$A$2:$A$120=A22)*(((Feiertage!$C$2:$C$120="alle")+ISNUMBER(SEARCH(" "&IFERROR(VLOOKUP(Einstellungen!$B$10,Feiertage!$E$2:$F$17,2,FALSE),"--")&" "," "&Feiertage!$C$2:$C$120&" ")))>0))>0,J22="F"),0,$I$7)) | H22: =IF(OR(A22="",AND(F22="",J22="")),"",IF(OR(J22="U",J22="K",AND(J22="S",F22="")),0,IF(J22="H",N(F22)-N(G22)/2,N(F22)-N(G22))))
A23: =IF($B$6="","",IF(14<=DAY(EOMONTH($B$6,0)),DATE(YEAR($B$6),MONTH($B$6),14),"")) | B23: =IF(A23="","",A23) | F23: =IF(AND(ISNUMBER(C23),ISNUMBER(D23)),ROUND(MOD(D23-C23,1)*24-N(E23)/60,2),"") | G23: =IF(A23="","",IF(OR(WEEKDAY(A23,2)>$E$7,SUMPRODUCT((Feiertage!$A$2:$A$120=A23)*(((Feiertage!$C$2:$C$120="alle")+ISNUMBER(SEARCH(" "&IFERROR(VLOOKUP(Einstellungen!$B$10,Feiertage!$E$2:$F$17,2,FALSE),"--")&" "," "&Feiertage!$C$2:$C$120&" ")))>0))>0,J23="F"),0,$I$7)) | H23: =IF(OR(A23="",AND(F23="",J23="")),"",IF(OR(J23="U",J23="K",AND(J23="S",F23="")),0,IF(J23="H",N(F23)-N(G23)/2,N(F23)-N(G23))))
A24: =IF($B$6="","",IF(15<=DAY(EOMONTH($B$6,0)),DATE(YEAR($B$6),MONTH($B$6),15),"")) | B24: =IF(A24="","",A24) | F24: =IF(AND(ISNUMBER(C24),ISNUMBER(D24)),ROUND(MOD(D24-C24,1)*24-N(E24)/60,2),"") | G24: =IF(A24="","",IF(OR(WEEKDAY(A24,2)>$E$7,SUMPRODUCT((Feiertage!$A$2:$A$120=A24)*(((Feiertage!$C$2:$C$120="alle")+ISNUMBER(SEARCH(" "&IFERROR(VLOOKUP(Einstellungen!$B$10,Feiertage!$E$2:$F$17,2,FALSE),"--")&" "," "&Feiertage!$C$2:$C$120&" ")))>0))>0,J24="F"),0,$I$7)) | H24: =IF(OR(A24="",AND(F24="",J24="")),"",IF(OR(J24="U",J24="K",AND(J24="S",F24="")),0,IF(J24="H",N(F24)-N(G24)/2,N(F24)-N(G24))))
A25: =IF($B$6="","",IF(16<=DAY(EOMONTH($B$6,0)),DATE(YEAR($B$6),MONTH($B$6),16),"")) | B25: =IF(A25="","",A25) | F25: =IF(AND(ISNUMBER(C25),ISNUMBER(D25)),ROUND(MOD(D25-C25,1)*24-N(E25)/60,2),"") | G25: =IF(A25="","",IF(OR(WEEKDAY(A25,2)>$E$7,SUMPRODUCT((Feiertage!$A$2:$A$120=A25)*(((Feiertage!$C$2:$C$120="alle")+ISNUMBER(SEARCH(" "&IFERROR(VLOOKUP(Einstellungen!$B$10,Feiertage!$E$2:$F$17,2,FALSE),"--")&" "," "&Feiertage!$C$2:$C$120&" ")))>0))>0,J25="F"),0,$I$7)) | H25: =IF(OR(A25="",AND(F25="",J25="")),"",IF(OR(J25="U",J25="K",AND(J25="S",F25="")),0,IF(J25="H",N(F25)-N(G25)/2,N(F25)-N(G25))))
A26: =IF($B$6="","",IF(17<=DAY(EOMONTH($B$6,0)),DATE(YEAR($B$6),MONTH($B$6),17),"")) | B26: =IF(A26="","",A26) | F26: =IF(AND(ISNUMBER(C26),ISNUMBER(D26)),ROUND(MOD(D26-C26,1)*24-N(E26)/60,2),"") | G26: =IF(A26="","",IF(OR(WEEKDAY(A26,2)>$E$7,SUMPRODUCT((Feiertage!$A$2:$A$120=A26)*(((Feiertage!$C$2:$C$120="alle")+ISNUMBER(SEARCH(" "&IFERROR(VLOOKUP(Einstellungen!$B$10,Feiertage!$E$2:$F$17,2,FALSE),"--")&" "," "&Feiertage!$C$2:$C$120&" ")))>0))>0,J26="F"),0,$I$7)) | H26: =IF(OR(A26="",AND(F26="",J26="")),"",IF(OR(J26="U",J26="K",AND(J26="S",F26="")),0,IF(J26="H",N(F26)-N(G26)/2,N(F26)-N(G26))))
A27: =IF($B$6="","",IF(18<=DAY(EOMONTH($B$6,0)),DATE(YEAR($B$6),MONTH($B$6),18),"")) | B27: =IF(A27="","",A27) | F27: =IF(AND(ISNUMBER(C27),ISNUMBER(D27)),ROUND(MOD(D27-C27,1)*24-N(E27)/60,2),"") | G27: =IF(A27="","",IF(OR(WEEKDAY(A27,2)>$E$7,SUMPRODUCT((Feiertage!$A$2:$A$120=A27)*(((Feiertage!$C$2:$C$120="alle")+ISNUMBER(SEARCH(" "&IFERROR(VLOOKUP(Einstellungen!$B$10,Feiertage!$E$2:$F$17,2,FALSE),"--")&" "," "&Feiertage!$C$2:$C$120&" ")))>0))>0,J27="F"),0,$I$7)) | H27: =IF(OR(A27="",AND(F27="",J27="")),"",IF(OR(J27="U",J27="K",AND(J27="S",F27="")),0,IF(J27="H",N(F27)-N(G27)/2,N(F27)-N(G27))))
A28: =IF($B$6="","",IF(19<=DAY(EOMONTH($B$6,0)),DATE(YEAR($B$6),MONTH($B$6),19),"")) | B28: =IF(A28="","",A28) | F28: =IF(AND(ISNUMBER(C28),ISNUMBER(D28)),ROUND(MOD(D28-C28,1)*24-N(E28)/60,2),"") | G28: =IF(A28="","",IF(OR(WEEKDAY(A28,2)>$E$7,SUMPRODUCT((Feiertage!$A$2:$A$120=A28)*(((Feiertage!$C$2:$C$120="alle")+ISNUMBER(SEARCH(" "&IFERROR(VLOOKUP(Einstellungen!$B$10,Feiertage!$E$2:$F$17,2,FALSE),"--")&" "," "&Feiertage!$C$2:$C$120&" ")))>0))>0,J28="F"),0,$I$7)) | H28: =IF(OR(A28="",AND(F28="",J28="")),"",IF(OR(J28="U",J28="K",AND(J28="S",F28="")),0,IF(J28="H",N(F28)-N(G28)/2,N(F28)-N(G28))))
A29: =IF($B$6="","",IF(20<=DAY(EOMONTH($B$6,0)),DATE(YEAR($B$6),MONTH($B$6),20),"")) | B29: =IF(A29="","",A29) | F29: =IF(AND(ISNUMBER(C29),ISNUMBER(D29)),ROUND(MOD(D29-C29,1)*24-N(E29)/60,2),"") | G29: =IF(A29="","",IF(OR(WEEKDAY(A29,2)>$E$7,SUMPRODUCT((Feiertage!$A$2:$A$120=A29)*(((Feiertage!$C$2:$C$120="alle")+ISNUMBER(SEARCH(" "&IFERROR(VLOOKUP(Einstellungen!$B$10,Feiertage!$E$2:$F$17,2,FALSE),"--")&" "," "&Feiertage!$C$2:$C$120&" ")))>0))>0,J29="F"),0,$I$7)) | H29: =IF(OR(A29="",AND(F29="",J29="")),"",IF(OR(J29="U",J29="K",AND(J29="S",F29="")),0,IF(J29="H",N(F29)-N(G29)/2,N(F29)-N(G29))))
A30: =IF($B$6="","",IF(21<=DAY(EOMONTH($B$6,0)),DATE(YEAR($B$6),MONTH($B$6),21),"")) | B30: =IF(A30="","",A30) | F30: =IF(AND(ISNUMBER(C30),ISNUMBER(D30)),ROUND(MOD(D30-C30,1)*24-N(E30)/60,2),"") | G30: =IF(A30="","",IF(OR(WEEKDAY(A30,2)>$E$7,SUMPRODUCT((Feiertage!$A$2:$A$120=A30)*(((Feiertage!$C$2:$C$120="alle")+ISNUMBER(SEARCH(" "&IFERROR(VLOOKUP(Einstellungen!$B$10,Feiertage!$E$2:$F$17,2,FALSE),"--")&" "," "&Feiertage!$C$2:$C$120&" ")))>0))>0,J30="F"),0,$I$7)) | H30: =IF(OR(A30="",AND(F30="",J30="")),"",IF(OR(J30="U",J30="K",AND(J30="S",F30="")),0,IF(J30="H",N(F30)-N(G30)/2,N(F30)-N(G30))))
A31: =IF($B$6="","",IF(22<=DAY(EOMONTH($B$6,0)),DATE(YEAR($B$6),MONTH($B$6),22),"")) | B31: =IF(A31="","",A31) | F31: =IF(AND(ISNUMBER(C31),ISNUMBER(D31)),ROUND(MOD(D31-C31,1)*24-N(E31)/60,2),"") | G31: =IF(A31="","",IF(OR(WEEKDAY(A31,2)>$E$7,SUMPRODUCT((Feiertage!$A$2:$A$120=A31)*(((Feiertage!$C$2:$C$120="alle")+ISNUMBER(SEARCH(" "&IFERROR(VLOOKUP(Einstellungen!$B$10,Feiertage!$E$2:$F$17,2,FALSE),"--")&" "," "&Feiertage!$C$2:$C$120&" ")))>0))>0,J31="F"),0,$I$7)) | H31: =IF(OR(A31="",AND(F31="",J31="")),"",IF(OR(J31="U",J31="K",AND(J31="S",F31="")),0,IF(J31="H",N(F31)-N(G31)/2,N(F31)-N(G31))))
A32: =IF($B$6="","",IF(23<=DAY(EOMONTH($B$6,0)),DATE(YEAR($B$6),MONTH($B$6),23),"")) | B32: =IF(A32="","",A32) | F32: =IF(AND(ISNUMBER(C32),ISNUMBER(D32)),ROUND(MOD(D32-C32,1)*24-N(E32)/60,2),"") | G32: =IF(A32="","",IF(OR(WEEKDAY(A32,2)>$E$7,SUMPRODUCT((Feiertage!$A$2:$A$120=A32)*(((Feiertage!$C$2:$C$120="alle")+ISNUMBER(SEARCH(" "&IFERROR(VLOOKUP(Einstellungen!$B$10,Feiertage!$E$2:$F$17,2,FALSE),"--")&" "," "&Feiertage!$C$2:$C$120&" ")))>0))>0,J32="F"),0,$I$7)) | H32: =IF(OR(A32="",AND(F32="",J32="")),"",IF(OR(J32="U",J32="K",AND(J32="S",F32="")),0,IF(J32="H",N(F32)-N(G32)/2,N(F32)-N(G32))))
A33: =IF($B$6="","",IF(24<=DAY(EOMONTH($B$6,0)),DATE(YEAR($B$6),MONTH($B$6),24),"")) | B33: =IF(A33="","",A33) | F33: =IF(AND(ISNUMBER(C33),ISNUMBER(D33)),ROUND(MOD(D33-C33,1)*24-N(E33)/60,2),"") | G33: =IF(A33="","",IF(OR(WEEKDAY(A33,2)>$E$7,SUMPRODUCT((Feiertage!$A$2:$A$120=A33)*(((Feiertage!$C$2:$C$120="alle")+ISNUMBER(SEARCH(" "&IFERROR(VLOOKUP(Einstellungen!$B$10,Feiertage!$E$2:$F$17,2,FALSE),"--")&" "," "&Feiertage!$C$2:$C$120&" ")))>0))>0,J33="F"),0,$I$7)) | H33: =IF(OR(A33="",AND(F33="",J33="")),"",IF(OR(J33="U",J33="K",AND(J33="S",F33="")),0,IF(J33="H",N(F33)-N(G33)/2,N(F33)-N(G33))))
A34: =IF($B$6="","",IF(25<=DAY(EOMONTH($B$6,0)),DATE(YEAR($B$6),MONTH($B$6),25),"")) | B34: =IF(A34="","",A34) | F34: =IF(AND(ISNUMBER(C34),ISNUMBER(D34)),ROUND(MOD(D34-C34,1)*24-N(E34)/60,2),"") | G34: =IF(A34="","",IF(OR(WEEKDAY(A34,2)>$E$7,SUMPRODUCT((Feiertage!$A$2:$A$120=A34)*(((Feiertage!$C$2:$C$120="alle")+ISNUMBER(SEARCH(" "&IFERROR(VLOOKUP(Einstellungen!$B$10,Feiertage!$E$2:$F$17,2,FALSE),"--")&" "," "&Feiertage!$C$2:$C$120&" ")))>0))>0,J34="F"),0,$I$7)) | H34: =IF(OR(A34="",AND(F34="",J34="")),"",IF(OR(J34="U",J34="K",AND(J34="S",F34="")),0,IF(J34="H",N(F34)-N(G34)/2,N(F34)-N(G34))))
A35: =IF($B$6="","",IF(26<=DAY(EOMONTH($B$6,0)),DATE(YEAR($B$6),MONTH($B$6),26),"")) | B35: =IF(A35="","",A35) | F35: =IF(AND(ISNUMBER(C35),ISNUMBER(D35)),ROUND(MOD(D35-C35,1)*24-N(E35)/60,2),"") | G35: =IF(A35="","",IF(OR(WEEKDAY(A35,2)>$E$7,SUMPRODUCT((Feiertage!$A$2:$A$120=A35)*(((Feiertage!$C$2:$C$120="alle")+ISNUMBER(SEARCH(" "&IFERROR(VLOOKUP(Einstellungen!$B$10,Feiertage!$E$2:$F$17,2,FALSE),"--")&" "," "&Feiertage!$C$2:$C$120&" ")))>0))>0,J35="F"),0,$I$7)) | H35: =IF(OR(A35="",AND(F35="",J35="")),"",IF(OR(J35="U",J35="K",AND(J35="S",F35="")),0,IF(J35="H",N(F35)-N(G35)/2,N(F35)-N(G35))))
A36: =IF($B$6="","",IF(27<=DAY(EOMONTH($B$6,0)),DATE(YEAR($B$6),MONTH($B$6),27),"")) | B36: =IF(A36="","",A36) | F36: =IF(AND(ISNUMBER(C36),ISNUMBER(D36)),ROUND(MOD(D36-C36,1)*24-N(E36)/60,2),"") | G36: =IF(A36="","",IF(OR(WEEKDAY(A36,2)>$E$7,SUMPRODUCT((Feiertage!$A$2:$A$120=A36)*(((Feiertage!$C$2:$C$120="alle")+ISNUMBER(SEARCH(" "&IFERROR(VLOOKUP(Einstellungen!$B$10,Feiertage!$E$2:$F$17,2,FALSE),"--")&" "," "&Feiertage!$C$2:$C$120&" ")))>0))>0,J36="F"),0,$I$7)) | H36: =IF(OR(A36="",AND(F36="",J36="")),"",IF(OR(J36="U",J36="K",AND(J36="S",F36="")),0,IF(J36="H",N(F36)-N(G36)/2,N(F36)-N(G36))))
A37: =IF($B$6="","",IF(28<=DAY(EOMONTH($B$6,0)),DATE(YEAR($B$6),MONTH($B$6),28),"")) | B37: =IF(A37="","",A37) | F37: =IF(AND(ISNUMBER(C37),ISNUMBER(D37)),ROUND(MOD(D37-C37,1)*24-N(E37)/60,2),"") | G37: =IF(A37="","",IF(OR(WEEKDAY(A37,2)>$E$7,SUMPRODUCT((Feiertage!$A$2:$A$120=A37)*(((Feiertage!$C$2:$C$120="alle")+ISNUMBER(SEARCH(" "&IFERROR(VLOOKUP(Einstellungen!$B$10,Feiertage!$E$2:$F$17,2,FALSE),"--")&" "," "&Feiertage!$C$2:$C$120&" ")))>0))>0,J37="F"),0,$I$7)) | H37: =IF(OR(A37="",AND(F37="",J37="")),"",IF(OR(J37="U",J37="K",AND(J37="S",F37="")),0,IF(J37="H",N(F37)-N(G37)/2,N(F37)-N(G37))))
A38: =IF($B$6="","",IF(29<=DAY(EOMONTH($B$6,0)),DATE(YEAR($B$6),MONTH($B$6),29),"")) | B38: =IF(A38="","",A38) | F38: =IF(AND(ISNUMBER(C38),ISNUMBER(D38)),ROUND(MOD(D38-C38,1)*24-N(E38)/60,2),"") | G38: =IF(A38="","",IF(OR(WEEKDAY(A38,2)>$E$7,SUMPRODUCT((Feiertage!$A$2:$A$120=A38)*(((Feiertage!$C$2:$C$120="alle")+ISNUMBER(SEARCH(" "&IFERROR(VLOOKUP(Einstellungen!$B$10,Feiertage!$E$2:$F$17,2,FALSE),"--")&" "," "&Feiertage!$C$2:$C$120&" ")))>0))>0,J38="F"),0,$I$7)) | H38: =IF(OR(A38="",AND(F38="",J38="")),"",IF(OR(J38="U",J38="K",AND(J38="S",F38="")),0,IF(J38="H",N(F38)-N(G38)/2,N(F38)-N(G38))))
A39: =IF($B$6="","",IF(30<=DAY(EOMONTH($B$6,0)),DATE(YEAR($B$6),MONTH($B$6),30),"")) | B39: =IF(A39="","",A39) | F39: =IF(AND(ISNUMBER(C39),ISNUMBER(D39)),ROUND(MOD(D39-C39,1)*24-N(E39)/60,2),"") | G39: =IF(A39="","",IF(OR(WEEKDAY(A39,2)>$E$7,SUMPRODUCT((Feiertage!$A$2:$A$120=A39)*(((Feiertage!$C$2:$C$120="alle")+ISNUMBER(SEARCH(" "&IFERROR(VLOOKUP(Einstellungen!$B$10,Feiertage!$E$2:$F$17,2,FALSE),"--")&" "," "&Feiertage!$C$2:$C$120&" ")))>0))>0,J39="F"),0,$I$7)) | H39: =IF(OR(A39="",AND(F39="",J39="")),"",IF(OR(J39="U",J39="K",AND(J39="S",F39="")),0,IF(J39="H",N(F39)-N(G39)/2,N(F39)-N(G39))))
A40: =IF($B$6="","",IF(31<=DAY(EOMONTH($B$6,0)),DATE(YEAR($B$6),MONTH($B$6),31),"")) | B40: =IF(A40="","",A40) | F40: =IF(AND(ISNUMBER(C40),ISNUMBER(D40)),ROUND(MOD(D40-C40,1)*24-N(E40)/60,2),"") | G40: =IF(A40="","",IF(OR(WEEKDAY(A40,2)>$E$7,SUMPRODUCT((Feiertage!$A$2:$A$120=A40)*(((Feiertage!$C$2:$C$120="alle")+ISNUMBER(SEARCH(" "&IFERROR(VLOOKUP(Einstellungen!$B$10,Feiertage!$E$2:$F$17,2,FALSE),"--")&" "," "&Feiertage!$C$2:$C$120&" ")))>0))>0,J40="F"),0,$I$7)) | H40: =IF(OR(A40="",AND(F40="",J40="")),"",IF(OR(J40="U",J40="K",AND(J40="S",F40="")),0,IF(J40="H",N(F40)-N(G40)/2,N(F40)-N(G40))))
A42: Gearbeitete Stunden (Ist) | F42: =SUM(F10:F40) | G42: U Urlaub · H halber Urlaubstag · K krank · F Feiertag oder betriebsfrei · ZA Zeitausgleich (baut das Zeitkonto ab) · S Schulung oder Dienstreise (ohne Zeiten zählt das Soll). Orange: Pause kürzer als in § 4 ArbZG vorgesehen oder mehr als 10 Stunden am Tag (§ 3 ArbZG).
A43: Sollstunden im Monat | F43: =SUM(G10:G40)
...

Sheet Feb
A1: Arbeitszeit Februar
A2: Je Tag Beginn, Ende und Pause eintragen, Abwesenheiten unter Vermerk. Name, Jahr, Bundesland und Sollzeit kommen aus dem Blatt „Einstellungen“.
A3: Weiß: hier eintragen | C3: Grau: wird berechnet
A5: Name | B5: =IF(Einstellungen!$B$5="","",Einstellungen!$B$5) | G5: Personal-Nr. | I5: =IF(Einstellungen!$B$6="","",Einstellungen!$B$6)
A6: Monat | B6: =IF(N(Einstellungen!$B$9)=0,"",DATE(Einstellungen!$B$9,2,1)) | G6: Bundesland | I6: =Einstellungen!$B$10&""
A7: Wochenstd. | B7: =Einstellungen!$D$23 | C7: Tage/Woche | E7: =Einstellungen!$E$23 | G7: Soll pro Tag | I7: =Einstellungen!$F$23
A9: Datum | B9: Tag | C9: Beginn | D9: Ende | E9: Pause (Min.) | F9: Stunden | G9: Soll | H9: Saldo | I9: Tätigkeit / Bemerkung | J9: Vermerk
A10: =IF($B$6="","",IF(1<=DAY(EOMONTH($B$6,0)),DATE(YEAR($B$6),MONTH($B$6),1),"")) | B10: =IF(A10="","",A10) | F10: =IF(AND(ISNUMBER(C10),ISNUMBER(D10)),ROUND(MOD(D10-C10,1)*24-N(E10)/60,2),"") | G10: =IF(A10="","",IF(OR(WEEKDAY(A10,2)>$E$7,SUMPRODUCT((Feiertage!$A$2:$A$120=A10)*(((Feiertage!$C$2:$C$120="alle")+ISNUMBER(SEARCH(" "&IFERROR(VLOOKUP(Einstellungen!$B$10,Feiertage!$E$2:$F$17,2,FALSE),"--")&" "," "&Feiertage!$C$2:$C$120&" ")))>0))>0,J10="F"),0,$I$7)) | H10: =IF(OR(A10="",AND(F10="",J10="")),"",IF(OR(J10="U",J10="K",AND(J10="S",F10="")),0,IF(J10="H",N(F10)-N(G10)/2,N(F10)-N(G10))))
A11: =IF($B$6="","",IF(2<=DAY(EOMONTH($B$6,0)),DATE(YEAR($B$6),MONTH($B$6),2),"")) | B11: =IF(A11="","",A11) | F11: =IF(AND(ISNUMBER(C11),ISNUMBER(D11)),ROUND(MOD(D11-C11,1)*24-N(E11)/60,2),"") | G11: =IF(A11="","",IF(OR(WEEKDAY(A11,2)>$E$7,SUMPRODUCT((Feiertage!$A$2:$A$120=A11)*(((Feiertage!$C$2:$C$120="alle")+ISNUMBER(SEARCH(" "&IFERROR(VLOOKUP(Einstellungen!$B$10,Feiertage!$E$2:$F$17,2,FALSE),"--")&" "," "&Feiertage!$C$2:$C$120&" ")))>0))>0,J11="F"),0,$I$7)) | H11: =IF(OR(A11="",AND(F11="",J11="")),"",IF(OR(J11="U",J11="K",AND(J11="S",F11="")),0,IF(J11="H",N(F11)-N(G11)/2,N(F11)-N(G11))))
A12: =IF($B$6="","",IF(3<=DAY(EOMONTH($B$6,0)),DATE(YEAR($B$6),MONTH($B$6),3),"")) | B12: =IF(A12="","",A12) | F12: =IF(AND(ISNUMBER(C12),ISNUMBER(D12)),ROUND(MOD(D12-C12,1)*24-N(E12)/60,2),"") | G12: =IF(A12="","",IF(OR(WEEKDAY(A12,2)>$E$7,SUMPRODUCT((Feiertage!$A$2:$A$120=A12)*(((Feiertage!$C$2:$C$120="alle")+ISNUMBER(SEARCH(" "&IFERROR(VLOOKUP(Einstellungen!$B$10,Feiertage!$E$2:$F$17,2,FALSE),"--")&" "," "&Feiertage!$C$2:$C$120&" ")))>0))>0,J12="F"),0,$I$7)) | H12: =IF(OR(A12="",AND(F12="",J12="")),"",IF(OR(J12="U",J12="K",AND(J12="S",F12="")),0,IF(J12="H",N(F12)-N(G12)/2,N(F12)-N(G12))))
A13: =IF($B$6="","",IF(4<=DAY(EOMONTH($B$6,0)),DATE(YEAR($B$6),MONTH($B$6),4),"")) | B13: =IF(A13="","",A13) | F13: =IF(AND(ISNUMBER(C13),ISNUMBER(D13)),ROUND(MOD(D13-C13,1)*24-N(E13)/60,2),"") | G13: =IF(A13="","",IF(OR(WEEKDAY(A13,2)>$E$7,SUMPRODUCT((Feiertage!$A$2:$A$120=A13)*(((Feiertage!$C$2:$C$120="alle")+ISNUMBER(SEARCH(" "&IFERROR(VLOOKUP(Einstellungen!$B$10,Feiertage!$E$2:$F$17,2,FALSE),"--")&" "," "&Feiertage!$C$2:$C$120&" ")))>0))>0,J13="F"),0,$I$7)) | H13: =IF(OR(A13="",AND(F13="",J13="")),"",IF(OR(J13="U",J13="K",AND(J13="S",F13="")),0,IF(J13="H",N(F13)-N(G13)/2,N(F13)-N(G13))))
A14: =IF($B$6="","",IF(5<=DAY(EOMONTH($B$6,0)),DATE(YEAR($B$6),MONTH($B$6),5),"")) | B14: =IF(A14="","",A14) | F14: =IF(AND(ISNUMBER(C14),ISNUMBER(D14)),ROUND(MOD(D14-C14,1)*24-N(E14)/60,2),"") | G14: =IF(A14="","",IF(OR(WEEKDAY(A14,2)>$E$7,SUMPRODUCT((Feiertage!$A$2:$A$120=A14)*(((Feiertage!$C$2:$C$120="alle")+ISNUMBER(SEARCH(" "&IFERROR(VLOOKUP(Einstellungen!$B$10,Feiertage!$E$2:$F$17,2,FALSE),"--")&" "," "&Feiertage!$C$2:$C$120&" ")))>0))>0,J14="F"),0,$I$7)) | H14: =IF(OR(A14="",AND(F14="",J14="")),"",IF(OR(J14="U",J14="K",AND(J14="S",F14="")),0,IF(J14="H",N(F14)-N(G14)/2,N(F14)-N(G14))))
A15: =IF($B$6="","",IF(6<=DAY(EOMONTH($B$6,0)),DATE(YEAR($B$6),MONTH($B$6),6),"")) | B15: =IF(A15="","",A15) | F15: =IF(AND(ISNUMBER(C15),ISNUMBER(D15)),ROUND(MOD(D15-C15,1)*24-N(E15)/60,2),"") | G15: =IF(A15="","",IF(OR(WEEKDAY(A15,2)>$E$7,SUMPRODUCT((Feiertage!$A$2:$A$120=A15)*(((Feiertage!$C$2:$C$120="alle")+ISNUMBER(SEARCH(" "&IFERROR(VLOOKUP(Einstellungen!$B$10,Feiertage!$E$2:$F$17,2,FALSE),"--")&" "," "&Feiertage!$C$2:$C$120&" ")))>0))>0,J15="F"),0,$I$7)) | H15: =IF(OR(A15="",AND(F15="",J15="")),"",IF(OR(J15="U",J15="K",AND(J15="S",F15="")),0,IF(J15="H",N(F15)-N(G15)/2,N(F15)-N(G15))))
A16: =IF($B$6="","",IF(7<=DAY(EOMONTH($B$6,0)),DATE(YEAR($B$6),MONTH($B$6),7),"")) | B16: =IF(A16="","",A16) | F16: =IF(AND(ISNUMBER(C16),ISNUMBER(D16)),ROUND(MOD(D16-C16,1)*24-N(E16)/60,2),"") | G16: =IF(A16="","",IF(OR(WEEKDAY(A16,2)>$E$7,SUMPRODUCT((Feiertage!$A$2:$A$120=A16)*(((Feiertage!$C$2:$C$120="alle")+ISNUMBER(SEARCH(" "&IFERROR(VLOOKUP(Einstellungen!$B$10,Feiertage!$E$2:$F$17,2,FALSE),"--")&" "," "&Feiertage!$C$2:$C$120&" ")))>0))>0,J16="F"),0,$I$7)) | H16: =IF(OR(A16="",AND(F16="",J16="")),"",IF(OR(J16="U",J16="K",AND(J16="S",F16="")),0,IF(J16="H",N(F16)-N(G16)/2,N(F16)-N(G16))))
A17: =IF($B$6="","",IF(8<=DAY(EOMONTH($B$6,0)),DATE(YEAR($B$6),MONTH($B$6),8),"")) | B17: =IF(A17="","",A17) | F17: =IF(AND(ISNUMBER(C17),ISNUMBER(D17)),ROUND(MOD(D17-C17,1)*24-N(E17)/60,2),"") | G17: =IF(A17="","",IF(OR(WEEKDAY(A17,2)>$E$7,SUMPRODUCT((Feiertage!$A$2:$A$120=A17)*(((Feiertage!$C$2:$C$120="alle")+ISNUMBER(SEARCH(" "&IFERROR(VLOOKUP(Einstellungen!$B$10,Feiertage!$E$2:$F$17,2,FALSE),"--")&" "," "&Feiertage!$C$2:$C$120&" ")))>0))>0,J17="F"),0,$I$7)) | H17: =IF(OR(A17="",AND(F17="",J17="")),"",IF(OR(J17="U",J17="K",AND(J17="S",F17="")),0,IF(J17="H",N(F17)-N(G17)/2,N(F17)-N(G17))))
A18: =IF($B$6="","",IF(9<=DAY(EOMONTH($B$6,0)),DATE(YEAR($B$6),MONTH($B$6),9),"")) | B18: =IF(A18="","",A18) | F18: =IF(AND(ISNUMBER(C18),ISNUMBER(D18)),ROUND(MOD(D18-C18,1)*24-N(E18)/60,2),"") | G18: =IF(A18="","",IF(OR(WEEKDAY(A18,2)>$E$7,SUMPRODUCT((Feiertage!$A$2:$A$120=A18)*(((Feiertage!$C$2:$C$120="alle")+ISNUMBER(SEARCH(" "&IFERROR(VLOOKUP(Einstellungen!$B$10,Feiertage!$E$2:$F$17,2,FALSE),"--")&" "," "&Feiertage!$C$2:$C$120&" ")))>0))>0,J18="F"),0,$I$7)) | H18: =IF(OR(A18="",AND(F18="",J18="")),"",IF(OR(J18="U",J18="K",AND(J18="S",F18="")),0,IF(J18="H",N(F18)-N(G18)/2,N(F18)-N(G18))))
A19: =IF($B$6="","",IF(10<=DAY(EOMONTH($B$6,0)),DATE(YEAR($B$6),MONTH($B$6),10),"")) | B19: =IF(A19="","",A19) | F19: =IF(AND(ISNUMBER(C19),ISNUMBER(D19)),ROUND(MOD(D19-C19,1)*24-N(E19)/60,2),"") | G19: =IF(A19="","",IF(OR(WEEKDAY(A19,2)>$E$7,SUMPRODUCT((Feiertage!$A$2:$A$120=A19)*(((Feiertage!$C$2:$C$120="alle")+ISNUMBER(SEARCH(" "&IFERROR(VLOOKUP(Einstellungen!$B$10,Feiertage!$E$2:$F$17,2,FALSE),"--")&" "," "&Feiertage!$C$2:$C$120&" ")))>0))>0,J19="F"),0,$I$7)) | H19: =IF(OR(A19="",AND(F19="",J19="")),"",IF(OR(J19="U",J19="K",AND(J19="S",F19="")),0,IF(J19="H",N(F19)-N(G19)/2,N(F19)-N(G19))))
A20: =IF($B$6="","",IF(11<=DAY(EOMONTH($B$6,0)),DATE(YEAR($B$6),MONTH($B$6),11),"")) | B20: =IF(A20="","",A20) | F20: =IF(AND(ISNUMBER(C20),ISNUMBER(D20)),ROUND(MOD(D20-C20,1)*24-N(E20)/60,2),"") | G20: =IF(A20="","",IF(OR(WEEKDAY(A20,2)>$E$7,SUMPRODUCT((Feiertage!$A$2:$A$120=A20)*(((Feiertage!$C$2:$C$120="alle")+ISNUMBER(SEARCH(" "&IFERROR(VLOOKUP(Einstellungen!$B$10,Feiertage!$E$2:$F$17,2,FALSE),"--")&" "," "&Feiertage!$C$2:$C$120&" ")))>0))>0,J20="F"),0,$I$7)) | H20: =IF(OR(A20="",AND(F20="",J20="")),"",IF(OR(J20="U",J20="K",AND(J20="S",F20="")),0,IF(J20="H",N(F20)-N(G20)/2,N(F20)-N(G20))))
A21: =IF($B$6="","",IF(12<=DAY(EOMONTH($B$6,0)),DATE(YEAR($B$6),MONTH($B$6),12),"")) | B21: =IF(A21="","",A21) | F21: =IF(AND(ISNUMBER(C21),ISNUMBER(D21)),ROUND(MOD(D21-C21,1)*24-N(E21)/60,2),"") | G21: =IF(A21="","",IF(OR(WEEKDAY(A21,2)>$E$7,SUMPRODUCT((Feiertage!$A$2:$A$120=A21)*(((Feiertage!$C$2:$C$120="alle")+ISNUMBER(SEARCH(" "&IFERROR(VLOOKUP(Einstellungen!$B$10,Feiertage!$E$2:$F$17,2,FALSE),"--")&" "," "&Feiertage!$C$2:$C$120&" ")))>0))>0,J21="F"),0,$I$7)) | H21: =IF(OR(A21="",AND(F21="",J21="")),"",IF(OR(J21="U",J21="K",AND(J21="S",F21="")),0,IF(J21="H",N(F21)-N(G21)/2,N(F21)-N(G21))))
A22: =IF($B$6="","",IF(13<=DAY(EOMONTH($B$6,0)),DATE(YEAR($B$6),MONTH($B$6),13),"")) | B22: =IF(A22="","",A22) | F22: =IF(AND(ISNUMBER(C22),ISNUMBER(D22)),ROUND(MOD(D22-C22,1)*24-N(E22)/60,2),"") | G22: =IF(A22="","",IF(OR(WEEKDAY(A22,2)>$E$7,SUMPRODUCT((Feiertage!$A$2:$A$120=A22)*(((Feiertage!$C$2:$C$120="alle")+ISNUMBER(SEARCH(" "&IFERROR(VLOOKUP(Einstellungen!$B$10,Feiertage!$E$2:$F$17,2,FALSE),"--")&" "," "&Feiertage!$C$2:$C$120&" ")))>0))>0,J22="F"),0,$I$7)) | H22: =IF(OR(A22="",AND(F22="",J22="")),"",IF(OR(J22="U",J22="K",AND(J22="S",F22="")),0,IF(J22="H",N(F22)-N(G22)/2,N(F22)-N(G22))))
A23: =IF($B$6="","",IF(14<=DAY(EOMONTH($B$6,0)),DATE(YEAR($B$6),MONTH($B$6),14),"")) | B23: =IF(A23="","",A23) | F23: =IF(AND(ISNUMBER(C23),ISNUMBER(D23)),ROUND(MOD(D23-C23,1)*24-N(E23)/60,2),"") | G23: =IF(A23="","",IF(OR(WEEKDAY(A23,2)>$E$7,SUMPRODUCT((Feiertage!$A$2:$A$120=A23)*(((Feiertage!$C$2:$C$120="alle")+ISNUMBER(SEARCH(" "&IFERROR(VLOOKUP(Einstellungen!$B$10,Feiertage!$E$2:$F$17,2,FALSE),"--")&" "," "&Feiertage!$C$2:$C$120&" ")))>0))>0,J23="F"),0,$I$7)) | H23: =IF(OR(A23="",AND(F23="",J23="")),"",IF(OR(J23="U",J23="K",AND(J23="S",F23="")),0,IF(J23="H",N(F23)-N(G23)/2,N(F23)-N(G23))))
A24: =IF($B$6="","",IF(15<=DAY(EOMONTH($B$6,0)),DATE(YEAR($B$6),MONTH($B$6),15),"")) | B24: =IF(A24="","",A24) | F24: =IF(AND(ISNUMBER(C24),ISNUMBER(D24)),ROUND(MOD(D24-C24,1)*24-N(E24)/60,2),"") | G24: =IF(A24="","",IF(OR(WEEKDAY(A24,2)>$E$7,SUMPRODUCT((Feiertage!$A$2:$A$120=A24)*(((Feiertage!$C$2:$C$120="alle")+ISNUMBER(SEARCH(" "&IFERROR(VLOOKUP(Einstellungen!$B$10,Feiertage!$E$2:$F$17,2,FALSE),"--")&" "," "&Feiertage!$C$2:$C$120&" ")))>0))>0,J24="F"),0,$I$7)) | H24: =IF(OR(A24="",AND(F24="",J24="")),"",IF(OR(J24="U",J24="K",AND(J24="S",F24="")),0,IF(J24="H",N(F24)-N(G24)/2,N(F24)-N(G24))))
A25: =IF($B$6="","",IF(16<=DAY(EOMONTH($B$6,0)),DATE(YEAR($B$6),MONTH($B$6),16),"")) | B25: =IF(A25="","",A25) | F25: =IF(AND(ISNUMBER(C25),ISNUMBER(D25)),ROUND(MOD(D25-C25,1)*24-N(E25)/60,2),"") | G25: =IF(A25="","",IF(OR(WEEKDAY(A25,2)>$E$7,SUMPRODUCT((Feiertage!$A$2:$A$120=A25)*(((Feiertage!$C$2:$C$120="alle")+ISNUMBER(SEARCH(" "&IFERROR(VLOOKUP(Einstellungen!$B$10,Feiertage!$E$2:$F$17,2,FALSE),"--")&" "," "&Feiertage!$C$2:$C$120&" ")))>0))>0,J25="F"),0,$I$7)) | H25: =IF(OR(A25="",AND(F25="",J25="")),"",IF(OR(J25="U",J25="K",AND(J25="S",F25="")),0,IF(J25="H",N(F25)-N(G25)/2,N(F25)-N(G25))))
A26: =IF($B$6="","",IF(17<=DAY(EOMONTH($B$6,0)),DATE(YEAR($B$6),MONTH($B$6),17),"")) | B26: =IF(A26="","",A26) | F26: =IF(AND(ISNUMBER(C26),ISNUMBER(D26)),ROUND(MOD(D26-C26,1)*24-N(E26)/60,2),"") | G26: =IF(A26="","",IF(OR(WEEKDAY(A26,2)>$E$7,SUMPRODUCT((Feiertage!$A$2:$A$120=A26)*(((Feiertage!$C$2:$C$120="alle")+ISNUMBER(SEARCH(" "&IFERROR(VLOOKUP(Einstellungen!$B$10,Feiertage!$E$2:$F$17,2,FALSE),"--")&" "," "&Feiertage!$C$2:$C$120&" ")))>0))>0,J26="F"),0,$I$7)) | H26: =IF(OR(A26="",AND(F26="",J26="")),"",IF(OR(J26="U",J26="K",AND(J26="S",F26="")),0,IF(J26="H",N(F26)-N(G26)/2,N(F26)-N(G26))))
A27: =IF($B$6="","",IF(18<=DAY(EOMONTH($B$6,0)),DATE(YEAR($B$6),MONTH($B$6),18),"")) | B27: =IF(A27="","",A27) | F27: =IF(AND(ISNUMBER(C27),ISNUMBER(D27)),ROUND(MOD(D27-C27,1)*24-N(E27)/60,2),"") | G27: =IF(A27="","",IF(OR(WEEKDAY(A27,2)>$E$7,SUMPRODUCT((Feiertage!$A$2:$A$120=A27)*(((Feiertage!$C$2:$C$120="alle")+ISNUMBER(SEARCH(" "&IFERROR(VLOOKUP(Einstellungen!$B$10,Feiertage!$E$2:$F$17,2,FALSE),"--")&" "," "&Feiertage!$C$2:$C$120&" ")))>0))>0,J27="F"),0,$I$7)) | H27: =IF(OR(A27="",AND(F27="",J27="")),"",IF(OR(J27="U",J27="K",AND(J27="S",F27="")),0,IF(J27="H",N(F27)-N(G27)/2,N(F27)-N(G27))))
A28: =IF($B$6="","",IF(19<=DAY(EOMONTH($B$6,0)),DATE(YEAR($B$6),MONTH($B$6),19),"")) | B28: =IF(A28="","",A28) | F28: =IF(AND(ISNUMBER(C28),ISNUMBER(D28)),ROUND(MOD(D28-C28,1)*24-N(E28)/60,2),"") | G28: =IF(A28="","",IF(OR(WEEKDAY(A28,2)>$E$7,SUMPRODUCT((Feiertage!$A$2:$A$120=A28)*(((Feiertage!$C$2:$C$120="alle")+ISNUMBER(SEARCH(" "&IFERROR(VLOOKUP(Einstellungen!$B$10,Feiertage!$E$2:$F$17,2,FALSE),"--")&" "," "&Feiertage!$C$2:$C$120&" ")))>0))>0,J28="F"),0,$I$7)) | H28: =IF(OR(A28="",AND(F28="",J28="")),"",IF(OR(J28="U",J28="K",AND(J28="S",F28="")),0,IF(J28="H",N(F28)-N(G28)/2,N(F28)-N(G28))))
A29: =IF($B$6="","",IF(20<=DAY(EOMONTH($B$6,0)),DATE(YEAR($B$6),MONTH($B$6),20),"")) | B29: =IF(A29="","",A29) | F29: =IF(AND(ISNUMBER(C29),ISNUMBER(D29)),ROUND(MOD(D29-C29,1)*24-N(E29)/60,2),"") | G29: =IF(A29="","",IF(OR(WEEKDAY(A29,2)>$E$7,SUMPRODUCT((Feiertage!$A$2:$A$120=A29)*(((Feiertage!$C$2:$C$120="alle")+ISNUMBER(SEARCH(" "&IFERROR(VLOOKUP(Einstellungen!$B$10,Feiertage!$E$2:$F$17,2,FALSE),"--")&" "," "&Feiertage!$C$2:$C$120&" ")))>0))>0,J29="F"),0,$I$7)) | H29: =IF(OR(A29="",AND(F29="",J29="")),"",IF(OR(J29="U",J29="K",AND(J29="S",F29="")),0,IF(J29="H",N(F29)-N(G29)/2,N(F29)-N(G29))))
A30: =IF($B$6="","",IF(21<=DAY(EOMONTH($B$6,0)),DATE(YEAR($B$6),MONTH($B$6),21),"")) | B30: =IF(A30="","",A30) | F30: =IF(AND(ISNUMBER(C30),ISNUMBER(D30)),ROUND(MOD(D30-C30,1)*24-N(E30)/60,2),"") | G30: =IF(A30="","",IF(OR(WEEKDAY(A30,2)>$E$7,SUMPRODUCT((Feiertage!$A$2:$A$120=A30)*(((Feiertage!$C$2:$C$120="alle")+ISNUMBER(SEARCH(" "&IFERROR(VLOOKUP(Einstellungen!$B$10,Feiertage!$E$2:$F$17,2,FALSE),"--")&" "," "&Feiertage!$C$2:$C$120&" ")))>0))>0,J30="F"),0,$I$7)) | H30: =IF(OR(A30="",AND(F30="",J30="")),"",IF(OR(J30="U",J30="K",AND(J30="S",F30="")),0,IF(J30="H",N(F30)-N(G30)/2,N(F30)-N(G30))))
A31: =IF($B$6="","",IF(22<=DAY(EOMONTH($B$6,0)),DATE(YEAR($B$6),MONTH($B$6),22),"")) | B31: =IF(A31="","",A31) | F31: =IF(AND(ISNUMBER(C31),ISNUMBER(D31)),ROUND(MOD(D31-C31,1)*24-N(E31)/60,2),"") | G31: =IF(A31="","",IF(OR(WEEKDAY(A31,2)>$E$7,SUMPRODUCT((Feiertage!$A$2:$A$120=A31)*(((Feiertage!$C$2:$C$120="alle")+ISNUMBER(SEARCH(" "&IFERROR(VLOOKUP(Einstellungen!$B$10,Feiertage!$E$2:$F$17,2,FALSE),"--")&" "," "&Feiertage!$C$2:$C$120&" ")))>0))>0,J31="F"),0,$I$7)) | H31: =IF(OR(A31="",AND(F31="",J31="")),"",IF(OR(J31="U",J31="K",AND(J31="S",F31="")),0,IF(J31="H",N(F31)-N(G31)/2,N(F31)-N(G31))))
A32: =IF($B$6="","",IF(23<=DAY(EOMONTH($B$6,0)),DATE(YEAR($B$6),MONTH($B$6),23),"")) | B32: =IF(A32="","",A32) | F32: =IF(AND(ISNUMBER(C32),ISNUMBER(D32)),ROUND(MOD(D32-C32,1)*24-N(E32)/60,2),"") | G32: =IF(A32="","",IF(OR(WEEKDAY(A32,2)>$E$7,SUMPRODUCT((Feiertage!$A$2:$A$120=A32)*(((Feiertage!$C$2:$C$120="alle")+ISNUMBER(SEARCH(" "&IFERROR(VLOOKUP(Einstellungen!$B$10,Feiertage!$E$2:$F$17,2,FALSE),"--")&" "," "&Feiertage!$C$2:$C$120&" ")))>0))>0,J32="F"),0,$I$7)) | H32: =IF(OR(A32="",AND(F32="",J32="")),"",IF(OR(J32="U",J32="K",AND(J32="S",F32="")),0,IF(J32="H",N(F32)-N(G32)/2,N(F32)-N(G32))))
A33: =IF($B$6="","",IF(24<=DAY(EOMONTH($B$6,0)),DATE(YEAR($B$6),MONTH($B$6),24),"")) | B33: =IF(A33="","",A33) | F33: =IF(AND(ISNUMBER(C33),ISNUMBER(D33)),ROUND(MOD(D33-C33,1)*24-N(E33)/60,2),"") | G33: =IF(A33="","",IF(OR(WEEKDAY(A33,2)>$E$7,SUMPRODUCT((Feiertage!$A$2:$A$120=A33)*(((Feiertage!$C$2:$C$120="alle")+ISNUMBER(SEARCH(" "&IFERROR(VLOOKUP(Einstellungen!$B$10,Feiertage!$E$2:$F$17,2,FALSE),"--")&" "," "&Feiertage!$C$2:$C$120&" ")))>0))>0,J33="F"),0,$I$7)) | H33: =IF(OR(A33="",AND(F33="",J33="")),"",IF(OR(J33="U",J33="K",AND(J33="S",F33="")),0,IF(J33="H",N(F33)-N(G33)/2,N(F33)-N(G33))))
A34: =IF($B$6="","",IF(25<=DAY(EOMONTH($B$6,0)),DATE(YEAR($B$6),MONTH($B$6),25),"")) | B34: =IF(A34="","",A34) | F34: =IF(AND(ISNUMBER(C34),ISNUMBER(D34)),ROUND(MOD(D34-C34,1)*24-N(E34)/60,2),"") | G34: =IF(A34="","",IF(OR(WEEKDAY(A34,2)>$E$7,SUMPRODUCT((Feiertage!$A$2:$A$120=A34)*(((Feiertage!$C$2:$C$120="alle")+ISNUMBER(SEARCH(" "&IFERROR(VLOOKUP(Einstellungen!$B$10,Feiertage!$E$2:$F$17,2,FALSE),"--")&" "," "&Feiertage!$C$2:$C$120&" ")))>0))>0,J34="F"),0,$I$7)) | H34: =IF(OR(A34="",AND(F34="",J34="")),"",IF(OR(J34="U",J34="K",AND(J34="S",F34="")),0,IF(J34="H",N(F34)-N(G34)/2,N(F34)-N(G34))))
A35: =IF($B$6="","",IF(26<=DAY(EOMONTH($B$6,0)),DATE(YEAR($B$6),MONTH($B$6),26),"")) | B35: =IF(A35="","",A35) | F35: =IF(AND(ISNUMBER(C35),ISNUMBER(D35)),ROUND(MOD(D35-C35,1)*24-N(E35)/60,2),"") | G35: =IF(A35="","",IF(OR(WEEKDAY(A35,2)>$E$7,SUMPRODUCT((Feiertage!$A$2:$A$120=A35)*(((Feiertage!$C$2:$C$120="alle")+ISNUMBER(SEARCH(" "&IFERROR(VLOOKUP(Einstellungen!$B$10,Feiertage!$E$2:$F$17,2,FALSE),"--")&" "," "&Feiertage!$C$2:$C$120&" ")))>0))>0,J35="F"),0,$I$7)) | H35: =IF(OR(A35="",AND(F35="",J35="")),"",IF(OR(J35="U",J35="K",AND(J35="S",F35="")),0,IF(J35="H",N(F35)-N(G35)/2,N(F35)-N(G35))))
A36: =IF($B$6="","",IF(27<=DAY(EOMONTH($B$6,0)),DATE(YEAR($B$6),MONTH($B$6),27),"")) | B36: =IF(A36="","",A36) | F36: =IF(AND(ISNUMBER(C36),ISNUMBER(D36)),ROUND(MOD(D36-C36,1)*24-N(E36)/60,2),"") | G36: =IF(A36="","",IF(OR(WEEKDAY(A36,2)>$E$7,SUMPRODUCT((Feiertage!$A$2:$A$120=A36)*(((Feiertage!$C$2:$C$120="alle")+ISNUMBER(SEARCH(" "&IFERROR(VLOOKUP(Einstellungen!$B$10,Feiertage!$E$2:$F$17,2,FALSE),"--")&" "," "&Feiertage!$C$2:$C$120&" ")))>0))>0,J36="F"),0,$I$7)) | H36: =IF(OR(A36="",AND(F36="",J36="")),"",IF(OR(J36="U",J36="K",AND(J36="S",F36="")),0,IF(J36="H",N(F36)-N(G36)/2,N(F36)-N(G36))))
A37: =IF($B$6="","",IF(28<=DAY(EOMONTH($B$6,0)),DATE(YEAR($B$6),MONTH($B$6),28),"")) | B37: =IF(A37="","",A37) | F37: =IF(AND(ISNUMBER(C37),ISNUMBER(D37)),ROUND(MOD(D37-C37,1)*24-N(E37)/60,2),"") | G37: =IF(A37="","",IF(OR(WEEKDAY(A37,2)>$E$7,SUMPRODUCT((Feiertage!$A$2:$A$120=A37)*(((Feiertage!$C$2:$C$120="alle")+ISNUMBER(SEARCH(" "&IFERROR(VLOOKUP(Einstellungen!$B$10,Feiertage!$E$2:$F$17,2,FALSE),"--")&" "," "&Feiertage!$C$2:$C$120&" ")))>0))>0,J37="F"),0,$I$7)) | H37: =IF(OR(A37="",AND(F37="",J37="")),"",IF(OR(J37="U",J37="K",AND(J37="S",F37="")),0,IF(J37="H",N(F37)-N(G37)/2,N(F37)-N(G37))))
A38: =IF($B$6="","",IF(29<=DAY(EOMONTH($B$6,0)),DATE(YEAR($B$6),MONTH($B$6),29),"")) | B38: =IF(A38="","",A38) | F38: =IF(AND(ISNUMBER(C38),ISNUMBER(D38)),ROUND(MOD(D38-C38,1)*24-N(E38)/60,2),"") | G38: =IF(A38="","",IF(OR(WEEKDAY(A38,2)>$E$7,SUMPRODUCT((Feiertage!$A$2:$A$120=A38)*(((Feiertage!$C$2:$C$120="alle")+ISNUMBER(SEARCH(" "&IFERROR(VLOOKUP(Einstellungen!$B$10,Feiertage!$E$2:$F$17,2,FALSE),"--")&" "," "&Feiertage!$C$2:$C$120&" ")))>0))>0,J38="F"),0,$I$7)) | H38: =IF(OR(A38="",AND(F38="",J38="")),"",IF(OR(J38="U",J38="K",AND(J38="S",F38="")),0,IF(J38="H",N(F38)-N(G38)/2,N(F38)-N(G38))))
A39: =IF($B$6="","",IF(30<=DAY(EOMONTH($B$6,0)),DATE(YEAR($B$6),MONTH($B$6),30),"")) | B39: =IF(A39="","",A39) | F39: =IF(AND(ISNUMBER(C39),ISNUMBER(D39)),ROUND(MOD(D39-C39,1)*24-N(E39)/60,2),"") | G39: =IF(A39="","",IF(OR(WEEKDAY(A39,2)>$E$7,SUMPRODUCT((Feiertage!$A$2:$A$120=A39)*(((Feiertage!$C$2:$C$120="alle")+ISNUMBER(SEARCH(" "&IFERROR(VLOOKUP(Einstellungen!$B$10,Feiertage!$E$2:$F$17,2,FALSE),"--")&" "," "&Feiertage!$C$2:$C$120&" ")))>0))>0,J39="F"),0,$I$7)) | H39: =IF(OR(A39="",AND(F39="",J39="")),"",IF(OR(J39="U",J39="K",AND(J39="S",F39="")),0,IF(J39="H",N(F39)-N(G39)/2,N(F39)-N(G39))))
A40: =IF($B$6="","",IF(31<=DAY(EOMONTH($B$6,0)),DATE(YEAR($B$6),MONTH($B$6),31),"")) | B40: =IF(A40="","",A40) | F40: =IF(AND(ISNUMBER(C40),ISNUMBER(D40)),ROUND(MOD(D40-C40,1)*24-N(E40)/60,2),"") | G40: =IF(A40="","",IF(OR(WEEKDAY(A40,2)>$E$7,SUMPRODUCT((Feiertage!$A$2:$A$120=A40)*(((Feiertage!$C$2:$C$120="alle")+ISNUMBER(SEARCH(" "&IFERROR(VLOOKUP(Einstellungen!$B$10,Feiertage!$E$2:$F$17,2,FALSE),"--")&" "," "&Feiertage!$C$2:$C$120&" ")))>0))>0,J40="F"),0,$I$7)) | H40: =IF(OR(A40="",AND(F40="",J40="")),"",IF(OR(J40="U",J40="K",AND(J40="S",F40="")),0,IF(J40="H",N(F40)-N(G40)/2,N(F40)-N(G40))))
A42: Gearbeitete Stunden (Ist) | F42: =SUM(F10:F40) | G42: U Urlaub · H halber Urlaubstag · K krank · F Feiertag oder betriebsfrei · ZA Zeitausgleich (baut das Zeitkonto ab) · S Schulung oder Dienstreise (ohne Zeiten zählt das Soll). Orange: Pause kürzer als in § 4 ArbZG vorgesehen oder mehr als 10 Stunden am Tag (§ 3 ArbZG).
A43: Sollstunden im Monat | F43: =SUM(G10:G40)
...

Sheet Mär
A1: Arbeitszeit März
A2: Je Tag Beginn, Ende und Pause eintragen, Abwesenheiten unter Vermerk. Name, Jahr, Bundesland und Sollzeit kommen aus dem Blatt „Einstellungen“.
A3: Weiß: hier eintragen | C3: Grau: wird berechnet
A5: Name | B5: =IF(Einstellungen!$B$5="","",Einstellungen!$B$5) | G5: Personal-Nr. | I5: =IF(Einstellungen!$B$6="","",Einstellungen!$B$6)
A6: Monat | B6: =IF(N(Einstellungen!$B$9)=0,"",DATE(Einstellungen!$B$9,3,1)) | G6: Bundesland | I6: =Einstellungen!$B$10&""
A7: Wochenstd. | B7: =Einstellungen!$D$24 | C7: Tage/Woche | E7: =Einstellungen!$E$24 | G7: Soll pro Tag | I7: =Einstellungen!$F$24
A9: Datum | B9: Tag | C9: Beginn | D9: Ende | E9: Pause (Min.) | F9: Stunden | G9: Soll | H9: Saldo | I9: Tätigkeit / Bemerkung | J9: Vermerk
A10: =IF($B$6="","",IF(1<=DAY(EOMONTH($B$6,0)),DATE(YEAR($B$6),MONTH($B$6),1),"")) | B10: =IF(A10="","",A10) | F10: =IF(AND(ISNUMBER(C10),ISNUMBER(D10)),ROUND(MOD(D10-C10,1)*24-N(E10)/60,2),"") | G10: =IF(A10="","",IF(OR(WEEKDAY(A10,2)>$E$7,SUMPRODUCT((Feiertage!$A$2:$A$120=A10)*(((Feiertage!$C$2:$C$120="alle")+ISNUMBER(SEARCH(" "&IFERROR(VLOOKUP(Einstellungen!$B$10,Feiertage!$E$2:$F$17,2,FALSE),"--")&" "," "&Feiertage!$C$2:$C$120&" ")))>0))>0,J10="F"),0,$I$7)) | H10: =IF(OR(A10="",AND(F10="",J10="")),"",IF(OR(J10="U",J10="K",AND(J10="S",F10="")),0,IF(J10="H",N(F10)-N(G10)/2,N(F10)-N(G10))))
A11: =IF($B$6="","",IF(2<=DAY(EOMONTH($B$6,0)),DATE(YEAR($B$6),MONTH($B$6),2),"")) | B11: =IF(A11="","",A11) | F11: =IF(AND(ISNUMBER(C11),ISNUMBER(D11)),ROUND(MOD(D11-C11,1)*24-N(E11)/60,2),"") | G11: =IF(A11="","",IF(OR(WEEKDAY(A11,2)>$E$7,SUMPRODUCT((Feiertage!$A$2:$A$120=A11)*(((Feiertage!$C$2:$C$120="alle")+ISNUMBER(SEARCH(" "&IFERROR(VLOOKUP(Einstellungen!$B$10,Feiertage!$E$2:$F$17,2,FALSE),"--")&" "," "&Feiertage!$C$2:$C$120&" ")))>0))>0,J11="F"),0,$I$7)) | H11: =IF(OR(A11="",AND(F11="",J11="")),"",IF(OR(J11="U",J11="K",AND(J11="S",F11="")),0,IF(J11="H",N(F11)-N(G11)/2,N(F11)-N(G11))))
A12: =IF($B$6="","",IF(3<=DAY(EOMONTH($B$6,0)),DATE(YEAR($B$6),MONTH($B$6),3),"")) | B12: =IF(A12="","",A12) | F12: =IF(AND(ISNUMBER(C12),ISNUMBER(D12)),ROUND(MOD(D12-C12,1)*24-N(E12)/60,2),"") | G12: =IF(A12="","",IF(OR(WEEKDAY(A12,2)>$E$7,SUMPRODUCT((Feiertage!$A$2:$A$120=A12)*(((Feiertage!$C$2:$C$120="alle")+ISNUMBER(SEARCH(" "&IFERROR(VLOOKUP(Einstellungen!$B$10,Feiertage!$E$2:$F$17,2,FALSE),"--")&" "," "&Feiertage!$C$2:$C$120&" ")))>0))>0,J12="F"),0,$I$7)) | H12: =IF(OR(A12="",AND(F12="",J12="")),"",IF(OR(J12="U",J12="K",AND(J12="S",F12="")),0,IF(J12="H",N(F12)-N(G12)/2,N(F12)-N(G12))))
A13: =IF($B$6="","",IF(4<=DAY(EOMONTH($B$6,0)),DATE(YEAR($B$6),MONTH($B$6),4),"")) | B13: =IF(A13="","",A13) | F13: =IF(AND(ISNUMBER(C13),ISNUMBER(D13)),ROUND(MOD(D13-C13,1)*24-N(E13)/60,2),"") | G13: =IF(A13="","",IF(OR(WEEKDAY(A13,2)>$E$7,SUMPRODUCT((Feiertage!$A$2:$A$120=A13)*(((Feiertage!$C$2:$C$120="alle")+ISNUMBER(SEARCH(" "&IFERROR(VLOOKUP(Einstellungen!$B$10,Feiertage!$E$2:$F$17,2,FALSE),"--")&" "," "&Feiertage!$C$2:$C$120&" ")))>0))>0,J13="F"),0,$I$7)) | H13: =IF(OR(A13="",AND(F13="",J13="")),"",IF(OR(J13="U",J13="K",AND(J13="S",F13="")),0,IF(J13="H",N(F13)-N(G13)/2,N(F13)-N(G13))))
A14: =IF($B$6="","",IF(5<=DAY(EOMONTH($B$6,0)),DATE(YEAR($B$6),MONTH($B$6),5),"")) | B14: =IF(A14="","",A14) | F14: =IF(AND(ISNUMBER(C14),ISNUMBER(D14)),ROUND(MOD(D14-C14,1)*24-N(E14)/60,2),"") | G14: =IF(A14="","",IF(OR(WEEKDAY(A14,2)>$E$7,SUMPRODUCT((Feiertage!$A$2:$A$120=A14)*(((Feiertage!$C$2:$C$120="alle")+ISNUMBER(SEARCH(" "&IFERROR(VLOOKUP(Einstellungen!$B$10,Feiertage!$E$2:$F$17,2,FALSE),"--")&" "," "&Feiertage!$C$2:$C$120&" ")))>0))>0,J14="F"),0,$I$7)) | H14: =IF(OR(A14="",AND(F14="",J14="")),"",IF(OR(J14="U",J14="K",AND(J14="S",F14="")),0,IF(J14="H",N(F14)-N(G14)/2,N(F14)-N(G14))))
A15: =IF($B$6="","",IF(6<=DAY(EOMONTH($B$6,0)),DATE(YEAR($B$6),MONTH($B$6),6),"")) | B15: =IF(A15="","",A15) | F15: =IF(AND(ISNUMBER(C15),ISNUMBER(D15)),ROUND(MOD(D15-C15,1)*24-N(E15)/60,2),"") | G15: =IF(A15="","",IF(OR(WEEKDAY(A15,2)>$E$7,SUMPRODUCT((Feiertage!$A$2:$A$120=A15)*(((Feiertage!$C$2:$C$120="alle")+ISNUMBER(SEARCH(" "&IFERROR(VLOOKUP(Einstellungen!$B$10,Feiertage!$E$2:$F$17,2,FALSE),"--")&" "," "&Feiertage!$C$2:$C$120&" ")))>0))>0,J15="F"),0,$I$7)) | H15: =IF(OR(A15="",AND(F15="",J15="")),"",IF(OR(J15="U",J15="K",AND(J15="S",F15="")),0,IF(J15="H",N(F15)-N(G15)/2,N(F15)-N(G15))))
A16: =IF($B$6="","",IF(7<=DAY(EOMONTH($B$6,0)),DATE(YEAR($B$6),MONTH($B$6),7),"")) | B16: =IF(A16="","",A16) | F16: =IF(AND(ISNUMBER(C16),ISNUMBER(D16)),ROUND(MOD(D16-C16,1)*24-N(E16)/60,2),"") | G16: =IF(A16="","",IF(OR(WEEKDAY(A16,2)>$E$7,SUMPRODUCT((Feiertage!$A$2:$A$120=A16)*(((Feiertage!$C$2:$C$120="alle")+ISNUMBER(SEARCH(" "&IFERROR(VLOOKUP(Einstellungen!$B$10,Feiertage!$E$2:$F$17,2,FALSE),"--")&" "," "&Feiertage!$C$2:$C$120&" ")))>0))>0,J16="F"),0,$I$7)) | H16: =IF(OR(A16="",AND(F16="",J16="")),"",IF(OR(J16="U",J16="K",AND(J16="S",F16="")),0,IF(J16="H",N(F16)-N(G16)/2,N(F16)-N(G16))))
A17: =IF($B$6="","",IF(8<=DAY(EOMONTH($B$6,0)),DATE(YEAR($B$6),MONTH($B$6),8),"")) | B17: =IF(A17="","",A17) | F17: =IF(AND(ISNUMBER(C17),ISNUMBER(D17)),ROUND(MOD(D17-C17,1)*24-N(E17)/60,2),"") | G17: =IF(A17="","",IF(OR(WEEKDAY(A17,2)>$E$7,SUMPRODUCT((Feiertage!$A$2:$A$120=A17)*(((Feiertage!$C$2:$C$120="alle")+ISNUMBER(SEARCH(" "&IFERROR(VLOOKUP(Einstellungen!$B$10,Feiertage!$E$2:$F$17,2,FALSE),"--")&" "," "&Feiertage!$C$2:$C$120&" ")))>0))>0,J17="F"),0,$I$7)) | H17: =IF(OR(A17="",AND(F17="",J17="")),"",IF(OR(J17="U",J17="K",AND(J17="S",F17="")),0,IF(J17="H",N(F17)-N(G17)/2,N(F17)-N(G17))))
A18: =IF($B$6="","",IF(9<=DAY(EOMONTH($B$6,0)),DATE(YEAR($B$6),MONTH($B$6),9),"")) | B18: =IF(A18="","",A18) | F18: =IF(AND(ISNUMBER(C18),ISNUMBER(D18)),ROUND(MOD(D18-C18,1)*24-N(E18)/60,2),"") | G18: =IF(A18="","",IF(OR(WEEKDAY(A18,2)>$E$7,SUMPRODUCT((Feiertage!$A$2:$A$120=A18)*(((Feiertage!$C$2:$C$120="alle")+ISNUMBER(SEARCH(" "&IFERROR(VLOOKUP(Einstellungen!$B$10,Feiertage!$E$2:$F$17,2,FALSE),"--")&" "," "&Feiertage!$C$2:$C$120&" ")))>0))>0,J18="F"),0,$I$7)) | H18: =IF(OR(A18="",AND(F18="",J18="")),"",IF(OR(J18="U",J18="K",AND(J18="S",F18="")),0,IF(J18="H",N(F18)-N(G18)/2,N(F18)-N(G18))))
A19: =IF($B$6="","",IF(10<=DAY(EOMONTH($B$6,0)),DATE(YEAR($B$6),MONTH($B$6),10),"")) | B19: =IF(A19="","",A19) | F19: =IF(AND(ISNUMBER(C19),ISNUMBER(D19)),ROUND(MOD(D19-C19,1)*24-N(E19)/60,2),"") | G19: =IF(A19="","",IF(OR(WEEKDAY(A19,2)>$E$7,SUMPRODUCT((Feiertage!$A$2:$A$120=A19)*(((Feiertage!$C$2:$C$120="alle")+ISNUMBER(SEARCH(" "&IFERROR(VLOOKUP(Einstellungen!$B$10,Feiertage!$E$2:$F$17,2,FALSE),"--")&" "," "&Feiertage!$C$2:$C$120&" ")))>0))>0,J19="F"),0,$I$7)) | H19: =IF(OR(A19="",AND(F19="",J19="")),"",IF(OR(J19="U",J19="K",AND(J19="S",F19="")),0,IF(J19="H",N(F19)-N(G19)/2,N(F19)-N(G19))))
A20: =IF($B$6="","",IF(11<=DAY(EOMONTH($B$6,0)),DATE(YEAR($B$6),MONTH($B$6),11),"")) | B20: =IF(A20="","",A20) | F20: =IF(AND(ISNUMBER(C20),ISNUMBER(D20)),ROUND(MOD(D20-C20,1)*24-N(E20)/60,2),"") | G20: =IF(A20="","",IF(OR(WEEKDAY(A20,2)>$E$7,SUMPRODUCT((Feiertage!$A$2:$A$120=A20)*(((Feiertage!$C$2:$C$120="alle")+ISNUMBER(SEARCH(" "&IFERROR(VLOOKUP(Einstellungen!$B$10,Feiertage!$E$2:$F$17,2,FALSE),"--")&" "," "&Feiertage!$C$2:$C$120&" ")))>0))>0,J20="F"),0,$I$7)) | H20: =IF(OR(A20="",AND(F20="",J20="")),"",IF(OR(J20="U",J20="K",AND(J20="S",F20="")),0,IF(J20="H",N(F20)-N(G20)/2,N(F20)-N(G20))))
A21: =IF($B$6="","",IF(12<=DAY(EOMONTH($B$6,0)),DATE(YEAR($B$6),MONTH($B$6),12),"")) | B21: =IF(A21="","",A21) | F21: =IF(AND(ISNUMBER(C21),ISNUMBER(D21)),ROUND(MOD(D21-C21,1)*24-N(E21)/60,2),"") | G21: =IF(A21="","",IF(OR(WEEKDAY(A21,2)>$E$7,SUMPRODUCT((Feiertage!$A$2:$A$120=A21)*(((Feiertage!$C$2:$C$120="alle")+ISNUMBER(SEARCH(" "&IFERROR(VLOOKUP(Einstellungen!$B$10,Feiertage!$E$2:$F$17,2,FALSE),"--")&" "," "&Feiertage!$C$2:$C$120&" ")))>0))>0,J21="F"),0,$I$7)) | H21: =IF(OR(A21="",AND(F21="",J21="")),"",IF(OR(J21="U",J21="K",AND(J21="S",F21="")),0,IF(J21="H",N(F21)-N(G21)/2,N(F21)-N(G21))))
A22: =IF($B$6="","",IF(13<=DAY(EOMONTH($B$6,0)),DATE(YEAR($B$6),MONTH($B$6),13),"")) | B22: =IF(A22="","",A22) | F22: =IF(AND(ISNUMBER(C22),ISNUMBER(D22)),ROUND(MOD(D22-C22,1)*24-N(E22)/60,2),"") | G22: =IF(A22="","",IF(OR(WEEKDAY(A22,2)>$E$7,SUMPRODUCT((Feiertage!$A$2:$A$120=A22)*(((Feiertage!$C$2:$C$120="alle")+ISNUMBER(SEARCH(" "&IFERROR(VLOOKUP(Einstellungen!$B$10,Feiertage!$E$2:$F$17,2,FALSE),"--")&" "," "&Feiertage!$C$2:$C$120&" ")))>0))>0,J22="F"),0,$I$7)) | H22: =IF(OR(A22="",AND(F22="",J22="")),"",IF(OR(J22="U",J22="K",AND(J22="S",F22="")),0,IF(J22="H",N(F22)-N(G22)/2,N(F22)-N(G22))))
A23: =IF($B$6="","",IF(14<=DAY(EOMONTH($B$6,0)),DATE(YEAR($B$6),MONTH($B$6),14),"")) | B23: =IF(A23="","",A23) | F23: =IF(AND(ISNUMBER(C23),ISNUMBER(D23)),ROUND(MOD(D23-C23,1)*24-N(E23)/60,2),"") | G23: =IF(A23="","",IF(OR(WEEKDAY(A23,2)>$E$7,SUMPRODUCT((Feiertage!$A$2:$A$120=A23)*(((Feiertage!$C$2:$C$120="alle")+ISNUMBER(SEARCH(" "&IFERROR(VLOOKUP(Einstellungen!$B$10,Feiertage!$E$2:$F$17,2,FALSE),"--")&" "," "&Feiertage!$C$2:$C$120&" ")))>0))>0,J23="F"),0,$I$7)) | H23: =IF(OR(A23="",AND(F23="",J23="")),"",IF(OR(J23="U",J23="K",AND(J23="S",F23="")),0,IF(J23="H",N(F23)-N(G23)/2,N(F23)-N(G23))))
A24: =IF($B$6="","",IF(15<=DAY(EOMONTH($B$6,0)),DATE(YEAR($B$6),MONTH($B$6),15),"")) | B24: =IF(A24="","",A24) | F24: =IF(AND(ISNUMBER(C24),ISNUMBER(D24)),ROUND(MOD(D24-C24,1)*24-N(E24)/60,2),"") | G24: =IF(A24="","",IF(OR(WEEKDAY(A24,2)>$E$7,SUMPRODUCT((Feiertage!$A$2:$A$120=A24)*(((Feiertage!$C$2:$C$120="alle")+ISNUMBER(SEARCH(" "&IFERROR(VLOOKUP(Einstellungen!$B$10,Feiertage!$E$2:$F$17,2,FALSE),"--")&" "," "&Feiertage!$C$2:$C$120&" ")))>0))>0,J24="F"),0,$I$7)) | H24: =IF(OR(A24="",AND(F24="",J24="")),"",IF(OR(J24="U",J24="K",AND(J24="S",F24="")),0,IF(J24="H",N(F24)-N(G24)/2,N(F24)-N(G24))))
A25: =IF($B$6="","",IF(16<=DAY(EOMONTH($B$6,0)),DATE(YEAR($B$6),MONTH($B$6),16),"")) | B25: =IF(A25="","",A25) | F25: =IF(AND(ISNUMBER(C25),ISNUMBER(D25)),ROUND(MOD(D25-C25,1)*24-N(E25)/60,2),"") | G25: =IF(A25="","",IF(OR(WEEKDAY(A25,2)>$E$7,SUMPRODUCT((Feiertage!$A$2:$A$120=A25)*(((Feiertage!$C$2:$C$120="alle")+ISNUMBER(SEARCH(" "&IFERROR(VLOOKUP(Einstellungen!$B$10,Feiertage!$E$2:$F$17,2,FALSE),"--")&" "," "&Feiertage!$C$2:$C$120&" ")))>0))>0,J25="F"),0,$I$7)) | H25: =IF(OR(A25="",AND(F25="",J25="")),"",IF(OR(J25="U",J25="K",AND(J25="S",F25="")),0,IF(J25="H",N(F25)-N(G25)/2,N(F25)-N(G25))))
A26: =IF($B$6="","",IF(17<=DAY(EOMONTH($B$6,0)),DATE(YEAR($B$6),MONTH($B$6),17),"")) | B26: =IF(A26="","",A26) | F26: =IF(AND(ISNUMBER(C26),ISNUMBER(D26)),ROUND(MOD(D26-C26,1)*24-N(E26)/60,2),"") | G26: =IF(A26="","",IF(OR(WEEKDAY(A26,2)>$E$7,SUMPRODUCT((Feiertage!$A$2:$A$120=A26)*(((Feiertage!$C$2:$C$120="alle")+ISNUMBER(SEARCH(" "&IFERROR(VLOOKUP(Einstellungen!$B$10,Feiertage!$E$2:$F$17,2,FALSE),"--")&" "," "&Feiertage!$C$2:$C$120&" ")))>0))>0,J26="F"),0,$I$7)) | H26: =IF(OR(A26="",AND(F26="",J26="")),"",IF(OR(J26="U",J26="K",AND(J26="S",F26="")),0,IF(J26="H",N(F26)-N(G26)/2,N(F26)-N(G26))))
A27: =IF($B$6="","",IF(18<=DAY(EOMONTH($B$6,0)),DATE(YEAR($B$6),MONTH($B$6),18),"")) | B27: =IF(A27="","",A27) | F27: =IF(AND(ISNUMBER(C27),ISNUMBER(D27)),ROUND(MOD(D27-C27,1)*24-N(E27)/60,2),"") | G27: =IF(A27="","",IF(OR(WEEKDAY(A27,2)>$E$7,SUMPRODUCT((Feiertage!$A$2:$A$120=A27)*(((Feiertage!$C$2:$C$120="alle")+ISNUMBER(SEARCH(" "&IFERROR(VLOOKUP(Einstellungen!$B$10,Feiertage!$E$2:$F$17,2,FALSE),"--")&" "," "&Feiertage!$C$2:$C$120&" ")))>0))>0,J27="F"),0,$I$7)) | H27: =IF(OR(A27="",AND(F27="",J27="")),"",IF(OR(J27="U",J27="K",AND(J27="S",F27="")),0,IF(J27="H",N(F27)-N(G27)/2,N(F27)-N(G27))))
A28: =IF($B$6="","",IF(19<=DAY(EOMONTH($B$6,0)),DATE(YEAR($B$6),MONTH($B$6),19),"")) | B28: =IF(A28="","",A28) | F28: =IF(AND(ISNUMBER(C28),ISNUMBER(D28)),ROUND(MOD(D28-C28,1)*24-N(E28)/60,2),"") | G28: =IF(A28="","",IF(OR(WEEKDAY(A28,2)>$E$7,SUMPRODUCT((Feiertage!$A$2:$A$120=A28)*(((Feiertage!$C$2:$C$120="alle")+ISNUMBER(SEARCH(" "&IFERROR(VLOOKUP(Einstellungen!$B$10,Feiertage!$E$2:$F$17,2,FALSE),"--")&" "," "&Feiertage!$C$2:$C$120&" ")))>0))>0,J28="F"),0,$I$7)) | H28: =IF(OR(A28="",AND(F28="",J28="")),"",IF(OR(J28="U",J28="K",AND(J28="S",F28="")),0,IF(J28="H",N(F28)-N(G28)/2,N(F28)-N(G28))))
A29: =IF($B$6="","",IF(20<=DAY(EOMONTH($B$6,0)),DATE(YEAR($B$6),MONTH($B$6),20),"")) | B29: =IF(A29="","",A29) | F29: =IF(AND(ISNUMBER(C29),ISNUMBER(D29)),ROUND(MOD(D29-C29,1)*24-N(E29)/60,2),"") | G29: =IF(A29="","",IF(OR(WEEKDAY(A29,2)>$E$7,SUMPRODUCT((Feiertage!$A$2:$A$120=A29)*(((Feiertage!$C$2:$C$120="alle")+ISNUMBER(SEARCH(" "&IFERROR(VLOOKUP(Einstellungen!$B$10,Feiertage!$E$2:$F$17,2,FALSE),"--")&" "," "&Feiertage!$C$2:$C$120&" ")))>0))>0,J29="F"),0,$I$7)) | H29: =IF(OR(A29="",AND(F29="",J29="")),"",IF(OR(J29="U",J29="K",AND(J29="S",F29="")),0,IF(J29="H",N(F29)-N(G29)/2,N(F29)-N(G29))))
A30: =IF($B$6="","",IF(21<=DAY(EOMONTH($B$6,0)),DATE(YEAR($B$6),MONTH($B$6),21),"")) | B30: =IF(A30="","",A30) | F30: =IF(AND(ISNUMBER(C30),ISNUMBER(D30)),ROUND(MOD(D30-C30,1)*24-N(E30)/60,2),"") | G30: =IF(A30="","",IF(OR(WEEKDAY(A30,2)>$E$7,SUMPRODUCT((Feiertage!$A$2:$A$120=A30)*(((Feiertage!$C$2:$C$120="alle")+ISNUMBER(SEARCH(" "&IFERROR(VLOOKUP(Einstellungen!$B$10,Feiertage!$E$2:$F$17,2,FALSE),"--")&" "," "&Feiertage!$C$2:$C$120&" ")))>0))>0,J30="F"),0,$I$7)) | H30: =IF(OR(A30="",AND(F30="",J30="")),"",IF(OR(J30="U",J30="K",AND(J30="S",F30="")),0,IF(J30="H",N(F30)-N(G30)/2,N(F30)-N(G30))))
A31: =IF($B$6="","",IF(22<=DAY(EOMONTH($B$6,0)),DATE(YEAR($B$6),MONTH($B$6),22),"")) | B31: =IF(A31="","",A31) | F31: =IF(AND(ISNUMBER(C31),ISNUMBER(D31)),ROUND(MOD(D31-C31,1)*24-N(E31)/60,2),"") | G31: =IF(A31="","",IF(OR(WEEKDAY(A31,2)>$E$7,SUMPRODUCT((Feiertage!$A$2:$A$120=A31)*(((Feiertage!$C$2:$C$120="alle")+ISNUMBER(SEARCH(" "&IFERROR(VLOOKUP(Einstellungen!$B$10,Feiertage!$E$2:$F$17,2,FALSE),"--")&" "," "&Feiertage!$C$2:$C$120&" ")))>0))>0,J31="F"),0,$I$7)) | H31: =IF(OR(A31="",AND(F31="",J31="")),"",IF(OR(J31="U",J31="K",AND(J31="S",F31="")),0,IF(J31="H",N(F31)-N(G31)/2,N(F31)-N(G31))))
